BEGIN:VCALENDAR
VERSION:2.0
PRODID:-//Seniorocity - Seniors / Over 55&#039;s Guide to Perth - ECPv6.15.11//NONSGML v1.0//EN
CALSCALE:GREGORIAN
METHOD:PUBLISH
X-WR-CALNAME:Seniorocity - Seniors / Over 55&#039;s Guide to Perth
X-ORIGINAL-URL:https://seniorocity.com.au
X-WR-CALDESC:Events for Seniorocity - Seniors / Over 55&#039;s Guide to Perth
REFRESH-INTERVAL;VALUE=DURATION:PT1H
X-Robots-Tag:noindex
X-PUBLISHED-TTL:PT1H
BEGIN:VTIMEZONE
TZID:Australia/Perth
BEGIN:STANDARD
TZOFFSETFROM:+0800
TZOFFSETTO:+0800
TZNAME:AWST
DTSTART:20250101T000000
END:STANDARD
END:VTIMEZONE
BEGIN:VEVENT
DTSTART;TZID=Australia/Perth:20260521T180000
DTEND;TZID=Australia/Perth:20260521T190000
DTSTAMP:20260421T182433
CREATED:20260102T075734Z
LAST-MODIFIED:20260102T081022Z
UID:10858059-1779386400-1779390000@seniorocity.com.au
SUMMARY:Peer Support Group for people affected by Heart Disease
DESCRIPTION:A safe space to connect with others who understand the challenges of living with a heart condition\, and  facing or recovering from surgery
URL:https://seniorocity.com.au/whats-on-perth/peer-support-group-for-people-affected-by-heart-disease-4/
LOCATION:Dôme Café – Manning\, 144 Manning Road\, Karawara\, WA\, 6152\, Australia
CATEGORIES:Health
ATTACH;FMTTYPE=image/jpeg:https://seniorocity.com.au/wp-content/uploads/2026/01/4b2a224f4389efa17eb308653b7c74df.jpg
END:VEVENT
BEGIN:VEVENT
DTSTART;TZID=Australia/Perth:20260618T180000
DTEND;TZID=Australia/Perth:20260618T190000
DTSTAMP:20260421T182433
CREATED:20260102T075735Z
LAST-MODIFIED:20260102T081024Z
UID:10858060-1781805600-1781809200@seniorocity.com.au
SUMMARY:Peer Support Group for people affected by Heart Disease
DESCRIPTION:A safe space to connect with others who understand the challenges of living with a heart condition\, and  facing or recovering from surgery
URL:https://seniorocity.com.au/whats-on-perth/peer-support-group-for-people-affected-by-heart-disease-5/
LOCATION:Dôme Café – Manning\, 144 Manning Road\, Karawara\, WA\, 6152\, Australia
CATEGORIES:Health
ATTACH;FMTTYPE=image/jpeg:https://seniorocity.com.au/wp-content/uploads/2026/01/4b2a224f4389efa17eb308653b7c74df.jpg
END:VEVENT
BEGIN:VEVENT
DTSTART;TZID=Australia/Perth:20260716T180000
DTEND;TZID=Australia/Perth:20260716T190000
DTSTAMP:20260421T182433
CREATED:20260102T075736Z
LAST-MODIFIED:20260102T081027Z
UID:10858061-1784224800-1784228400@seniorocity.com.au
SUMMARY:Peer Support Group for people affected by Heart Disease
DESCRIPTION:A safe space to connect with others who understand the challenges of living with a heart condition\, and  facing or recovering from surgery
URL:https://seniorocity.com.au/whats-on-perth/peer-support-group-for-people-affected-by-heart-disease-6/
LOCATION:Dôme Café – Manning\, 144 Manning Road\, Karawara\, WA\, 6152\, Australia
CATEGORIES:Health
ATTACH;FMTTYPE=image/jpeg:https://seniorocity.com.au/wp-content/uploads/2026/01/4b2a224f4389efa17eb308653b7c74df.jpg
END:VEVENT
BEGIN:VEVENT
DTSTART;TZID=Australia/Perth:20260820T180000
DTEND;TZID=Australia/Perth:20260820T190000
DTSTAMP:20260421T182433
CREATED:20260102T075737Z
LAST-MODIFIED:20260102T081029Z
UID:10858062-1787248800-1787252400@seniorocity.com.au
SUMMARY:Peer Support Group for people affected by Heart Disease
DESCRIPTION:A safe space to connect with others who understand the challenges of living with a heart condition\, and  facing or recovering from surgery
URL:https://seniorocity.com.au/whats-on-perth/peer-support-group-for-people-affected-by-heart-disease-7/
LOCATION:Dôme Café – Manning\, 144 Manning Road\, Karawara\, WA\, 6152\, Australia
CATEGORIES:Health
ATTACH;FMTTYPE=image/jpeg:https://seniorocity.com.au/wp-content/uploads/2026/01/4b2a224f4389efa17eb308653b7c74df.jpg
END:VEVENT
BEGIN:VEVENT
DTSTART;TZID=Australia/Perth:20260917T180000
DTEND;TZID=Australia/Perth:20260917T190000
DTSTAMP:20260421T182433
CREATED:20260102T075738Z
LAST-MODIFIED:20260102T081032Z
UID:10858063-1789668000-1789671600@seniorocity.com.au
SUMMARY:Peer Support Group for people affected by Heart Disease
DESCRIPTION:A safe space to connect with others who understand the challenges of living with a heart condition\, and  facing or recovering from surgery
URL:https://seniorocity.com.au/whats-on-perth/peer-support-group-for-people-affected-by-heart-disease-8/
LOCATION:Dôme Café – Manning\, 144 Manning Road\, Karawara\, WA\, 6152\, Australia
CATEGORIES:Health
ATTACH;FMTTYPE=image/jpeg:https://seniorocity.com.au/wp-content/uploads/2026/01/4b2a224f4389efa17eb308653b7c74df.jpg
END:VEVENT
BEGIN:VEVENT
DTSTART;TZID=Australia/Perth:20261015T180000
DTEND;TZID=Australia/Perth:20261015T190000
DTSTAMP:20260421T182433
CREATED:20260102T075739Z
LAST-MODIFIED:20260102T081034Z
UID:10858064-1792087200-1792090800@seniorocity.com.au
SUMMARY:Peer Support Group for people affected by Heart Disease
DESCRIPTION:A safe space to connect with others who understand the challenges of living with a heart condition\, and  facing or recovering from surgery
URL:https://seniorocity.com.au/whats-on-perth/peer-support-group-for-people-affected-by-heart-disease-9/
LOCATION:Dôme Café – Manning\, 144 Manning Road\, Karawara\, WA\, 6152\, Australia
CATEGORIES:Health
ATTACH;FMTTYPE=image/jpeg:https://seniorocity.com.au/wp-content/uploads/2026/01/4b2a224f4389efa17eb308653b7c74df.jpg
END:VEVENT
BEGIN:VEVENT
DTSTART;TZID=Australia/Perth:20261119T180000
DTEND;TZID=Australia/Perth:20261119T190000
DTSTAMP:20260421T182433
CREATED:20260102T075739Z
LAST-MODIFIED:20260102T081037Z
UID:10858065-1795111200-1795114800@seniorocity.com.au
SUMMARY:Peer Support Group for people affected by Heart Disease
DESCRIPTION:A safe space to connect with others who understand the challenges of living with a heart condition\, and  facing or recovering from surgery
URL:https://seniorocity.com.au/whats-on-perth/peer-support-group-for-people-affected-by-heart-disease-10/
LOCATION:Dôme Café – Manning\, 144 Manning Road\, Karawara\, WA\, 6152\, Australia
CATEGORIES:Health
ATTACH;FMTTYPE=image/jpeg:https://seniorocity.com.au/wp-content/uploads/2026/01/4b2a224f4389efa17eb308653b7c74df.jpg
END:VEVENT
END:VCALENDAR