BEGIN:VCALENDAR
VERSION:2.0
PRODID:-//Seniorocity - Seniors / Over 55&#039;s Guide to Perth - ECPv6.15.11//NONSGML v1.0//EN
CALSCALE:GREGORIAN
METHOD:PUBLISH
X-WR-CALNAME:Seniorocity - Seniors / Over 55&#039;s Guide to Perth
X-ORIGINAL-URL:https://seniorocity.com.au
X-WR-CALDESC:Events for Seniorocity - Seniors / Over 55&#039;s Guide to Perth
REFRESH-INTERVAL;VALUE=DURATION:PT1H
X-Robots-Tag:noindex
X-PUBLISHED-TTL:PT1H
BEGIN:VTIMEZONE
TZID:Australia/Perth
BEGIN:STANDARD
TZOFFSETFROM:+0800
TZOFFSETTO:+0800
TZNAME:AWST
DTSTART:20250101T000000
END:STANDARD
END:VTIMEZONE
BEGIN:VEVENT
DTSTART;TZID=Australia/Perth:20260425T100000
DTEND;TZID=Australia/Perth:20260425T120000
DTSTAMP:20260422T035339
CREATED:20260204T143251Z
LAST-MODIFIED:20260204T143435Z
UID:10863001-1777111200-1777118400@seniorocity.com.au
SUMMARY:Meditation and Inner Wellbeing @ Dordaak Kepup Library
DESCRIPTION:Enjoy a calming guided meditation session and class focused on developing your inner wellbeing.
URL:https://seniorocity.com.au/whats-on-perth/meditation-and-inner-wellbeing-dordaak-kepup-library-12/
LOCATION:Dordaak Kepup – Library and Youth Innovation Hub\, 15 The Broadview\, Landsdale\, WA\, 6065\, Australia
CATEGORIES:Health
ATTACH;FMTTYPE=image/jpeg:https://seniorocity.com.au/wp-content/uploads/2026/02/7da9656409d210d9c863746c44cab656.jpg
END:VEVENT
BEGIN:VEVENT
DTSTART;TZID=Australia/Perth:20260429T100000
DTEND;TZID=Australia/Perth:20260429T120000
DTSTAMP:20260422T035339
CREATED:20260404T142619Z
LAST-MODIFIED:20260404T142619Z
UID:10865340-1777456800-1777464000@seniorocity.com.au
SUMMARY:Deal Me In! Card Game Mornings @ Dordaak Kepup Library
DESCRIPTION:Step into lively mornings of cards\, connection and a little friendly competition!
URL:https://seniorocity.com.au/whats-on-perth/deal-me-in-card-game-mornings-dordaak-kepup-library/
LOCATION:Dordaak Kepup – Library and Youth Innovation Hub\, 15 The Broadview\, Landsdale\, WA\, 6065\, Australia
CATEGORIES:Games
ATTACH;FMTTYPE=image/jpeg:https://seniorocity.com.au/wp-content/uploads/2026/04/d9871fee6ce9aa67a914b6322ed6c62a.jpg
END:VEVENT
BEGIN:VEVENT
DTSTART;TZID=Australia/Perth:20260502T100000
DTEND;TZID=Australia/Perth:20260502T120000
DTSTAMP:20260422T035339
CREATED:20260204T143251Z
LAST-MODIFIED:20260204T143446Z
UID:10863002-1777716000-1777723200@seniorocity.com.au
SUMMARY:Meditation and Inner Wellbeing @ Dordaak Kepup Library
DESCRIPTION:Enjoy a calming guided meditation session and class focused on developing your inner wellbeing.
URL:https://seniorocity.com.au/whats-on-perth/meditation-and-inner-wellbeing-dordaak-kepup-library-13/
LOCATION:Dordaak Kepup – Library and Youth Innovation Hub\, 15 The Broadview\, Landsdale\, WA\, 6065\, Australia
CATEGORIES:Health
ATTACH;FMTTYPE=image/jpeg:https://seniorocity.com.au/wp-content/uploads/2026/02/7da9656409d210d9c863746c44cab656.jpg
END:VEVENT
BEGIN:VEVENT
DTSTART;TZID=Australia/Perth:20260509T100000
DTEND;TZID=Australia/Perth:20260509T120000
DTSTAMP:20260422T035339
CREATED:20260204T143252Z
LAST-MODIFIED:20260204T143455Z
UID:10863003-1778320800-1778328000@seniorocity.com.au
SUMMARY:Meditation and Inner Wellbeing @ Dordaak Kepup Library
DESCRIPTION:Enjoy a calming guided meditation session and class focused on developing your inner wellbeing.
URL:https://seniorocity.com.au/whats-on-perth/meditation-and-inner-wellbeing-dordaak-kepup-library-14/
LOCATION:Dordaak Kepup – Library and Youth Innovation Hub\, 15 The Broadview\, Landsdale\, WA\, 6065\, Australia
CATEGORIES:Health
ATTACH;FMTTYPE=image/jpeg:https://seniorocity.com.au/wp-content/uploads/2026/02/7da9656409d210d9c863746c44cab656.jpg
END:VEVENT
BEGIN:VEVENT
DTSTART;TZID=Australia/Perth:20260509T133000
DTEND;TZID=Australia/Perth:20260509T150000
DTSTAMP:20260422T035339
CREATED:20260404T142522Z
LAST-MODIFIED:20260404T142522Z
UID:10865339-1778333400-1778338800@seniorocity.com.au
SUMMARY:Check in for Stories - The Hobart Hotel Book Launch @ Dordaak Kepup
DESCRIPTION:Join us for a fascinating book launch party where stories from historic Tasmania flow  & Mary-Lou Stephens gives insights into writing.\n\n\nCelebrate the launch of the enchanting new historical novel\, The Hobart Hotel. \nJoin bestselling author Mary-Lou Stephens as she shares the inspiration behind her new historical novel The Hobart Hotel. Discover the stories\, research\, and rich Tasmanian history that shaped her latest work in this warm and engaging author talk. Perfect for lovers of Australian fiction and compelling storytelling. \nAbout Mary-Lou \nMary‑Lou Stephens is a Tasmanian‑born author celebrated for her richly researched historical fiction. Before turning to writing\, she worked as a musician and later as a radio presenter and music director with both commercial stations and the ABC. Her memoir Sex\, Drugs and Meditation earned strong reviews\, and her bestselling novels—including The Last of the Apple Blossom\, The Chocolate Factory\, The Jam Maker\, and her latest release The Hobart Hotel—draw deeply on Tasmania’s history and landscape. Mary‑Lou now travels the world with her husband\, writing stories inspired by place\, resilience\, and the past. \nTarget audience: Adults \nFREE: bookings essential \nDelicious Light Refreshments Served \nPlease cancel your tickets or advise one of our team if your plans change and you are unable to attend this event. \nDiscover other Library Activities
URL:https://seniorocity.com.au/whats-on-perth/check-in-for-stories-the-hobart-hotel-book-launch-dordaak-kepup/
LOCATION:Dordaak Kepup – Library and Youth Innovation Hub\, 15 The Broadview\, Landsdale\, WA\, 6065\, Australia
CATEGORIES:Library Events
ATTACH;FMTTYPE=image/jpeg:https://seniorocity.com.au/wp-content/uploads/2026/04/6b2b61cd678f936962f65ad0c67f566d.jpg
END:VEVENT
BEGIN:VEVENT
DTSTART;TZID=Australia/Perth:20260513T100000
DTEND;TZID=Australia/Perth:20260513T120000
DTSTAMP:20260422T035339
CREATED:20260404T142624Z
LAST-MODIFIED:20260404T142624Z
UID:10865341-1778666400-1778673600@seniorocity.com.au
SUMMARY:Deal Me In! Card Game Mornings @ Dordaak Kepup Library
DESCRIPTION:Step into lively mornings of cards\, connection and a little friendly competition!
URL:https://seniorocity.com.au/whats-on-perth/deal-me-in-card-game-mornings-dordaak-kepup-library-2/
LOCATION:Dordaak Kepup – Library and Youth Innovation Hub\, 15 The Broadview\, Landsdale\, WA\, 6065\, Australia
CATEGORIES:Games
ATTACH;FMTTYPE=image/jpeg:https://seniorocity.com.au/wp-content/uploads/2026/04/d9871fee6ce9aa67a914b6322ed6c62a.jpg
END:VEVENT
BEGIN:VEVENT
DTSTART;TZID=Australia/Perth:20260515T133000
DTEND;TZID=Australia/Perth:20260515T143000
DTSTAMP:20260422T035339
CREATED:20260401T135936Z
LAST-MODIFIED:20260401T135936Z
UID:10865159-1778851800-1778855400@seniorocity.com.au
SUMMARY:The Story of Galup @ Dordaak Kepup
DESCRIPTION:Learn the fascinating story behind the effort to change the name of Lake Monger to Galup and recognise this place of cultural significance.\n\n\nJoin Elder Lois May as she shares the remarkable yarn behind restoring the traditional name Galup to the place widely known as Lake Monger. \nElder Lois will speak about the cultural meaning held in the name Galup\, the history it reflects\, and why reclaiming traditional place names is such an important milestone for Aboriginal people. \nThis session offers a special opportunity to listen\, learn\, and deepen understanding of Country\, culture\, and identity through the wisdom of a respected Elder. \nTarget audience: Family \nFREE: bookings essential \nPlease cancel your tickets or advise one of our team if your plans change and you are unable to attend this event. \nAn Australian Heritage Festival event. \nDiscover other Heritage Festival activities at hmawanneroo.eventbrite.com
URL:https://seniorocity.com.au/whats-on-perth/the-story-of-galup-dordaak-kepup/
LOCATION:Dordaak Kepup – Library and Youth Innovation Hub\, 15 The Broadview\, Landsdale\, WA\, 6065\, Australia
CATEGORIES:Family Event
ATTACH;FMTTYPE=image/jpeg:https://seniorocity.com.au/wp-content/uploads/2026/04/a7a5832d78845f8c1a72203d58ab6f5b.jpg
END:VEVENT
BEGIN:VEVENT
DTSTART;TZID=Australia/Perth:20260516T100000
DTEND;TZID=Australia/Perth:20260516T120000
DTSTAMP:20260422T035339
CREATED:20260204T143253Z
LAST-MODIFIED:20260204T143509Z
UID:10863004-1778925600-1778932800@seniorocity.com.au
SUMMARY:Meditation and Inner Wellbeing @ Dordaak Kepup Library
DESCRIPTION:Enjoy a calming guided meditation session and class focused on developing your inner wellbeing.
URL:https://seniorocity.com.au/whats-on-perth/meditation-and-inner-wellbeing-dordaak-kepup-library-15/
LOCATION:Dordaak Kepup – Library and Youth Innovation Hub\, 15 The Broadview\, Landsdale\, WA\, 6065\, Australia
CATEGORIES:Health
ATTACH;FMTTYPE=image/jpeg:https://seniorocity.com.au/wp-content/uploads/2026/02/7da9656409d210d9c863746c44cab656.jpg
END:VEVENT
BEGIN:VEVENT
DTSTART;TZID=Australia/Perth:20260516T140000
DTEND;TZID=Australia/Perth:20260516T153000
DTSTAMP:20260422T035339
CREATED:20260401T144829Z
LAST-MODIFIED:20260418T125601Z
UID:10865174-1778940000-1778945400@seniorocity.com.au
SUMMARY:Orient Line: Australia's Link @ Dordaak Kepup Library
DESCRIPTION:Celebrating the Australian Heritage Festival.\n\n\nFor over a century\, the Orient Line was more than just a shipping company; it was a lifeline between the United Kingdom and Australia. From the early days of the mail contract to the arrival of the iconic post-war liners\, the Orient Line defined the standards of travel on the long run “Down Under.” \nJoin Chris Frame to explore the evolution of the fleet—from the sturdy pioneers of the late 19th century to mid-century masterpieces like Orcades\, Oronsay\, and the revolutionary Oriana. \nWe will examine how the company transitioned from transporting tons of mail and frozen cargo to becoming a leader in luxury cruising. Join us as we look back at the sleek corn-coloured hulls that were once a familiar sight in Australian ports and discover how the Orient Line helped bridge the gap between two sides of the world. \nChris Frame Bio \nChris Frame is an Australian maritime historian\, author\, and lecturer known for his accessible storytelling about ocean liners and passenger‑ship history. His passion began in childhood and grew during his first voyage on QE2\, inspiring him to co‑author QE2: A Photographic Journey in 2008. He has since written over a dozen maritime history books\, appeared as an expert on BBC\, CNN\, Channel 5\, and ABC Radio\, and is a regular speaker on cruise ships\, in museums\, and at public events. Chris also runs a popular YouTube channel and co‑hosts a cruise‑industry podcast with Rachelle Cross. \nTarget audience: Adults \nFREE: bookings essential \nPlease cancel your tickets or advise one of our team if your plans change and you are unable to attend this event. \nDiscover other Heritage Festival activities at hmawanneroo.eventbrite.com
URL:https://seniorocity.com.au/whats-on-perth/orient-line-australias-link-dordaak-kepup-library/
LOCATION:Dordaak Kepup – Library and Youth Innovation Hub\, 15 The Broadview\, Landsdale\, WA\, 6065\, Australia
CATEGORIES:History
ATTACH;FMTTYPE=image/jpeg:https://seniorocity.com.au/wp-content/uploads/2026/04/64174cf6e287b5acfb3baab874448f75.jpg
END:VEVENT
BEGIN:VEVENT
DTSTART;TZID=Australia/Perth:20260523T100000
DTEND;TZID=Australia/Perth:20260523T120000
DTSTAMP:20260422T035339
CREATED:20260204T143255Z
LAST-MODIFIED:20260204T143520Z
UID:10863005-1779530400-1779537600@seniorocity.com.au
SUMMARY:Meditation and Inner Wellbeing @ Dordaak Kepup Library
DESCRIPTION:Enjoy a calming guided meditation session and class focused on developing your inner wellbeing.
URL:https://seniorocity.com.au/whats-on-perth/meditation-and-inner-wellbeing-dordaak-kepup-library-16/
LOCATION:Dordaak Kepup – Library and Youth Innovation Hub\, 15 The Broadview\, Landsdale\, WA\, 6065\, Australia
CATEGORIES:Health
ATTACH;FMTTYPE=image/jpeg:https://seniorocity.com.au/wp-content/uploads/2026/02/7da9656409d210d9c863746c44cab656.jpg
END:VEVENT
BEGIN:VEVENT
DTSTART;TZID=Australia/Perth:20260527T100000
DTEND;TZID=Australia/Perth:20260527T120000
DTSTAMP:20260422T035339
CREATED:20260404T142625Z
LAST-MODIFIED:20260404T142625Z
UID:10865342-1779876000-1779883200@seniorocity.com.au
SUMMARY:Deal Me In! Card Game Mornings @ Dordaak Kepup Library
DESCRIPTION:Step into lively mornings of cards\, connection and a little friendly competition!
URL:https://seniorocity.com.au/whats-on-perth/deal-me-in-card-game-mornings-dordaak-kepup-library-3/
LOCATION:Dordaak Kepup – Library and Youth Innovation Hub\, 15 The Broadview\, Landsdale\, WA\, 6065\, Australia
CATEGORIES:Games
ATTACH;FMTTYPE=image/jpeg:https://seniorocity.com.au/wp-content/uploads/2026/04/d9871fee6ce9aa67a914b6322ed6c62a.jpg
END:VEVENT
BEGIN:VEVENT
DTSTART;TZID=Australia/Perth:20260530T100000
DTEND;TZID=Australia/Perth:20260530T120000
DTSTAMP:20260422T035339
CREATED:20260204T143256Z
LAST-MODIFIED:20260204T143531Z
UID:10863006-1780135200-1780142400@seniorocity.com.au
SUMMARY:Meditation and Inner Wellbeing @ Dordaak Kepup Library
DESCRIPTION:Enjoy a calming guided meditation session and class focused on developing your inner wellbeing.
URL:https://seniorocity.com.au/whats-on-perth/meditation-and-inner-wellbeing-dordaak-kepup-library-17/
LOCATION:Dordaak Kepup – Library and Youth Innovation Hub\, 15 The Broadview\, Landsdale\, WA\, 6065\, Australia
CATEGORIES:Health
ATTACH;FMTTYPE=image/jpeg:https://seniorocity.com.au/wp-content/uploads/2026/02/7da9656409d210d9c863746c44cab656.jpg
END:VEVENT
BEGIN:VEVENT
DTSTART;TZID=Australia/Perth:20260606T100000
DTEND;TZID=Australia/Perth:20260606T120000
DTSTAMP:20260422T035339
CREATED:20260204T143256Z
LAST-MODIFIED:20260204T143541Z
UID:10863007-1780740000-1780747200@seniorocity.com.au
SUMMARY:Meditation and Inner Wellbeing @ Dordaak Kepup Library
DESCRIPTION:Enjoy a calming guided meditation session and class focused on developing your inner wellbeing.
URL:https://seniorocity.com.au/whats-on-perth/meditation-and-inner-wellbeing-dordaak-kepup-library-18/
LOCATION:Dordaak Kepup – Library and Youth Innovation Hub\, 15 The Broadview\, Landsdale\, WA\, 6065\, Australia
CATEGORIES:Health
ATTACH;FMTTYPE=image/jpeg:https://seniorocity.com.au/wp-content/uploads/2026/02/7da9656409d210d9c863746c44cab656.jpg
END:VEVENT
BEGIN:VEVENT
DTSTART;TZID=Australia/Perth:20260613T100000
DTEND;TZID=Australia/Perth:20260613T120000
DTSTAMP:20260422T035339
CREATED:20260204T143257Z
LAST-MODIFIED:20260204T143549Z
UID:10863008-1781344800-1781352000@seniorocity.com.au
SUMMARY:Meditation and Inner Wellbeing @ Dordaak Kepup Library
DESCRIPTION:Enjoy a calming guided meditation session and class focused on developing your inner wellbeing.
URL:https://seniorocity.com.au/whats-on-perth/meditation-and-inner-wellbeing-dordaak-kepup-library-19/
LOCATION:Dordaak Kepup – Library and Youth Innovation Hub\, 15 The Broadview\, Landsdale\, WA\, 6065\, Australia
CATEGORIES:Health
ATTACH;FMTTYPE=image/jpeg:https://seniorocity.com.au/wp-content/uploads/2026/02/7da9656409d210d9c863746c44cab656.jpg
END:VEVENT
BEGIN:VEVENT
DTSTART;TZID=Australia/Perth:20260620T100000
DTEND;TZID=Australia/Perth:20260620T120000
DTSTAMP:20260422T035339
CREATED:20260204T143258Z
LAST-MODIFIED:20260204T143600Z
UID:10863009-1781949600-1781956800@seniorocity.com.au
SUMMARY:Meditation and Inner Wellbeing @ Dordaak Kepup Library
DESCRIPTION:Enjoy a calming guided meditation session and class focused on developing your inner wellbeing.
URL:https://seniorocity.com.au/whats-on-perth/meditation-and-inner-wellbeing-dordaak-kepup-library-20/
LOCATION:Dordaak Kepup – Library and Youth Innovation Hub\, 15 The Broadview\, Landsdale\, WA\, 6065\, Australia
CATEGORIES:Health
ATTACH;FMTTYPE=image/jpeg:https://seniorocity.com.au/wp-content/uploads/2026/02/7da9656409d210d9c863746c44cab656.jpg
END:VEVENT
BEGIN:VEVENT
DTSTART;TZID=Australia/Perth:20260627T100000
DTEND;TZID=Australia/Perth:20260627T120000
DTSTAMP:20260422T035339
CREATED:20260204T143327Z
LAST-MODIFIED:20260204T143612Z
UID:10863010-1782554400-1782561600@seniorocity.com.au
SUMMARY:Meditation and Inner Wellbeing @ Dordaak Kepup Library
DESCRIPTION:Enjoy a calming guided meditation session and class focused on developing your inner wellbeing.
URL:https://seniorocity.com.au/whats-on-perth/meditation-and-inner-wellbeing-dordaak-kepup-library-21/
LOCATION:Dordaak Kepup – Library and Youth Innovation Hub\, 15 The Broadview\, Landsdale\, WA\, 6065\, Australia
CATEGORIES:Health
ATTACH;FMTTYPE=image/jpeg:https://seniorocity.com.au/wp-content/uploads/2026/02/7da9656409d210d9c863746c44cab656.jpg
END:VEVENT
BEGIN:VEVENT
DTSTART;TZID=Australia/Perth:20260704T100000
DTEND;TZID=Australia/Perth:20260704T120000
DTSTAMP:20260422T035339
CREATED:20260204T143327Z
LAST-MODIFIED:20260204T143625Z
UID:10863011-1783159200-1783166400@seniorocity.com.au
SUMMARY:Meditation and Inner Wellbeing @ Dordaak Kepup Library
DESCRIPTION:Enjoy a calming guided meditation session and class focused on developing your inner wellbeing.
URL:https://seniorocity.com.au/whats-on-perth/meditation-and-inner-wellbeing-dordaak-kepup-library-22/
LOCATION:Dordaak Kepup – Library and Youth Innovation Hub\, 15 The Broadview\, Landsdale\, WA\, 6065\, Australia
CATEGORIES:Health
ATTACH;FMTTYPE=image/jpeg:https://seniorocity.com.au/wp-content/uploads/2026/02/7da9656409d210d9c863746c44cab656.jpg
END:VEVENT
END:VCALENDAR