BEGIN:VCALENDAR
VERSION:2.0
PRODID:-//Seniorocity - Seniors / Over 55&#039;s Guide to Perth - ECPv6.15.11//NONSGML v1.0//EN
CALSCALE:GREGORIAN
METHOD:PUBLISH
X-WR-CALNAME:Seniorocity - Seniors / Over 55&#039;s Guide to Perth
X-ORIGINAL-URL:https://seniorocity.com.au
X-WR-CALDESC:Events for Seniorocity - Seniors / Over 55&#039;s Guide to Perth
REFRESH-INTERVAL;VALUE=DURATION:PT1H
X-Robots-Tag:noindex
X-PUBLISHED-TTL:PT1H
BEGIN:VTIMEZONE
TZID:Australia/Perth
BEGIN:STANDARD
TZOFFSETFROM:+0800
TZOFFSETTO:+0800
TZNAME:AWST
DTSTART:20250101T000000
END:STANDARD
END:VTIMEZONE
BEGIN:VEVENT
DTSTART;TZID=Australia/Perth:20260414T090000
DTEND;TZID=Australia/Perth:20260414T100000
DTSTAMP:20260421T173826
CREATED:20260316T144007Z
LAST-MODIFIED:20260316T144007Z
UID:10864435-1776157200-1776160800@seniorocity.com.au
SUMMARY:Living actively: Free yoga
DESCRIPTION:You’re invited to join us for a free local yoga session. \nCome down and enjoy one hour of free flowing fun\, where you can meet other locals and enjoy the outdoors. \nHosted by Suzanne Garcia from Sunflow Yoga\, all levels are welcome! Please register via the link \nTuesday 14 April\nTime: 9.00am – 10.00am\nLocation: Dryandra Pendula Reserve\, Mirrabooka\nNote: BYO yoga mat \nTo learn more about this event and the City’s Living Actively programs\, visit: www.stirling.wa.gov.au/livinglocally
URL:https://seniorocity.com.au/whats-on-perth/living-actively-free-yoga-2/
LOCATION:Dryandra Pendula Reserve\, 1 Pendula Gardens\, Mirrabooka\, WA\, 6061\, Australia
CATEGORIES:Free,Health
ATTACH;FMTTYPE=image/png:https://seniorocity.com.au/wp-content/uploads/2026/03/Living-actively-Free-yoga.png
END:VEVENT
END:VCALENDAR