BEGIN:VCALENDAR
VERSION:2.0
PRODID:-//Seniorocity - Seniors / Over 55&#039;s Guide to Perth - ECPv6.15.11//NONSGML v1.0//EN
CALSCALE:GREGORIAN
METHOD:PUBLISH
X-WR-CALNAME:Seniorocity - Seniors / Over 55&#039;s Guide to Perth
X-ORIGINAL-URL:https://seniorocity.com.au
X-WR-CALDESC:Events for Seniorocity - Seniors / Over 55&#039;s Guide to Perth
REFRESH-INTERVAL;VALUE=DURATION:PT1H
X-Robots-Tag:noindex
X-PUBLISHED-TTL:PT1H
BEGIN:VTIMEZONE
TZID:Australia/Perth
BEGIN:STANDARD
TZOFFSETFROM:+0800
TZOFFSETTO:+0800
TZNAME:AWST
DTSTART:20250101T000000
END:STANDARD
END:VTIMEZONE
BEGIN:VEVENT
DTSTART;TZID=Australia/Perth:20260422T140000
DTEND;TZID=Australia/Perth:20260422T160000
DTSTAMP:20260420T232821
CREATED:20260121T134844Z
LAST-MODIFIED:20260121T134844Z
UID:10862539-1776866400-1776873600@seniorocity.com.au
SUMMARY:Knitting group - Duncraig Library
DESCRIPTION:Join our friendly knitters and work on your own creations\, knit something for charity or participate in a community project. \nNo cost. No need to book.
URL:https://seniorocity.com.au/whats-on-perth/knitting-group-duncraig-library/2026-04-22/
LOCATION:Duncraig Library\, Cnr Warwick Road and Marmion Avenue\, Duncraig\, WA\, Australia
CATEGORIES:Free,Knitting,Library Events
ATTACH;FMTTYPE=image/jpeg:https://seniorocity.com.au/wp-content/uploads/2026/01/Knitting-group-Duncraig-Library-scaled.jpg
GEO:-31.8348164;115.7644252
X-APPLE-STRUCTURED-LOCATION;VALUE=URI;X-ADDRESS=Duncraig Library Cnr Warwick Road and Marmion Avenue Duncraig WA Australia;X-APPLE-RADIUS=500;X-TITLE=Cnr Warwick Road and Marmion Avenue:geo:115.7644252,-31.8348164
END:VEVENT
BEGIN:VEVENT
DTSTART;TZID=Australia/Perth:20260424T100000
DTEND;TZID=Australia/Perth:20260424T120000
DTSTAMP:20260420T232821
CREATED:20250216T050318Z
LAST-MODIFIED:20260102T073130Z
UID:10857553-1777024800-1777032000@seniorocity.com.au
SUMMARY:Forget-Me-Not Memory Cafe (Duncraig)
DESCRIPTION:The City of Joondalup hosts a monthly dementia support cafe in partnership with Forget-Me-Not. \nThe cafe is for those living with memory loss\, their carers and loved ones\, and aims to provide a supportive social network in a friendly and relaxed environment. \nRegister by calling 9400 4790. \nAll Joondalup Libraries also carry a selection of memory kits available for loan\, which can be used to help you reconnect with loves ones who are living withg dementia. Each kit is thoughtfully curated with items that encourage conversation and engagement\, and there are five themes to choose from.
URL:https://seniorocity.com.au/whats-on-perth/forget-me-not-memory-cafe-duncraig/2026-04-24/
LOCATION:Duncraig Library\, Cnr Warwick Road and Marmion Avenue\, Duncraig\, WA\, Australia
CATEGORIES:Coffee Catchup,Health,Meet New People,Monthly Meeting,Morning Tea,Social,Social event
ATTACH;FMTTYPE=image/jpeg:https://seniorocity.com.au/wp-content/uploads/2025/02/Forget-Me-Not-Memory-Cafe.jpg
ORGANIZER;CN="City of Joondalup":MAILTO:info@joondalup.wa.gov.au
GEO:-31.8348164;115.7644252
X-APPLE-STRUCTURED-LOCATION;VALUE=URI;X-ADDRESS=Duncraig Library Cnr Warwick Road and Marmion Avenue Duncraig WA Australia;X-APPLE-RADIUS=500;X-TITLE=Cnr Warwick Road and Marmion Avenue:geo:115.7644252,-31.8348164
END:VEVENT
BEGIN:VEVENT
DTSTART;TZID=Australia/Perth:20260516T100000
DTEND;TZID=Australia/Perth:20260516T110000
DTSTAMP:20260420T232821
CREATED:20260102T071629Z
LAST-MODIFIED:20260102T071629Z
UID:10857512-1778925600-1778929200@seniorocity.com.au
SUMMARY:Cuttings and Cake
DESCRIPTION:Join our community garden clinic where you can swap spare plants and ask gardening questions while enjoying morning tea. \nBring something to share – a cutting or a cake. \nNo cost. No bookings required.
URL:https://seniorocity.com.au/whats-on-perth/cuttings-and-cake-2/2026-05-16/
LOCATION:Duncraig Library\, Cnr Warwick Road and Marmion Avenue\, Duncraig\, WA\, Australia
CATEGORIES:Library Events
ATTACH;FMTTYPE=image/jpeg:https://seniorocity.com.au/wp-content/uploads/2026/01/Duncraig-Library1-6-scaled.jpg
GEO:-31.8348164;115.7644252
X-APPLE-STRUCTURED-LOCATION;VALUE=URI;X-ADDRESS=Duncraig Library Cnr Warwick Road and Marmion Avenue Duncraig WA Australia;X-APPLE-RADIUS=500;X-TITLE=Cnr Warwick Road and Marmion Avenue:geo:115.7644252,-31.8348164
END:VEVENT
BEGIN:VEVENT
DTSTART;TZID=Australia/Perth:20260520T140000
DTEND;TZID=Australia/Perth:20260520T160000
DTSTAMP:20260420T232821
CREATED:20260102T072524Z
LAST-MODIFIED:20260102T072524Z
UID:10857539-1779285600-1779292800@seniorocity.com.au
SUMMARY:Jigsaw Group
DESCRIPTION:Challenge your memory and spatial reasoning as you explore a variety of puzzles and connect with fellow puzzle lovers. \nIt’s a fun\, social way to keep your brain active and enjoy the satisfaction of solving puzzles together.
URL:https://seniorocity.com.au/whats-on-perth/jigsaw-group/2026-05-20/
LOCATION:Duncraig Library\, Cnr Warwick Road and Marmion Avenue\, Duncraig\, WA\, Australia
CATEGORIES:Games,Library Events
ATTACH;FMTTYPE=image/jpeg:https://seniorocity.com.au/wp-content/uploads/2026/01/Jigsaws.jpg
GEO:-31.8348164;115.7644252
X-APPLE-STRUCTURED-LOCATION;VALUE=URI;X-ADDRESS=Duncraig Library Cnr Warwick Road and Marmion Avenue Duncraig WA Australia;X-APPLE-RADIUS=500;X-TITLE=Cnr Warwick Road and Marmion Avenue:geo:115.7644252,-31.8348164
END:VEVENT
BEGIN:VEVENT
DTSTART;TZID=Australia/Perth:20260520T140000
DTEND;TZID=Australia/Perth:20260520T160000
DTSTAMP:20260420T232821
CREATED:20260119T022352Z
LAST-MODIFIED:20260119T022352Z
UID:10862517-1779285600-1779292800@seniorocity.com.au
SUMMARY:Jigsaw group
DESCRIPTION:Challenge your memory and spatial reasoning as you explore a variety of puzzles and connect with fellow puzzle lovers. \nIt’s a fun\, social way to keep your brain active and enjoy the satisfaction of solving puzzles together.
URL:https://seniorocity.com.au/whats-on-perth/jigsaw-group-2/2026-05-20/
LOCATION:Duncraig Library\, Cnr Warwick Road and Marmion Avenue\, Duncraig\, WA\, Australia
CATEGORIES:Free,Games,Library Events,Social
ATTACH;FMTTYPE=image/jpeg:https://seniorocity.com.au/wp-content/uploads/2026/01/Jigsaw-group.jpg
GEO:-31.8348164;115.7644252
X-APPLE-STRUCTURED-LOCATION;VALUE=URI;X-ADDRESS=Duncraig Library Cnr Warwick Road and Marmion Avenue Duncraig WA Australia;X-APPLE-RADIUS=500;X-TITLE=Cnr Warwick Road and Marmion Avenue:geo:115.7644252,-31.8348164
END:VEVENT
END:VCALENDAR