BEGIN:VCALENDAR
VERSION:2.0
PRODID:-//Seniorocity - Seniors / Over 55&#039;s Guide to Perth - ECPv6.15.11//NONSGML v1.0//EN
CALSCALE:GREGORIAN
METHOD:PUBLISH
X-WR-CALNAME:Seniorocity - Seniors / Over 55&#039;s Guide to Perth
X-ORIGINAL-URL:https://seniorocity.com.au
X-WR-CALDESC:Events for Seniorocity - Seniors / Over 55&#039;s Guide to Perth
REFRESH-INTERVAL;VALUE=DURATION:PT1H
X-Robots-Tag:noindex
X-PUBLISHED-TTL:PT1H
BEGIN:VTIMEZONE
TZID:Australia/Perth
BEGIN:STANDARD
TZOFFSETFROM:+0800
TZOFFSETTO:+0800
TZNAME:AWST
DTSTART:20250101T000000
END:STANDARD
END:VTIMEZONE
BEGIN:VEVENT
DTSTART;TZID=Australia/Perth:20260426T090000
DTEND;TZID=Australia/Perth:20260426T150000
DTSTAMP:20260422T162124
CREATED:20260217T141829Z
LAST-MODIFIED:20260217T141829Z
UID:10863683-1777194000-1777215600@seniorocity.com.au
SUMMARY:Mandurah Market Trail
DESCRIPTION:Discover the very first Mandurah Market Trail as three of your favourite markets come together in the heart of Mandurah. Enjoy fresh produce\, handmade goods\, and plenty of local bites. \nThe Mandurah Market Trail is bringing something new to your Sundays — and it all kicks off on Sunday 5 October\, 9am–3pm! From then on\, you can enjoy the Market Trail every Sunday\, with three of our favourite markets — Peach and Polly\, Peel Produce Markets\, and Mandjar Markets — running together each week along Smart\, Street Mall\, Mandjar Square and the Eastern Foreshore. \nThat means more stalls\, more local goodies\, and more reasons to get out and about with family and friends. Browse fresh produce\, handmade gifts\, homewares\, fashion and more while enjoying a great day out by the water. Kids and families will love the atmosphere\, with plenty of opportunities to grab a coffee or snack\, support local cafés and eateries\, and enjoy time together along our gorgeous foreshore. \nThe Mandurah Market Trail is all about backing our local growers\, makers and small businesses. Every dollar spent supports the people who bring our community to life — from farmers and foodies to artists and artisans. \nSo gather the family\, take your time\, and make Sundays in Mandurah all about supporting local and enjoying the best of our city.
URL:https://seniorocity.com.au/whats-on-perth/mandurah-market-trail/2026-04-26/
LOCATION:Eastern Foreshore Mandurah\, Mandurah Terrace\, Mandurah\, WA\, 6210\, Australia
CATEGORIES:Community Event,Free,Markets
ATTACH;FMTTYPE=image/jpeg:https://seniorocity.com.au/wp-content/uploads/2026/02/Mandurah-Market-Trail.jpg
END:VEVENT
END:VCALENDAR