BEGIN:VCALENDAR
VERSION:2.0
PRODID:-//Seniorocity - Seniors / Over 55&#039;s Guide to Perth - ECPv6.15.11//NONSGML v1.0//EN
CALSCALE:GREGORIAN
METHOD:PUBLISH
X-ORIGINAL-URL:https://seniorocity.com.au
X-WR-CALDESC:Events for Seniorocity - Seniors / Over 55&#039;s Guide to Perth
REFRESH-INTERVAL;VALUE=DURATION:PT1H
X-Robots-Tag:noindex
X-PUBLISHED-TTL:PT1H
BEGIN:VTIMEZONE
TZID:Australia/Perth
BEGIN:STANDARD
TZOFFSETFROM:+0800
TZOFFSETTO:+0800
TZNAME:AWST
DTSTART:20250101T000000
END:STANDARD
END:VTIMEZONE
BEGIN:VEVENT
DTSTART;TZID=Australia/Perth:20260407T153000
DTEND;TZID=Australia/Perth:20260407T163000
DTSTAMP:20260421T035524
CREATED:20251229T111134Z
LAST-MODIFIED:20251229T111134Z
UID:10857250-1775575800-1775579400@seniorocity.com.au
SUMMARY:Elizabeth Quay Cultural Walking Tours
DESCRIPTION:Every month from October 2025 to May 2026\, visitors will have the opportunity to embark on engaging guided tour available on Tuesdays with Walter McGuire and his team from Go Cultural Aboriginal Tours. \nThrough expert storytelling\, participants will delve into the rich history of Elizabeth Quay\, the Derbarl Yerrigan/Swan River and the traditional lands of the Whadjuk people. \nVisit Website
URL:https://seniorocity.com.au/whats-on-perth/elizabeth-quay-cultural-walking-tours/2026-04-07/
LOCATION:Elizabeth Quay\, The Esplanade\, Perth\, WA\, 6000\, Australia
CATEGORIES:Tour
ATTACH;FMTTYPE=image/webp:https://seniorocity.com.au/wp-content/uploads/2025/12/Elizabeth-Quay-Cultural-Walking-Tours.webp
END:VEVENT
BEGIN:VEVENT
DTSTART;TZID=Australia/Perth:20260404T150000
DTEND;TZID=Australia/Perth:20260404T200000
DTSTAMP:20260421T035524
CREATED:20260324T140319Z
LAST-MODIFIED:20260324T140319Z
UID:10865117-1775314800-1775332800@seniorocity.com.au
SUMMARY:Easter Markets @ the Quay
DESCRIPTION:Celebrate Easter with an afternoon by the water at Markets @ the Quay – a bustling outdoor marketplace featuring some of Perth’s most talented makers and creators.\n\nEnjoy the autumn sunshine as you wander the waterfront\, exploring local artisan homewares\, hand‑crafted treasures and incredible one‑of‑a‑kind finds.\n\nAnd there’s no shortage of something delicious to eat. Grab something hot and tasty – or sweet and delightful – from one of the food trucks\, find a spot by the river and enjoy live music by local musicians.\n\nThe Easter Bunny will also be dropping in for a special visit\, hopping around spreading smiles and plenty of Easter cheer – plus some sweet treats for the kids.\nThere’s plenty more for little ones to enjoy too. Cameron the Magician will surprise and delight with an interactive magic show filled with mysterious tricks to keep everyone guessing.\n\nFree activities all afternoon include:\n—Magic shows with Cameron the Magician—Easter Bunny visits—Face painting – our magical face‑painting fairy returns—Live music – showcasing talented local musicians by the water—Splashing fun at the Elizabeth Quay Water Park—Magical spins on the Elizabeth Quay Carousel (paid experience)
URL:https://seniorocity.com.au/whats-on-perth/easter-markets-the-quay/
LOCATION:Elizabeth Quay\, The Esplanade\, Perth\, WA\, 6000\, Australia
CATEGORIES:Easter,Family Event,Free,Markets
ATTACH;FMTTYPE=image/jpeg:https://seniorocity.com.au/wp-content/uploads/2026/03/Easter-Markets-@-the-Quay.jpg
END:VEVENT
BEGIN:VEVENT
DTSTART;TZID=Australia/Perth:20260227T170000
DTEND;TZID=Australia/Perth:20260227T210000
DTSTAMP:20260421T035524
CREATED:20260109T154123Z
LAST-MODIFIED:20260109T154123Z
UID:10861343-1772211600-1772226000@seniorocity.com.au
SUMMARY:Lotterywest Summer Nights
DESCRIPTION:Thank you to our Major Supporter Lotterywest and Destination Partner DevelopmentWA. \nGet ready for an unforgettable experience at Elizabeth Quay as the Lotterywest Summer Nights return! \nElizabeth Quay is set to transform into the ultimate entertainment hotspot. \nThe dazzling floating stage hosting immersive live performances\, surrounded by a feast of food options and fun activities for the whole family.
URL:https://seniorocity.com.au/whats-on-perth/lotterywest-summer-nights/
LOCATION:Elizabeth Quay\, The Esplanade\, Perth\, WA\, 6000\, Australia
CATEGORIES:Community Event,Family Event,Free,Music Event
ATTACH;FMTTYPE=image/jpeg:https://seniorocity.com.au/wp-content/uploads/2026/01/Lotterywest-Summer-Nights.jpg
END:VEVENT
BEGIN:VEVENT
DTSTART;VALUE=DATE:20260222
DTEND;VALUE=DATE:20260223
DTSTAMP:20260421T035524
CREATED:20260109T150420Z
LAST-MODIFIED:20260109T150420Z
UID:10861337-1771718400-1771804799@seniorocity.com.au
SUMMARY:Accordion
DESCRIPTION:Celebrate summer at Elizabeth Quay with Accordion. \nCelebrate summer at Elizabeth Quay with Accordion — a dazzling new light installation featuring six towering archways that burst to life with colour\, music and movement\, created by the globally acclaimed studio Amigo & Amigo. \nMaking its WA debut\, Accordion invites visitors to wander through a series of luminous archways and play with interactive stepping pads that you can hop\, skip or leap across – triggering a ripple of light\, colour and sound. \nThis multi‑sensory experience will transform the Quay into a kaleidoscope of movement and imagination for two magical weeks\, starting 7 February with a vibrant opening night event: Kaleidoscope. \nBest experienced under the night sky\, Accordion still captivates with its graceful form and colour during the day. \nVisit Website
URL:https://seniorocity.com.au/whats-on-perth/accordion/2026-02-22/
LOCATION:Elizabeth Quay\, The Esplanade\, Perth\, WA\, 6000\, Australia
CATEGORIES:Exhibition,Free
ATTACH;FMTTYPE=image/webp:https://seniorocity.com.au/wp-content/uploads/2026/01/Accordion.webp
END:VEVENT
BEGIN:VEVENT
DTSTART;TZID=Australia/Perth:20260214T150000
DTEND;TZID=Australia/Perth:20260214T200000
DTSTAMP:20260421T035524
CREATED:20260115T120551Z
LAST-MODIFIED:20260115T120551Z
UID:10861956-1771081200-1771099200@seniorocity.com.au
SUMMARY:Lunar New Year Markets @ the Quay
DESCRIPTION:Wander through artisan market stalls offering everything from unique handmade treasures and unique one-of-a-kind finds to mouth-watering street eats and seasonal delights. It’s the perfect spot to soak up the lively atmosphere along the beautiful Derbal Yerrigan.\n𝗖𝗲𝗹𝗲𝗯𝗿𝗮𝘁𝗲 𝘁𝗵𝗲 𝗬𝗲𝗮𝗿 𝗼𝗳 𝘁𝗵𝗲 𝗙𝗶𝗿𝗲 𝗛𝗼𝗿𝘀𝗲From 6.45pm\, enjoy traditional performances that bring the energy of Lunar New Year to Elizabeth Quay. Lion dancing and powerful battle drum performances will captivate with their rhythm\, colour and storytelling – celebrating luck\, prosperity\, and new beginnings.\nAdd your hopes for the year ahead to the Lunar New Year Wishing Tree\, a much‑loved tradition symbolising good fortune and positive energy.\nAnd keep an eye out for our fortune cookie giveaways – you might find a message of prosperity… or an Elizabeth Quay gift card.\n𝗧𝗵𝗲 𝗽𝗲𝗿𝗳𝗲𝗰𝘁 𝘀𝘂𝗺𝗺𝗲𝗿 𝗲𝘃𝗲𝗻𝗶𝗻𝗴 𝗯𝘆 𝘁𝗵𝗲 𝘄𝗮𝘁𝗲𝗿Whether you’re out with family\, friends\, or exploring solo\, the Lunar Markets are a perfect way to enjoy Perth’s warm summer evenings and the festive spirit of the New Year.\nFree lawn games\, face painting and plenty of splashing fun at the Elizabeth Quay Water Park will keep the kids entertained. Make an evening of it by grabbing something delicious at one of the food trucks or enjoying a relaxed meal at one of the restaurants nearby.
URL:https://seniorocity.com.au/whats-on-perth/lunar-new-year-markets-the-quay/
LOCATION:Elizabeth Quay\, The Esplanade\, Perth\, WA\, 6000\, Australia
CATEGORIES:Community Event,Markets
ATTACH;FMTTYPE=image/jpeg:https://seniorocity.com.au/wp-content/uploads/2026/01/Lunar-New-Year-Markets-@-the-Quay.jpg
END:VEVENT
BEGIN:VEVENT
DTSTART;TZID=Australia/Perth:20260207T170000
DTEND;TZID=Australia/Perth:20260207T210000
DTSTAMP:20260421T035524
CREATED:20260109T145923Z
LAST-MODIFIED:20260109T145923Z
UID:10861321-1770483600-1770498000@seniorocity.com.au
SUMMARY:Kaleidoscope @ the Quay
DESCRIPTION:This summer\, Elizabeth Quay transforms into a vibrant playground of light\, music and movement. Kaleidoscope is a free\, all-ages event that brings Perth’s waterfront to life with immersive art\, live entertainment and family fun. \nAt its heart is Accordion – an interactive art installation never before seen in WA. Six towering archways burst with colour and sound\, inviting you to wander through a living artwork that pulses with light and melody. \nFrom live performances and roaming entertainment\, to waterfront dining and kids’ activities\, Kaleidoscope is where summer shines brightest. Come together where the city meets the water and experience Perth like never before. \nEvent highlights \nAccordion\nExperience Accordion – a spectacular light installation never before seen in WA. Six illuminated arches come alive with colour\, music and movement\, creating an interactive journey through a symphony of light and sound. \nLive Music on the Water\nEnjoy an exciting lineup of local and Australian musicians performing on the floating stage in the Elizabeth Quay inlet. Musician lineup to be released in January 2026. \nDisco on the Bridge\nThe Elizabeth Quay footbridge becomes a glowing dance floor with LED lights\, silent disco\, live DJs and sparkling effects. Don’t miss this larger-than-life photo moment as you dance under the stars\, overlooking the glittering city. \nRoaming Entertainment\nBe captivated by vibrant performers on foot\, skates and poles. Expect circus acts\, acrobats\, sway pole artists and colourful characters bringing the precinct to life with energy and fun. \nFamily Fun\nMeet a mermaid and seahorse\, splash at the Elizabeth Quay Waterpark and join the Crazy Hat Day Show – an interactive singalong concert celebrating music and movement. \n\n\n\n\n\nVisit Website
URL:https://seniorocity.com.au/whats-on-perth/kaleidoscope-the-quay/
LOCATION:Elizabeth Quay\, The Esplanade\, Perth\, WA\, 6000\, Australia
CATEGORIES:Community Event,Exhibition,Family Event,Free
END:VEVENT
END:VCALENDAR