BEGIN:VCALENDAR
VERSION:2.0
PRODID:-//Seniorocity - Seniors / Over 55&#039;s Guide to Perth - ECPv6.15.11//NONSGML v1.0//EN
CALSCALE:GREGORIAN
METHOD:PUBLISH
X-WR-CALNAME:Seniorocity - Seniors / Over 55&#039;s Guide to Perth
X-ORIGINAL-URL:https://seniorocity.com.au
X-WR-CALDESC:Events for Seniorocity - Seniors / Over 55&#039;s Guide to Perth
REFRESH-INTERVAL;VALUE=DURATION:PT1H
X-Robots-Tag:noindex
X-PUBLISHED-TTL:PT1H
BEGIN:VTIMEZONE
TZID:Australia/Perth
BEGIN:STANDARD
TZOFFSETFROM:+0800
TZOFFSETTO:+0800
TZNAME:AWST
DTSTART:20250101T000000
END:STANDARD
END:VTIMEZONE
BEGIN:VEVENT
DTSTART;TZID=Australia/Perth:20260404T110000
DTEND;TZID=Australia/Perth:20260406T140000
DTSTAMP:20260421T182628
CREATED:20260324T133905Z
LAST-MODIFIED:20260324T133905Z
UID:10865115-1775300400-1775484000@seniorocity.com.au
SUMMARY:Hop Into Easter at Flinders Square
DESCRIPTION:Saturday April 4th\, 11am – 2pm\n\nCelebrate Easter with a sweet and creative day the whole family will love! Join us for a hands‑on cookie decorating workshop filled with colour\, fun\, and delicious treats.\n\n Cookie Decorating Workshop\nGet creative and design your very own Easter‑themed cookies – perfect for kids and adults alike!\nHop on over to Flinders Square for an Easter celebration bursting with creativity\, sweetness\, and festive fun! 
URL:https://seniorocity.com.au/whats-on-perth/hop-into-easter-at-flinders-square/
LOCATION:Flinders Square Shopping Centre\, 30 Wiluna St\, Yokine\, WA\, 6060\, Australia
CATEGORIES:Easter,Free,School holiday events,Shopping Centre Activities
ATTACH;FMTTYPE=image/jpeg:https://seniorocity.com.au/wp-content/uploads/2026/03/Hop-Into-Easter-at-Flinders-Square.jpg
END:VEVENT
END:VCALENDAR