BEGIN:VCALENDAR
VERSION:2.0
PRODID:-//Seniorocity - Seniors / Over 55&#039;s Guide to Perth - ECPv6.15.11//NONSGML v1.0//EN
CALSCALE:GREGORIAN
METHOD:PUBLISH
X-ORIGINAL-URL:https://seniorocity.com.au
X-WR-CALDESC:Events for Seniorocity - Seniors / Over 55&#039;s Guide to Perth
REFRESH-INTERVAL;VALUE=DURATION:PT1H
X-Robots-Tag:noindex
X-PUBLISHED-TTL:PT1H
BEGIN:VTIMEZONE
TZID:Australia/Perth
BEGIN:STANDARD
TZOFFSETFROM:+0800
TZOFFSETTO:+0800
TZNAME:AWST
DTSTART:20250101T000000
END:STANDARD
END:VTIMEZONE
BEGIN:VEVENT
DTSTART;TZID=Australia/Perth:20260126T090000
DTEND;TZID=Australia/Perth:20260126T170000
DTSTAMP:20260421T173656
CREATED:20260103T150258Z
LAST-MODIFIED:20260103T150258Z
UID:10860297-1769418000-1769446800@seniorocity.com.au
SUMMARY:Objet d’Art
DESCRIPTION:A thorough journey through Theo Koning’s artistic evolution — from his earliest creations to his final weeks. \nThe City of Fremantle Art Collection presents a major retrospective exhibition\, related public program and substantive illustrated publication about the art practice and creative life of celebrated Fremantle based WA artist Theo Koning (1950-2022). \nExhibition runs 15 November to 26 January. \nBook now
URL:https://seniorocity.com.au/whats-on-perth/objet-dart/2026-01-26/
LOCATION:Fremantle Arts Centre\, 1 Finnerty Street\, Fremantle\, WA\, 6160\, Australia
CATEGORIES:Art Gallery,Exhibition
ATTACH;FMTTYPE=image/jpeg:https://seniorocity.com.au/wp-content/uploads/2026/01/Objet-dArt.jpg
END:VEVENT
BEGIN:VEVENT
DTSTART;TZID=Australia/Perth:20260125T170000
DTEND;TZID=Australia/Perth:20260125T203000
DTSTAMP:20260421T173656
CREATED:20260104T141655Z
LAST-MODIFIED:20260104T141655Z
UID:10860489-1769360400-1769373000@seniorocity.com.au
SUMMARY:FOCUS: First Nation Films
DESCRIPTION:As a part of the City of Fremantle’s commitment to reconciliation\, we are pleased to announce the second FOCUS: First Nation Films event. \nThis event will bring together a tapestry of films that focus on First Nation stories that speak to the impacts of colonisation and to the resilience and self-determination of Aboriginal and Torres Strait Islander peoples. \nThis considered and special weekend of free music\, conversations and films is a unique opportunity not to be missed. \nFree 
URL:https://seniorocity.com.au/whats-on-perth/focus-first-nation-films/2026-01-25/
LOCATION:Fremantle Arts Centre\, 1 Finnerty Street\, Fremantle\, WA\, 6160\, Australia
CATEGORIES:Free,Movies
ATTACH;FMTTYPE=image/png:https://seniorocity.com.au/wp-content/uploads/2026/01/FOCUS-First-Nation-Films.png
END:VEVENT
END:VCALENDAR