BEGIN:VCALENDAR
VERSION:2.0
PRODID:-//Seniorocity - Seniors / Over 55&#039;s Guide to Perth - ECPv6.15.11//NONSGML v1.0//EN
CALSCALE:GREGORIAN
METHOD:PUBLISH
X-WR-CALNAME:Seniorocity - Seniors / Over 55&#039;s Guide to Perth
X-ORIGINAL-URL:https://seniorocity.com.au
X-WR-CALDESC:Events for Seniorocity - Seniors / Over 55&#039;s Guide to Perth
REFRESH-INTERVAL;VALUE=DURATION:PT1H
X-Robots-Tag:noindex
X-PUBLISHED-TTL:PT1H
BEGIN:VTIMEZONE
TZID:Australia/Perth
BEGIN:STANDARD
TZOFFSETFROM:+0800
TZOFFSETTO:+0800
TZNAME:AWST
DTSTART:20250101T000000
END:STANDARD
END:VTIMEZONE
BEGIN:VEVENT
DTSTART;TZID=Australia/Perth:20260329T100000
DTEND;TZID=Australia/Perth:20260329T130000
DTSTAMP:20260422T232937
CREATED:20260325T140517Z
LAST-MODIFIED:20260325T140517Z
UID:10865120-1774778400-1774789200@seniorocity.com.au
SUMMARY:Dogs' Day Out
DESCRIPTION:Treat your beloved family pet to a Dogs’ Day Out\, full of fun and exciting activities!\n\nThere’s fun for all the family\, including a bouncy castle\, face painting\, merchandise stalls\, food and drink stalls\, an agility course\, dog training groups\, a dog wash service\, and animal rescue groups.\n\nPlus\, our favourite competitions are back for another year: 11am – Colouring in competition winners announced 11.30am – Best dog trick competition 12noon – Best dressed dog competition\n\nWe can’t wait to see you and your furry friends there \n*Please ensure your dog is on a lead at all times.
URL:https://seniorocity.com.au/whats-on-perth/dogs-day-out-2/
LOCATION:Frye Park\, Clifton Street\, Kelmscott\, WA\, 6111\, Australia
CATEGORIES:Community Event,Family Event,Free
ATTACH;FMTTYPE=image/jpeg:https://seniorocity.com.au/wp-content/uploads/2026/03/Dogs-Day-Out.jpg
END:VEVENT
BEGIN:VEVENT
DTSTART;TZID=Australia/Perth:20260329T100000
DTEND;TZID=Australia/Perth:20260329T130000
DTSTAMP:20260422T232937
CREATED:20260210T134105Z
LAST-MODIFIED:20260210T134105Z
UID:10863451-1774778400-1774789200@seniorocity.com.au
SUMMARY:Dogs' Day Out
DESCRIPTION:Treat your beloved family pet to a Dogs’ Day Out! \nThe event will celebrate our wonderful pooches with fun contests including Best Dressed Dog\, Best Dog Trick and an agility course. \nThere’s fun for the whole family including a bouncy castle\, face painting\, food and drink\, merchandise stalls and more. \nWe can’t wait to see you and your doggo pals there! \nMore info coming soon.
URL:https://seniorocity.com.au/whats-on-perth/dogs-day-out/
LOCATION:Frye Park\, Clifton Street\, Kelmscott\, WA\, 6111\, Australia
CATEGORIES:Community Event,Family Event,Free
ATTACH;FMTTYPE=image/jpeg:https://seniorocity.com.au/wp-content/uploads/2026/02/Dogs-Day-Out.jpg
END:VEVENT
END:VCALENDAR