BEGIN:VCALENDAR
VERSION:2.0
PRODID:-//Seniorocity - Seniors / Over 55&#039;s Guide to Perth - ECPv6.15.11//NONSGML v1.0//EN
CALSCALE:GREGORIAN
METHOD:PUBLISH
X-ORIGINAL-URL:https://seniorocity.com.au
X-WR-CALDESC:Events for Seniorocity - Seniors / Over 55&#039;s Guide to Perth
REFRESH-INTERVAL;VALUE=DURATION:PT1H
X-Robots-Tag:noindex
X-PUBLISHED-TTL:PT1H
BEGIN:VTIMEZONE
TZID:Australia/Perth
BEGIN:STANDARD
TZOFFSETFROM:+0800
TZOFFSETTO:+0800
TZNAME:AWST
DTSTART:20250101T000000
END:STANDARD
END:VTIMEZONE
BEGIN:VEVENT
DTSTART;TZID=Australia/Perth:20260424T093000
DTEND;TZID=Australia/Perth:20260424T110000
DTSTAMP:20260424T050924
CREATED:20260402T155547Z
LAST-MODIFIED:20260402T155549Z
UID:10865311-1777023000-1777028400@seniorocity.com.au
SUMMARY:English Conversation Group @ Girrawheen Library
DESCRIPTION:Join us @ Girrawheen Library for our English Conversation Group—a relaxed and friendly space to practise your language skills.
URL:https://seniorocity.com.au/whats-on-perth/english-conversation-group-girrawheen-library/
LOCATION:Girrawheen Public Library\, 6 Patrick Court\, Girrawheen\, WA\, 6064\, Australia
CATEGORIES:Language Class
ATTACH;FMTTYPE=image/jpeg:https://seniorocity.com.au/wp-content/uploads/2026/04/d467cb59e057c4b7b345566d4af08a3d-1.jpg
END:VEVENT
BEGIN:VEVENT
DTSTART;TZID=Australia/Perth:20260501T093000
DTEND;TZID=Australia/Perth:20260501T110000
DTSTAMP:20260424T050924
CREATED:20260402T155552Z
LAST-MODIFIED:20260402T155606Z
UID:10865312-1777627800-1777633200@seniorocity.com.au
SUMMARY:English Conversation Group @ Girrawheen Library
DESCRIPTION:Join us @ Girrawheen Library for our English Conversation Group—a relaxed and friendly space to practise your language skills.
URL:https://seniorocity.com.au/whats-on-perth/english-conversation-group-girrawheen-library-2/
LOCATION:Girrawheen Public Library\, 6 Patrick Court\, Girrawheen\, WA\, 6064\, Australia
CATEGORIES:Language Class
ATTACH;FMTTYPE=image/jpeg:https://seniorocity.com.au/wp-content/uploads/2026/04/d467cb59e057c4b7b345566d4af08a3d-1.jpg
END:VEVENT
BEGIN:VEVENT
DTSTART;TZID=Australia/Perth:20260508T093000
DTEND;TZID=Australia/Perth:20260508T110000
DTSTAMP:20260424T050924
CREATED:20260402T155553Z
LAST-MODIFIED:20260402T155618Z
UID:10865313-1778232600-1778238000@seniorocity.com.au
SUMMARY:English Conversation Group @ Girrawheen Library
DESCRIPTION:Join us @ Girrawheen Library for our English Conversation Group—a relaxed and friendly space to practise your language skills.
URL:https://seniorocity.com.au/whats-on-perth/english-conversation-group-girrawheen-library-3/
LOCATION:Girrawheen Public Library\, 6 Patrick Court\, Girrawheen\, WA\, 6064\, Australia
CATEGORIES:Language Class
ATTACH;FMTTYPE=image/jpeg:https://seniorocity.com.au/wp-content/uploads/2026/04/d467cb59e057c4b7b345566d4af08a3d-1.jpg
END:VEVENT
BEGIN:VEVENT
DTSTART;TZID=Australia/Perth:20260515T093000
DTEND;TZID=Australia/Perth:20260515T110000
DTSTAMP:20260424T050924
CREATED:20260402T155554Z
LAST-MODIFIED:20260402T155630Z
UID:10865314-1778837400-1778842800@seniorocity.com.au
SUMMARY:English Conversation Group @ Girrawheen Library
DESCRIPTION:Join us @ Girrawheen Library for our English Conversation Group—a relaxed and friendly space to practise your language skills.
URL:https://seniorocity.com.au/whats-on-perth/english-conversation-group-girrawheen-library-4/
LOCATION:Girrawheen Public Library\, 6 Patrick Court\, Girrawheen\, WA\, 6064\, Australia
CATEGORIES:Language Class
ATTACH;FMTTYPE=image/jpeg:https://seniorocity.com.au/wp-content/uploads/2026/04/d467cb59e057c4b7b345566d4af08a3d-1.jpg
END:VEVENT
BEGIN:VEVENT
DTSTART;TZID=Australia/Perth:20260520T093000
DTEND;TZID=Australia/Perth:20260520T110000
DTSTAMP:20260424T050924
CREATED:20260401T142705Z
LAST-MODIFIED:20260401T143147Z
UID:10865171-1779269400-1779274800@seniorocity.com.au
SUMMARY:Biscuits & Blooms-  A Plant Swap Morning Tea @ Girrawheen Library
DESCRIPTION:Join us @ Girrawheen Library with our monthly Plant Swap Morning Tea.
URL:https://seniorocity.com.au/whats-on-perth/biscuits-blooms-a-plant-swap-morning-tea-girrawheen-library-2/
LOCATION:Girrawheen Public Library\, 6 Patrick Court\, Girrawheen\, WA\, 6064\, Australia
CATEGORIES:Morning Tea
ATTACH;FMTTYPE=image/jpeg:https://seniorocity.com.au/wp-content/uploads/2026/04/0dddd384591c839dfcac13974fa0ce10.jpg
END:VEVENT
BEGIN:VEVENT
DTSTART;TZID=Australia/Perth:20260522T093000
DTEND;TZID=Australia/Perth:20260522T110000
DTSTAMP:20260424T050924
CREATED:20260402T155555Z
LAST-MODIFIED:20260402T155642Z
UID:10865315-1779442200-1779447600@seniorocity.com.au
SUMMARY:English Conversation Group @ Girrawheen Library
DESCRIPTION:Join us @ Girrawheen Library for our English Conversation Group—a relaxed and friendly space to practise your language skills.
URL:https://seniorocity.com.au/whats-on-perth/english-conversation-group-girrawheen-library-5/
LOCATION:Girrawheen Public Library\, 6 Patrick Court\, Girrawheen\, WA\, 6064\, Australia
CATEGORIES:Language Class
ATTACH;FMTTYPE=image/jpeg:https://seniorocity.com.au/wp-content/uploads/2026/04/d467cb59e057c4b7b345566d4af08a3d-1.jpg
END:VEVENT
BEGIN:VEVENT
DTSTART;TZID=Australia/Perth:20260529T093000
DTEND;TZID=Australia/Perth:20260529T110000
DTSTAMP:20260424T050924
CREATED:20260402T155556Z
LAST-MODIFIED:20260402T155654Z
UID:10865316-1780047000-1780052400@seniorocity.com.au
SUMMARY:English Conversation Group @ Girrawheen Library
DESCRIPTION:Join us @ Girrawheen Library for our English Conversation Group—a relaxed and friendly space to practise your language skills.
URL:https://seniorocity.com.au/whats-on-perth/english-conversation-group-girrawheen-library-6/
LOCATION:Girrawheen Public Library\, 6 Patrick Court\, Girrawheen\, WA\, 6064\, Australia
CATEGORIES:Language Class
ATTACH;FMTTYPE=image/jpeg:https://seniorocity.com.au/wp-content/uploads/2026/04/d467cb59e057c4b7b345566d4af08a3d-1.jpg
END:VEVENT
BEGIN:VEVENT
DTSTART;TZID=Australia/Perth:20260605T093000
DTEND;TZID=Australia/Perth:20260605T110000
DTSTAMP:20260424T050924
CREATED:20260402T155557Z
LAST-MODIFIED:20260402T155706Z
UID:10865317-1780651800-1780657200@seniorocity.com.au
SUMMARY:English Conversation Group @ Girrawheen Library
DESCRIPTION:Join us @ Girrawheen Library for our English Conversation Group—a relaxed and friendly space to practise your language skills.
URL:https://seniorocity.com.au/whats-on-perth/english-conversation-group-girrawheen-library-7/
LOCATION:Girrawheen Public Library\, 6 Patrick Court\, Girrawheen\, WA\, 6064\, Australia
CATEGORIES:Language Class
ATTACH;FMTTYPE=image/jpeg:https://seniorocity.com.au/wp-content/uploads/2026/04/d467cb59e057c4b7b345566d4af08a3d-1.jpg
END:VEVENT
BEGIN:VEVENT
DTSTART;TZID=Australia/Perth:20260612T093000
DTEND;TZID=Australia/Perth:20260612T110000
DTSTAMP:20260424T050924
CREATED:20260402T155557Z
LAST-MODIFIED:20260402T155718Z
UID:10865318-1781256600-1781262000@seniorocity.com.au
SUMMARY:English Conversation Group @ Girrawheen Library
DESCRIPTION:Join us @ Girrawheen Library for our English Conversation Group—a relaxed and friendly space to practise your language skills.
URL:https://seniorocity.com.au/whats-on-perth/english-conversation-group-girrawheen-library-8/
LOCATION:Girrawheen Public Library\, 6 Patrick Court\, Girrawheen\, WA\, 6064\, Australia
CATEGORIES:Language Class
ATTACH;FMTTYPE=image/jpeg:https://seniorocity.com.au/wp-content/uploads/2026/04/d467cb59e057c4b7b345566d4af08a3d-1.jpg
END:VEVENT
BEGIN:VEVENT
DTSTART;TZID=Australia/Perth:20260617T093000
DTEND;TZID=Australia/Perth:20260617T110000
DTSTAMP:20260424T050924
CREATED:20260401T142706Z
LAST-MODIFIED:20260401T143226Z
UID:10865172-1781688600-1781694000@seniorocity.com.au
SUMMARY:Biscuits & Blooms-  A Plant Swap Morning Tea @ Girrawheen Library
DESCRIPTION:Join us @ Girrawheen Library with our monthly Plant Swap Morning Tea.
URL:https://seniorocity.com.au/whats-on-perth/biscuits-blooms-a-plant-swap-morning-tea-girrawheen-library-3/
LOCATION:Girrawheen Public Library\, 6 Patrick Court\, Girrawheen\, WA\, 6064\, Australia
CATEGORIES:Morning Tea
ATTACH;FMTTYPE=image/jpeg:https://seniorocity.com.au/wp-content/uploads/2026/04/0dddd384591c839dfcac13974fa0ce10.jpg
END:VEVENT
BEGIN:VEVENT
DTSTART;TZID=Australia/Perth:20260619T093000
DTEND;TZID=Australia/Perth:20260619T110000
DTSTAMP:20260424T050924
CREATED:20260402T155558Z
LAST-MODIFIED:20260402T155730Z
UID:10865319-1781861400-1781866800@seniorocity.com.au
SUMMARY:English Conversation Group @ Girrawheen Library
DESCRIPTION:Join us @ Girrawheen Library for our English Conversation Group—a relaxed and friendly space to practise your language skills.
URL:https://seniorocity.com.au/whats-on-perth/english-conversation-group-girrawheen-library-9/
LOCATION:Girrawheen Public Library\, 6 Patrick Court\, Girrawheen\, WA\, 6064\, Australia
CATEGORIES:Language Class
ATTACH;FMTTYPE=image/jpeg:https://seniorocity.com.au/wp-content/uploads/2026/04/d467cb59e057c4b7b345566d4af08a3d-1.jpg
END:VEVENT
BEGIN:VEVENT
DTSTART;TZID=Australia/Perth:20260626T093000
DTEND;TZID=Australia/Perth:20260626T110000
DTSTAMP:20260424T050924
CREATED:20260402T155559Z
LAST-MODIFIED:20260402T155741Z
UID:10865320-1782466200-1782471600@seniorocity.com.au
SUMMARY:English Conversation Group @ Girrawheen Library
DESCRIPTION:Join us @ Girrawheen Library for our English Conversation Group—a relaxed and friendly space to practise your language skills.
URL:https://seniorocity.com.au/whats-on-perth/english-conversation-group-girrawheen-library-10/
LOCATION:Girrawheen Public Library\, 6 Patrick Court\, Girrawheen\, WA\, 6064\, Australia
CATEGORIES:Language Class
ATTACH;FMTTYPE=image/jpeg:https://seniorocity.com.au/wp-content/uploads/2026/04/d467cb59e057c4b7b345566d4af08a3d-1.jpg
END:VEVENT
END:VCALENDAR