BEGIN:VCALENDAR
VERSION:2.0
PRODID:-//Seniorocity - Seniors / Over 55&#039;s Guide to Perth - ECPv6.15.11//NONSGML v1.0//EN
CALSCALE:GREGORIAN
METHOD:PUBLISH
X-WR-CALNAME:Seniorocity - Seniors / Over 55&#039;s Guide to Perth
X-ORIGINAL-URL:https://seniorocity.com.au
X-WR-CALDESC:Events for Seniorocity - Seniors / Over 55&#039;s Guide to Perth
REFRESH-INTERVAL;VALUE=DURATION:PT1H
X-Robots-Tag:noindex
X-PUBLISHED-TTL:PT1H
BEGIN:VTIMEZONE
TZID:Australia/Perth
BEGIN:STANDARD
TZOFFSETFROM:+0800
TZOFFSETTO:+0800
TZNAME:AWST
DTSTART:20250101T000000
END:STANDARD
END:VTIMEZONE
BEGIN:VEVENT
DTSTART;TZID=Australia/Perth:20260418T090000
DTEND;TZID=Australia/Perth:20260418T103000
DTSTAMP:20260422T042300
CREATED:20260320T081051Z
LAST-MODIFIED:20260320T081051Z
UID:10864536-1776502800-1776508200@seniorocity.com.au
SUMMARY:Living together: Neighbourhood Picnic
DESCRIPTION:To celebrate the first Living Locally Project\, we’re inviting locals from Mirrabooka and Dianella to join us for a community picnic at Gordon Phoenix Reserve. \nDelivered over six-weeks\,  the first Living Locally Project hosted a series of community events that built upon social connection\, strengthened assets that make each local area unique and helped identify opportunities to improve local liveability. \nWe’d love to celebrate these achievements together and share the positive outcomes which have helped create greener\, safer\, more active and waste‑wise ways of living together. \nInvite your neighbours and bring your family along for a morning of fun\, connection and community celebration. \nDate: Saturday 18 April\nTime: 9.00am – 10.30am\nLocation: Gordon Phoenix Reserve \nTo learn more about this event and the City’s Living Locally programs\, visit: www.stirling.wa.gov.au/livinglocally
URL:https://seniorocity.com.au/whats-on-perth/living-together-neighbourhood-picnic/
LOCATION:Gordon Reserve\, 42 Gordon Rd West\, Dianella\, 6059\, Australia
CATEGORIES:Community Event,Family Event,Free,Picnic
ATTACH;FMTTYPE=image/png:https://seniorocity.com.au/wp-content/uploads/2026/03/Living-together-Neighbourhood-Picnic.png
END:VEVENT
END:VCALENDAR