BEGIN:VCALENDAR
VERSION:2.0
PRODID:-//Seniorocity - Seniors / Over 55&#039;s Guide to Perth - ECPv6.15.11//NONSGML v1.0//EN
CALSCALE:GREGORIAN
METHOD:PUBLISH
X-ORIGINAL-URL:https://seniorocity.com.au
X-WR-CALDESC:Events for Seniorocity - Seniors / Over 55&#039;s Guide to Perth
REFRESH-INTERVAL;VALUE=DURATION:PT1H
X-Robots-Tag:noindex
X-PUBLISHED-TTL:PT1H
BEGIN:VTIMEZONE
TZID:Australia/Perth
BEGIN:STANDARD
TZOFFSETFROM:+0800
TZOFFSETTO:+0800
TZNAME:AWST
DTSTART:20250101T000000
END:STANDARD
END:VTIMEZONE
BEGIN:VEVENT
DTSTART;TZID=Australia/Perth:20260516T130000
DTEND;TZID=Australia/Perth:20260516T160000
DTSTAMP:20260421T042147
CREATED:20260418T125459Z
LAST-MODIFIED:20260418T125459Z
UID:10865968-1778936400-1778947200@seniorocity.com.au
SUMMARY:Paper Dress workshop
DESCRIPTION:With Rebecca Ryan\n\n\nHave vintage sewing patterns tucked away at home? Bring them to life in this creative workshop! You’ll transform delicate paper patterns into a charming framed dress sculpture to take home and display. \nAll materials will be provided\, just bring along any old patterns you’d like to use if you have any. \n \nSuitable for ages: 16 + \nDates & Times: Saturday 16 May 2026 // 1pm – 4pm \nVenue: Ground Floor Meeting Room\, downstairs between the Museum and Cafe Elixir\, 3 Rocca Way\, Wanneroo. \nParking: Ample parking in the surrounding streets and in the Wanneroo Shopping Centre carpark. \nCost $30 \n \n \n \nA confirmation email will be sent out to you. It would be appreciated if you check your email regularly for any changes to this event. \nNo refunds applicable.
URL:https://seniorocity.com.au/whats-on-perth/paper-dress-workshop/
LOCATION:Ground Floor Meeting Room\, Wanneroo Library and Cultural Centre\, 3 Rocca Way\, Wanneroo\, WA\, 6065\, Australia
CATEGORIES:Craft
ATTACH;FMTTYPE=image/jpeg:https://seniorocity.com.au/wp-content/uploads/2026/04/961045d70e43f34227f98bd64fee4c57.jpg
END:VEVENT
END:VCALENDAR