BEGIN:VCALENDAR
VERSION:2.0
PRODID:-//Seniorocity - Seniors / Over 55&#039;s Guide to Perth - ECPv6.15.11//NONSGML v1.0//EN
CALSCALE:GREGORIAN
METHOD:PUBLISH
X-ORIGINAL-URL:https://seniorocity.com.au
X-WR-CALDESC:Events for Seniorocity - Seniors / Over 55&#039;s Guide to Perth
REFRESH-INTERVAL;VALUE=DURATION:PT1H
X-Robots-Tag:noindex
X-PUBLISHED-TTL:PT1H
BEGIN:VTIMEZONE
TZID:Australia/Perth
BEGIN:STANDARD
TZOFFSETFROM:+0800
TZOFFSETTO:+0800
TZNAME:AWST
DTSTART:20250101T000000
END:STANDARD
END:VTIMEZONE
BEGIN:VEVENT
DTSTART;TZID=Australia/Perth:20260517T140000
DTEND;TZID=Australia/Perth:20260517T150000
DTSTAMP:20260422T190959
CREATED:20260416T084644Z
LAST-MODIFIED:20260416T084644Z
UID:10865809-1779026400-1779030000@seniorocity.com.au
SUMMARY:Floral Printing
DESCRIPTION:As part of Tree Month\, join Rivarossa Botanicals at Harold Boas Gardens for a hands‑on floral printing workshop. \nLearn how to press and pound natural pigments from flowers and leaves into fabric and paper\, and create your own unique piece inspired by nature’s colours and textures. \n\nFree Event |City of Perth Residents Only\n\nDiscover the vibrant hues plants can produce and enjoy a creative connection with the natural world.
URL:https://seniorocity.com.au/whats-on-perth/floral-printing/
LOCATION:Harold Boas Gardens\, Wellington St & Havelock St\, West Perth\, WA\, 6005\, Australia
CATEGORIES:Craft,Free,Weekend events,Workshop
ATTACH;FMTTYPE=image/jpeg:https://seniorocity.com.au/wp-content/uploads/2026/04/Floral-Printing.jpg
END:VEVENT
END:VCALENDAR