BEGIN:VCALENDAR
VERSION:2.0
PRODID:-//Seniorocity - Seniors / Over 55&#039;s Guide to Perth - ECPv6.15.11//NONSGML v1.0//EN
CALSCALE:GREGORIAN
METHOD:PUBLISH
X-ORIGINAL-URL:https://seniorocity.com.au
X-WR-CALDESC:Events for Seniorocity - Seniors / Over 55&#039;s Guide to Perth
REFRESH-INTERVAL;VALUE=DURATION:PT1H
X-Robots-Tag:noindex
X-PUBLISHED-TTL:PT1H
BEGIN:VTIMEZONE
TZID:Australia/Perth
BEGIN:STANDARD
TZOFFSETFROM:+0800
TZOFFSETTO:+0800
TZNAME:AWST
DTSTART:20250101T000000
END:STANDARD
END:VTIMEZONE
BEGIN:VEVENT
DTSTART;TZID=Australia/Perth:20260120T130000
DTEND;TZID=Australia/Perth:20260120T140000
DTSTAMP:20260421T091353
CREATED:20260104T142845Z
LAST-MODIFIED:20260104T142845Z
UID:10860537-1768914000-1768917600@seniorocity.com.au
SUMMARY:Cinema at the Centre - Smurfs
DESCRIPTION:Join us for Cinema at the Centre! \nPG | 92 mins \nWhen Papa Smurf is mysteriously taken by evil wizards\, Razamel and Gargamel\, Smurfette leads the Smurfs on a mission into the real world to save him. With the help of new friends\, the Smurfs must discover what defines their destiny to save the universe. \nEnjoy a complete cinema experience at HRCC with our up-to-date surround sound system and big screen. We also provide the option to purchase popcorn and cinema style snacks to enhance your experience. \nBook now
URL:https://seniorocity.com.au/whats-on-perth/cinema-at-the-centre-smurfs/
LOCATION:Harvey Recreation and Cultural Centre\, Tom Latch Drive\, Harvey\, WA\, 6220\, Australia
CATEGORIES:Community Event,Family Event,Movies
END:VEVENT
END:VCALENDAR