BEGIN:VCALENDAR
VERSION:2.0
PRODID:-//Seniorocity - Seniors / Over 55&#039;s Guide to Perth - ECPv6.15.11//NONSGML v1.0//EN
CALSCALE:GREGORIAN
METHOD:PUBLISH
X-WR-CALNAME:Seniorocity - Seniors / Over 55&#039;s Guide to Perth
X-ORIGINAL-URL:https://seniorocity.com.au
X-WR-CALDESC:Events for Seniorocity - Seniors / Over 55&#039;s Guide to Perth
REFRESH-INTERVAL;VALUE=DURATION:PT1H
X-Robots-Tag:noindex
X-PUBLISHED-TTL:PT1H
BEGIN:VTIMEZONE
TZID:Australia/Perth
BEGIN:STANDARD
TZOFFSETFROM:+0800
TZOFFSETTO:+0800
TZNAME:AWST
DTSTART:20250101T000000
END:STANDARD
END:VTIMEZONE
BEGIN:VEVENT
DTSTART;TZID=Australia/Perth:20260502T100000
DTEND;TZID=Australia/Perth:20260502T113000
DTSTAMP:20260420T195521
CREATED:20260415T155933Z
LAST-MODIFIED:20260415T155933Z
UID:10865797-1777716000-1777721400@seniorocity.com.au
SUMMARY:Community Planting
DESCRIPTION:Celebrate Tree Month with us at Heirisson Island (Matagarup)! Help grow our urban canopy and boost biodiversity by planting trees and native plants. \n\nFree Event | All Welcome\nWhat to bring: Sturdy footwear\, a hat\, water bottle and sunscreen.\nLight refreshments provided.\n\nLet’s green our city together! \nRegister now
URL:https://seniorocity.com.au/whats-on-perth/community-planting/
LOCATION:Heirisson Island\, off Shepperton Road\, East Perth\, WA\, 6004\, Australia
CATEGORIES:Free,Tree Planting
ATTACH;FMTTYPE=image/jpeg:https://seniorocity.com.au/wp-content/uploads/2026/04/Community-Planting.jpg
END:VEVENT
END:VCALENDAR