BEGIN:VCALENDAR
VERSION:2.0
PRODID:-//Seniorocity - Seniors / Over 55&#039;s Guide to Perth - ECPv6.15.11//NONSGML v1.0//EN
CALSCALE:GREGORIAN
METHOD:PUBLISH
X-WR-CALNAME:Seniorocity - Seniors / Over 55&#039;s Guide to Perth
X-ORIGINAL-URL:https://seniorocity.com.au
X-WR-CALDESC:Events for Seniorocity - Seniors / Over 55&#039;s Guide to Perth
REFRESH-INTERVAL;VALUE=DURATION:PT1H
X-Robots-Tag:noindex
X-PUBLISHED-TTL:PT1H
BEGIN:VTIMEZONE
TZID:Australia/Perth
BEGIN:STANDARD
TZOFFSETFROM:+0800
TZOFFSETTO:+0800
TZNAME:AWST
DTSTART:20250101T000000
END:STANDARD
END:VTIMEZONE
BEGIN:VEVENT
DTSTART;TZID=Australia/Perth:20260326T170000
DTEND;TZID=Australia/Perth:20260326T180000
DTSTAMP:20260421T020135
CREATED:20260226T051734Z
LAST-MODIFIED:20260226T051734Z
UID:10863911-1774544400-1774548000@seniorocity.com.au
SUMMARY:Wellard - Thursday Henley Reserve Walking Group
DESCRIPTION:Enjoy the meandering peaceful bushland and flat paths that are in Henley Reserve park and bushland with friendly locals! Mostly shady and cool\, there are two paths to choose: stay on the paved path near the basketball court and playground\, ideal for people with walkers\, prams\, crutches and wheelchairs. Or\, extend your walk with a venture into the bushland trail and enjoy the serenity of tree-lined paths. The bush trail is better suited to those who don’t rely on wheels to move as in some places it is soft with sand\, but mostly it is solid. The full walk will take less than an hour to do. Bring your hat\, wear sunscreen and carry water. The best parking is on Ringwood Loop. Meet at the basketball court for a quick meet and greet before moving on to the paved walk\, followed by the bush walk for those eager to take on a little more of the walk. Come along for a gentle stroll\, every Thursday to enjoy the natural beauty of the reserve and meet others who love to celebrate the beautiful bushland of Kwinana or need a little inspiration to get mobile on an easy walking track. Your group leader Kate looks forward to seeing you there!
URL:https://seniorocity.com.au/whats-on-perth/wellard-thursday-henley-reserve-walking-group/2026-03-26/
LOCATION:Henley Reserve\, Gilmore Ave\, after Wellard Road\, Leda\, WA\, 6167\, Australia
CATEGORIES:Free,Walk,Walks
ATTACH;FMTTYPE=image/jpeg:https://seniorocity.com.au/wp-content/uploads/2026/02/Wellard-Thursday-Henley-Reserve-Walking-Group.jpeg
END:VEVENT
END:VCALENDAR