BEGIN:VCALENDAR
VERSION:2.0
PRODID:-//Seniorocity - Seniors / Over 55&#039;s Guide to Perth - ECPv6.15.11//NONSGML v1.0//EN
CALSCALE:GREGORIAN
METHOD:PUBLISH
X-WR-CALNAME:Seniorocity - Seniors / Over 55&#039;s Guide to Perth
X-ORIGINAL-URL:https://seniorocity.com.au
X-WR-CALDESC:Events for Seniorocity - Seniors / Over 55&#039;s Guide to Perth
REFRESH-INTERVAL;VALUE=DURATION:PT1H
X-Robots-Tag:noindex
X-PUBLISHED-TTL:PT1H
BEGIN:VTIMEZONE
TZID:Australia/Perth
BEGIN:STANDARD
TZOFFSETFROM:+0800
TZOFFSETTO:+0800
TZNAME:AWST
DTSTART:20250101T000000
END:STANDARD
END:VTIMEZONE
BEGIN:VEVENT
DTSTART;TZID=Australia/Perth:20260416T130000
DTEND;TZID=Australia/Perth:20260416T150000
DTSTAMP:20260421T200330
CREATED:20260108T085836Z
LAST-MODIFIED:20260108T085836Z
UID:10861152-1776344400-1776351600@seniorocity.com.au
SUMMARY:Cryptic Crosswords Group
DESCRIPTION:All levels welcome. Cost is $2\, includes refreshments. \n\n\n\n\n\n\nTime: 1pm to 3pm \nLocation: The Hub of the Hills\, 8 Craig Street\, Mundaring
URL:https://seniorocity.com.au/whats-on-perth/cryptic-crosswords-group/2026-04-16/
LOCATION:Hub of the Hills\, Craig Street\, Mundaring\, WA\, Australia
CATEGORIES:Games,Social
ATTACH;FMTTYPE=image/jpeg:https://seniorocity.com.au/wp-content/uploads/2026/01/Cryptic-Crosswords-Group.jpg
END:VEVENT
BEGIN:VEVENT
DTSTART;TZID=Australia/Perth:20260416T100000
DTEND;TZID=Australia/Perth:20260416T120000
DTSTAMP:20260421T200330
CREATED:20260108T085422Z
LAST-MODIFIED:20260108T085422Z
UID:10861107-1776333600-1776340800@seniorocity.com.au
SUMMARY:Seniors Craft Group
DESCRIPTION:Cost is $2 and includes refreshments. Proudly supported by Shire of Mundaring. \n\n\n\n\n\n\nTime: 10am to 12pm \nLocation: The Hub of the Hills\, 8 Craig Street\, Mundaring
URL:https://seniorocity.com.au/whats-on-perth/seniors-craft-group/2026-04-16/
LOCATION:Hub of the Hills\, Craig Street\, Mundaring\, WA\, Australia
CATEGORIES:Craft,Social
ATTACH;FMTTYPE=image/jpeg:https://seniorocity.com.au/wp-content/uploads/2026/01/Seniors-Craft-Group.jpg
END:VEVENT
BEGIN:VEVENT
DTSTART;TZID=Australia/Perth:20260414T190000
DTEND;TZID=Australia/Perth:20260414T210000
DTSTAMP:20260421T200330
CREATED:20260108T084720Z
LAST-MODIFIED:20260108T084720Z
UID:10861061-1776193200-1776200400@seniorocity.com.au
SUMMARY:Sing-along
DESCRIPTION:Bring your instruments – this is an opportunity to enjoy the songs you love. All welcome – cost is $2 and includes refreshments. \n\n\n\n\n\n\nTime: 7pm to 9pm \nLocation: The Hub of the Hills\, 8 Craig Street\, Mundaring \n 
URL:https://seniorocity.com.au/whats-on-perth/sing-along/2026-04-14/
LOCATION:Hub of the Hills\, Craig Street\, Mundaring\, WA\, Australia
CATEGORIES:Music Event,Social
ATTACH;FMTTYPE=image/jpeg:https://seniorocity.com.au/wp-content/uploads/2026/01/Sing-along.jpg
END:VEVENT
BEGIN:VEVENT
DTSTART;TZID=Australia/Perth:20260206T100000
DTEND;TZID=Australia/Perth:20260206T113000
DTSTAMP:20260421T200330
CREATED:20260108T133103Z
LAST-MODIFIED:20260108T133103Z
UID:10861187-1770372000-1770377400@seniorocity.com.au
SUMMARY:Open Eyed Sound Meditation for Seniors
DESCRIPTION:Experienced facilitators will guide you through a relaxing meditation\, followed by morning tea. Proudly supported by Shire of Mundaring. \nTime: 10am to 11.30am \nLocation: The Hub of the Hills\, 8 Craig Street\, Mundraing \nCost: $2
URL:https://seniorocity.com.au/whats-on-perth/open-eyed-sound-meditation-for-seniors/
LOCATION:Hub of the Hills\, Craig Street\, Mundaring\, WA\, Australia
CATEGORIES:Health,Workshop
ATTACH;FMTTYPE=image/png:https://seniorocity.com.au/wp-content/uploads/2026/01/Open-Eyed-Sound-Meditation-for-Seniors.png
END:VEVENT
END:VCALENDAR