BEGIN:VCALENDAR
VERSION:2.0
PRODID:-//Seniorocity - Seniors / Over 55&#039;s Guide to Perth - ECPv6.15.11//NONSGML v1.0//EN
CALSCALE:GREGORIAN
METHOD:PUBLISH
X-WR-CALNAME:Seniorocity - Seniors / Over 55&#039;s Guide to Perth
X-ORIGINAL-URL:https://seniorocity.com.au
X-WR-CALDESC:Events for Seniorocity - Seniors / Over 55&#039;s Guide to Perth
REFRESH-INTERVAL;VALUE=DURATION:PT1H
X-Robots-Tag:noindex
X-PUBLISHED-TTL:PT1H
BEGIN:VTIMEZONE
TZID:Australia/Perth
BEGIN:STANDARD
TZOFFSETFROM:+0800
TZOFFSETTO:+0800
TZNAME:AWST
DTSTART:20250101T000000
END:STANDARD
END:VTIMEZONE
BEGIN:VEVENT
DTSTART;TZID=Australia/Perth:20260506T090000
DTEND;TZID=Australia/Perth:20260506T170000
DTSTAMP:20260421T004625
CREATED:20260419T133827Z
LAST-MODIFIED:20260419T133827Z
UID:10866002-1778058000-1778086800@seniorocity.com.au
SUMMARY:Jarrahdale Heritage Walk with Morning Tea
DESCRIPTION:Join the Heritage Society for an easy walk through Jarrahdale Heritage Park. You’ll see examples of our famous local tree species such as jarrah\, redgums\, rudus and snottygobbles. You’ll also visit the new plantings and finish off with morning tea at the 701 Café. \nPlease note: we are unable to cater to dietary preferences or food allergies. \nYou will need: \n\nWalking shoes\nSun protection\nWater bottle\nLow to moderate fitness level\n\nRegister via Humantix: https://events.humanitix.com/jarrahdale-heritage-walk/tickets
URL:https://seniorocity.com.au/whats-on-perth/jarrahdale-heritage-walk-with-morning-tea/
LOCATION:Jarrahdale Heritage Park\, Jarrahdale Road\, Jarrahdale\, Australia
CATEGORIES:Morning Tea,Walk,Week day events
ATTACH;FMTTYPE=image/png:https://seniorocity.com.au/wp-content/uploads/2026/04/Jarrahdale-Heritage-Walk-with-Morning-Tea.png
END:VEVENT
END:VCALENDAR