BEGIN:VCALENDAR
VERSION:2.0
PRODID:-//Seniorocity - Seniors / Over 55&#039;s Guide to Perth - ECPv6.15.11//NONSGML v1.0//EN
CALSCALE:GREGORIAN
METHOD:PUBLISH
X-WR-CALNAME:Seniorocity - Seniors / Over 55&#039;s Guide to Perth
X-ORIGINAL-URL:https://seniorocity.com.au
X-WR-CALDESC:Events for Seniorocity - Seniors / Over 55&#039;s Guide to Perth
REFRESH-INTERVAL;VALUE=DURATION:PT1H
X-Robots-Tag:noindex
X-PUBLISHED-TTL:PT1H
BEGIN:VTIMEZONE
TZID:Australia/Perth
BEGIN:STANDARD
TZOFFSETFROM:+0800
TZOFFSETTO:+0800
TZNAME:AWST
DTSTART:20250101T000000
END:STANDARD
END:VTIMEZONE
BEGIN:VEVENT
DTSTART;TZID=Australia/Perth:20260409T163000
DTEND;TZID=Australia/Perth:20260409T200000
DTSTAMP:20260421T063050
CREATED:20251121T142209Z
LAST-MODIFIED:20251121T142209Z
UID:10857159-1775752200-1775764800@seniorocity.com.au
SUMMARY:Melville Food Trucks Night
DESCRIPTION:Join us on the beautiful Jeff Joseph Reserve\, Applecross for an evening of delicious eats\, live music\, and family fun! A rotating lineup of Perth’s best food trucks and desserts!\n🎶 Live entertainment to set the vibe\n🎨 Free Face painting for everyone\n👨‍👩‍👧‍👦 Family-friendly atmosphere with plenty of space to picnic \nPerfect riverside spot to relax and connect with the community. \n\nWhen: Monthly\, second Thursday of the month (runs 13 November 2025 to 9 April 2026)\nTime: 4.30pm to 8.00pm\nWhere: Jeff Joseph Reserve\, Applecross\n\nBring your picnic blankets\, grab friends  or family and come hungry – see you there!\nFollow us on socials for weekly truck lineups and updates ​👉 @melvillefoodtrucksnight @foodtruckscommunityperth
URL:https://seniorocity.com.au/whats-on-perth/melville-food-trucks-night/2026-04-09/
LOCATION:Jeff Joseph Reserve\, The Strand\, Applecross\, WA\, 6153\, Australia
CATEGORIES:Food Trucks,Free
ATTACH;FMTTYPE=image/jpeg:https://seniorocity.com.au/wp-content/uploads/2025/11/Melville-Food-Trucks-Night.jpg
END:VEVENT
END:VCALENDAR