BEGIN:VCALENDAR
VERSION:2.0
PRODID:-//Seniorocity - Seniors / Over 55&#039;s Guide to Perth - ECPv6.15.11//NONSGML v1.0//EN
CALSCALE:GREGORIAN
METHOD:PUBLISH
X-ORIGINAL-URL:https://seniorocity.com.au
X-WR-CALDESC:Events for Seniorocity - Seniors / Over 55&#039;s Guide to Perth
REFRESH-INTERVAL;VALUE=DURATION:PT1H
X-Robots-Tag:noindex
X-PUBLISHED-TTL:PT1H
BEGIN:VTIMEZONE
TZID:Australia/Perth
BEGIN:STANDARD
TZOFFSETFROM:+0800
TZOFFSETTO:+0800
TZNAME:AWST
DTSTART:20250101T000000
END:STANDARD
END:VTIMEZONE
BEGIN:VEVENT
DTSTART;VALUE=DATE:20260418
DTEND;VALUE=DATE:20260419
DTSTAMP:20260422T065043
CREATED:20260102T104932Z
LAST-MODIFIED:20260102T104932Z
UID:10859771-1776470400-1776556799@seniorocity.com.au
SUMMARY:Kelmscott Crafters
DESCRIPTION:This friendly community craft group welcomes all craft enthusiasts to come along and socialise at the Kelmscott Library. \nBring along your own projects\, materials and tools and be inspired! \nBookings are not required.
URL:https://seniorocity.com.au/whats-on-perth/kelmscott-crafters/2026-04-18/
LOCATION:Kelmscott Library\, 2784 Albany Highway\, Kelmscott\, WA\, 6111\, Australia
CATEGORIES:Craft,Free,Library Events
ATTACH;FMTTYPE=image/jpeg:https://seniorocity.com.au/wp-content/uploads/2026/01/Kelmscott-Crafters.jpg
GEO:-32.1126577;116.0146208
X-APPLE-STRUCTURED-LOCATION;VALUE=URI;X-ADDRESS=Kelmscott Library 2784 Albany Highway Kelmscott WA 6111 Australia;X-APPLE-RADIUS=500;X-TITLE=2784 Albany Highway:geo:116.0146208,-32.1126577
END:VEVENT
BEGIN:VEVENT
DTSTART;TZID=Australia/Perth:20260417T110000
DTEND;TZID=Australia/Perth:20260417T140000
DTSTAMP:20260422T065043
CREATED:20260208T072607Z
LAST-MODIFIED:20260208T072607Z
UID:10863390-1776423600-1776434400@seniorocity.com.au
SUMMARY:Digital Basics Tech Help 2026 (Kelmscott)
DESCRIPTION:Digital Basics sessions are a one-to-one 30-minute session where a digital mentor will help you with specific technology problems. \nNot sure how to use your new phone or tablet? Need a little help with setting up email? Want to know the basics of social media or video calls? \nIf this sounds like you\, book in for a free 30-minute session! \n  \n  \nNote: \nThese sessions are not professional technical support meant to diagnose or repair nonfunctioning equipment. They are not for filling in online forms or resumes\, dealing with sensitive data or giving advice that is above basic technical skills. \nWe will help you to the best of our ability\, but we are not technical experts and our assistance has limits. \nWe will not provide advice on any sensitive data. Keep your passwords secure to protect your private information. Be aware of the different risks in using technology. \nWe can help you with general questions about the functionality of your device\, or assist you to use apps for social media\, video calling etc.\, but there are some things that are beyond what our service can provide. \nBook Online
URL:https://seniorocity.com.au/whats-on-perth/digital-basics-tech-help-2026-kelmscott/2026-04-17/
LOCATION:Kelmscott Library\, 2784 Albany Highway\, Kelmscott\, WA\, 6111\, Australia
CATEGORIES:Free,Library Events,Tech
ATTACH;FMTTYPE=image/jpeg:https://seniorocity.com.au/wp-content/uploads/2026/02/Digital-Basics-Tech-Help-2026-Kelmscott.jpg
GEO:-32.1126577;116.0146208
X-APPLE-STRUCTURED-LOCATION;VALUE=URI;X-ADDRESS=Kelmscott Library 2784 Albany Highway Kelmscott WA 6111 Australia;X-APPLE-RADIUS=500;X-TITLE=2784 Albany Highway:geo:116.0146208,-32.1126577
END:VEVENT
BEGIN:VEVENT
DTSTART;TZID=Australia/Perth:20260414T103000
DTEND;TZID=Australia/Perth:20260414T113000
DTSTAMP:20260422T065043
CREATED:20260102T094915Z
LAST-MODIFIED:20260102T094915Z
UID:10858901-1776162600-1776166200@seniorocity.com.au
SUMMARY:NovelNibbles Days
DESCRIPTION:Have you read a good book lately? \nCome along to one of our NovelNibbles sessions and meet with other book lovers! \nYou may be tempted to read new and different authors\, try another genre\, or perhaps rediscover some forgotten favourites. \nBookings are not required.
URL:https://seniorocity.com.au/whats-on-perth/novelnibbles-days/2026-04-14/
LOCATION:Kelmscott Library\, 2784 Albany Highway\, Kelmscott\, WA\, 6111\, Australia
CATEGORIES:Free,Library Events
ATTACH;FMTTYPE=image/jpeg:https://seniorocity.com.au/wp-content/uploads/2026/01/NovelNibbles-Days.jpg
GEO:-32.1126577;116.0146208
X-APPLE-STRUCTURED-LOCATION;VALUE=URI;X-ADDRESS=Kelmscott Library 2784 Albany Highway Kelmscott WA 6111 Australia;X-APPLE-RADIUS=500;X-TITLE=2784 Albany Highway:geo:116.0146208,-32.1126577
END:VEVENT
BEGIN:VEVENT
DTSTART;TZID=Australia/Perth:20260410T093000
DTEND;TZID=Australia/Perth:20260410T113000
DTSTAMP:20260422T065043
CREATED:20260209T124952Z
LAST-MODIFIED:20260209T124952Z
UID:10863432-1775813400-1775820600@seniorocity.com.au
SUMMARY:Kelmscott Come Write In
DESCRIPTION:Writing groups provide an interactive and supportive environment\, offering mentoring and encouragement throughout your writing endeavours. \nNote: Fees apply\, payable to the writing group.
URL:https://seniorocity.com.au/whats-on-perth/kelmscott-come-write-in/2026-04-10/
LOCATION:Kelmscott Library\, 2784 Albany Highway\, Kelmscott\, WA\, 6111\, Australia
CATEGORIES:Writers Groups
ATTACH;FMTTYPE=image/jpeg:https://seniorocity.com.au/wp-content/uploads/2026/02/Kelmscott-Come-Write-In.jpg
GEO:-32.1126577;116.0146208
X-APPLE-STRUCTURED-LOCATION;VALUE=URI;X-ADDRESS=Kelmscott Library 2784 Albany Highway Kelmscott WA 6111 Australia;X-APPLE-RADIUS=500;X-TITLE=2784 Albany Highway:geo:116.0146208,-32.1126577
END:VEVENT
BEGIN:VEVENT
DTSTART;TZID=Australia/Perth:20260326T100000
DTEND;TZID=Australia/Perth:20260326T110000
DTSTAMP:20260422T065043
CREATED:20260102T105850Z
LAST-MODIFIED:20260102T105850Z
UID:10859907-1774519200-1774522800@seniorocity.com.au
SUMMARY:Active Ageing Kelmscott (Term 1)
DESCRIPTION:Improve your strength and wellbeing by joining our Active Ageing Program! \nEvery Thursday\, for nine weeks\, you will be exercising to the Geri-Fit® program videos\, which are progressive workouts including a range of exercises. This program is for people aged 60 years and older. \nExpressions of interest for the program close 5pm\, Friday 9th January 2026. \nTo express your interest\, email health@armadale.wa.gov.au. Places are limited and you must be registered to attend. \nYou will be notified if you are successful in securing a place for the program on Monday 12th January 2026.
URL:https://seniorocity.com.au/whats-on-perth/active-ageing-kelmscott-term-1/2026-03-26/
LOCATION:Kelmscott Library\, 2784 Albany Highway\, Kelmscott\, WA\, 6111\, Australia
CATEGORIES:Free,Health
ATTACH;FMTTYPE=image/jpeg:https://seniorocity.com.au/wp-content/uploads/2026/01/Active-Ageing-Kelmscott-Term-1.jpg
GEO:-32.1126577;116.0146208
X-APPLE-STRUCTURED-LOCATION;VALUE=URI;X-ADDRESS=Kelmscott Library 2784 Albany Highway Kelmscott WA 6111 Australia;X-APPLE-RADIUS=500;X-TITLE=2784 Albany Highway:geo:116.0146208,-32.1126577
END:VEVENT
END:VCALENDAR