BEGIN:VCALENDAR
VERSION:2.0
PRODID:-//Seniorocity - Seniors / Over 55&#039;s Guide to Perth - ECPv6.15.11//NONSGML v1.0//EN
CALSCALE:GREGORIAN
METHOD:PUBLISH
X-WR-CALNAME:Seniorocity - Seniors / Over 55&#039;s Guide to Perth
X-ORIGINAL-URL:https://seniorocity.com.au
X-WR-CALDESC:Events for Seniorocity - Seniors / Over 55&#039;s Guide to Perth
REFRESH-INTERVAL;VALUE=DURATION:PT1H
X-Robots-Tag:noindex
X-PUBLISHED-TTL:PT1H
BEGIN:VTIMEZONE
TZID:Australia/Perth
BEGIN:STANDARD
TZOFFSETFROM:+0800
TZOFFSETTO:+0800
TZNAME:AWST
DTSTART:20250101T000000
END:STANDARD
END:VTIMEZONE
BEGIN:VEVENT
DTSTART;TZID=Australia/Perth:20260509T140000
DTEND;TZID=Australia/Perth:20260509T170000
DTSTAMP:20260423T085126
CREATED:20260422T123547Z
LAST-MODIFIED:20260422T123551Z
UID:10866077-1778335200-1778346000@seniorocity.com.au
SUMMARY:North Mandurah Football Club Ladies Day 2026 – Breast Cancer Awareness
DESCRIPTION:Get the girls together for Ladies Day 2026—drinks\, entertainment\, raffles & more\, all supporting breast cancer awareness\n\n\nGet the girls together and join us for one of the most anticipated events of the season — the North Mandurah Football Club Ladies Day 2026 💗 \nThis unforgettable afternoon is all about dressing up\, enjoying great company\, and coming together to support Breast Cancer Awareness in a fun\, vibrant\, and meaningful way. \nWhat Your Ticket Includes \n– Unlimited beer\, wine\, and soft drinks for the duration of the event \n– A stylish cocktail-style event atmosphere \n– Live entertainment throughout the afternoon \n– Access to raffles and major prizes \n– Silent auction featuring incredible items \nSpecial Guest Speaker \nWe are proud to welcome Tracey Genefini\, who will be sharing her personal story — a powerful reminder of why events like this truly matter. \nDress Code \nPink 💕 \nDress to impress and wear pink proudly as a symbol of strength\, support\, and solidarity. \nWho Should Come \nThis is the perfect excuse to gather your favourite people and make a day of it. Bring your mum\, grandma\, aunties\, sisters\, in-laws\, or your best group of friends and enjoy a beautiful afternoon together. \nLimited Tickets Available \nThis event sells out every year — secure your tickets early to avoid missing out. \nBeyond the fun\, this day holds a deeper meaning. \nEvery ticket purchased and every dollar raised helps support those impacted by breast cancer and contributes to vital awareness and support services. \n💗 For some\, this is a day out. For others\, it’s deeply personal. It’s for those we love\, those still fighting\, and those we carry with us. Together\, we stand\, support\, and remember — because no one should face breast cancer alone. \n \nGrab your tickets\, dress up\, and be part of something special 💕
URL:https://seniorocity.com.au/whats-on-perth/north-mandurah-football-club-ladies-day-2026-breast-cancer-awareness/
LOCATION:Lakelands Park\, Home of the Mighty Magpies\, Banksiadale Gate\, Madora Bay\, WA\, 6210\, Australia
CATEGORIES:Mother's Day
ATTACH;FMTTYPE=image/jpeg:https://seniorocity.com.au/wp-content/uploads/2026/04/56d3a6a33be22f4426de80e628dfb9e5.jpg
END:VEVENT
END:VCALENDAR