BEGIN:VCALENDAR
VERSION:2.0
PRODID:-//Seniorocity - Seniors / Over 55&#039;s Guide to Perth - ECPv6.15.11//NONSGML v1.0//EN
CALSCALE:GREGORIAN
METHOD:PUBLISH
X-WR-CALNAME:Seniorocity - Seniors / Over 55&#039;s Guide to Perth
X-ORIGINAL-URL:https://seniorocity.com.au
X-WR-CALDESC:Events for Seniorocity - Seniors / Over 55&#039;s Guide to Perth
REFRESH-INTERVAL;VALUE=DURATION:PT1H
X-Robots-Tag:noindex
X-PUBLISHED-TTL:PT1H
BEGIN:VTIMEZONE
TZID:Australia/Perth
BEGIN:STANDARD
TZOFFSETFROM:+0800
TZOFFSETTO:+0800
TZNAME:AWST
DTSTART:20250101T000000
END:STANDARD
END:VTIMEZONE
BEGIN:VEVENT
DTSTART;TZID=Australia/Perth:20260328T090000
DTEND;TZID=Australia/Perth:20260328T140000
DTSTAMP:20260421T033415
CREATED:20260103T150946Z
LAST-MODIFIED:20260103T150946Z
UID:10860300-1774688400-1774706400@seniorocity.com.au
SUMMARY:Let’s Go Surfing! – Disabled Surfers Association
DESCRIPTION:A FREE event for people of all ages and disabilities! \n\n\n\n\n\n\n\n\n\n\n\nA day dedicated to providing people of all ages and disabilities a surfing experience facilitated by our amazing volunteers.\nHeld at Leighton beach over the Summer period\, in the grassy amphitheatre right next to the Orange Box with shady tents which are perfect for our post-surf sausage sizzle. \nAll welcome\, all totally free for everyone. Register today! \nRan by Disabled Surfers Association of Australia.
URL:https://seniorocity.com.au/whats-on-perth/lets-go-surfing-disabled-surfers-association/2026-03-28/
LOCATION:Leighton Beach\, Port Beach Rd\, Fremantle\, WA\, 6159\, Australia
CATEGORIES:Free,Sport Activities
ATTACH;FMTTYPE=image/jpeg:https://seniorocity.com.au/wp-content/uploads/2026/01/Lets-Go-Surfing-–-Disabled-Surfers-Association.jpg
END:VEVENT
END:VCALENDAR