BEGIN:VCALENDAR
VERSION:2.0
PRODID:-//Seniorocity - Seniors / Over 55&#039;s Guide to Perth - ECPv6.15.11//NONSGML v1.0//EN
CALSCALE:GREGORIAN
METHOD:PUBLISH
X-ORIGINAL-URL:https://seniorocity.com.au
X-WR-CALDESC:Events for Seniorocity - Seniors / Over 55&#039;s Guide to Perth
REFRESH-INTERVAL;VALUE=DURATION:PT1H
X-Robots-Tag:noindex
X-PUBLISHED-TTL:PT1H
BEGIN:VTIMEZONE
TZID:Australia/Perth
BEGIN:STANDARD
TZOFFSETFROM:+0800
TZOFFSETTO:+0800
TZNAME:AWST
DTSTART:20250101T000000
END:STANDARD
END:VTIMEZONE
BEGIN:VEVENT
DTSTART;TZID=Australia/Perth:20260415T100000
DTEND;TZID=Australia/Perth:20260415T120000
DTSTAMP:20260421T074506
CREATED:20260323T134951Z
LAST-MODIFIED:20260323T134951Z
UID:10865109-1776247200-1776254400@seniorocity.com.au
SUMMARY:Makers and Creators: Faux Stained Glass
DESCRIPTION:Discover the magic of colour and light in this hands-on workshop where you’ll learn to create stunning faux stained glass art using simple materials. \nThis is a free event for ages 18+. Bookings are essential and will open Wednesday 18 March. \nMary Davies Library and Community Centre has two ACROD parking bays (Nancy Alley)\, accessible toilet and lift access to first floor. If you have any specific needs or require accommodations in order to comfortably attend this event\, such as visual aids\, a quiet space\, or accessible seating\, please let us know. \nRegister now
URL:https://seniorocity.com.au/whats-on-perth/makers-and-creators-faux-stained-glass/
LOCATION:Mary Davies Library and Community Centre\, 17 Settlers Avenue\, Baldivis\, WA\, 6171\, Australia
CATEGORIES:Craft,Free,Library Events,Workshop
ATTACH;FMTTYPE=image/jpeg:https://seniorocity.com.au/wp-content/uploads/2026/03/Makers-and-Creators-Faux-Stained-Glass.jpg
GEO:-32.332702636719;115.81385040283
X-APPLE-STRUCTURED-LOCATION;VALUE=URI;X-ADDRESS=Mary Davies Library and Community Centre 17 Settlers Avenue Baldivis WA 6171 Australia;X-APPLE-RADIUS=500;X-TITLE=17 Settlers Avenue:geo:115.81385040283,-32.332702636719
END:VEVENT
BEGIN:VEVENT
DTSTART;TZID=Australia/Perth:20260414T100000
DTEND;TZID=Australia/Perth:20260414T140000
DTSTAMP:20260421T074506
CREATED:20260323T132952Z
LAST-MODIFIED:20260323T132952Z
UID:10865108-1776160800-1776175200@seniorocity.com.au
SUMMARY:Simple Sewing to Improve Your Wardrobe
DESCRIPTION:Join Margie Dabala for a creative\, hands-on session where you’ll learn quick and easy ways to revamp your clothes and give them a fresh\, stylish twist. \nThis is a free event for ages 18+. Bookings are essential. \nFor more information contact Mary Davies Library on 9591 0800 or email rockinghamlibraries@rockingham.wa.gov.au. \nMary Davies Library and Community Centre has two ACROD parking bays (Nancy Alley)\, disabled bathroom and lift access to first floor. \nIf you have any specific needs or require accommodations in order to comfortably attend this event\, such as visual aids\, a quiet space\, or accessible seating\, please let us know. \nRegister now
URL:https://seniorocity.com.au/whats-on-perth/simple-sewing-to-improve-your-wardrobe/
LOCATION:Mary Davies Library and Community Centre\, 17 Settlers Avenue\, Baldivis\, WA\, 6171\, Australia
CATEGORIES:Craft,Free,Library Events
ATTACH;FMTTYPE=image/png:https://seniorocity.com.au/wp-content/uploads/2026/03/Simple-Sewing-to-Improve-Your-Wardrobe.png
GEO:-32.332702636719;115.81385040283
X-APPLE-STRUCTURED-LOCATION;VALUE=URI;X-ADDRESS=Mary Davies Library and Community Centre 17 Settlers Avenue Baldivis WA 6171 Australia;X-APPLE-RADIUS=500;X-TITLE=17 Settlers Avenue:geo:115.81385040283,-32.332702636719
END:VEVENT
BEGIN:VEVENT
DTSTART;TZID=Australia/Perth:20260411T100000
DTEND;TZID=Australia/Perth:20260411T110000
DTSTAMP:20260421T074506
CREATED:20260323T131056Z
LAST-MODIFIED:20260323T131056Z
UID:10865107-1775901600-1775905200@seniorocity.com.au
SUMMARY:Author Talk with Marion Weatherburn
DESCRIPTION:Join us for an inspiring author talk with Marion Weatherburn and discover how her journey as a fourth-generation spiritualist and psychic medium has shaped her books Caught Between Two Worlds and Wired Not Weird: A Handbook for Living an Authentic\, Soulful Life. \nThis is a free event for ages 18+. Bookings essential. \nMary Davies Library and Community Centre has two ACROD parking bays (Nancy Alley)\, accessible toilet and lift access to first floor. \nIf you have any specific needs or require accommodations in order to comfortably attend this event\, such as visual aids\, a quiet space\, or accessible seating\, please let us know. \nRegister now
URL:https://seniorocity.com.au/whats-on-perth/author-talk-with-marion-weatherburn/
LOCATION:Mary Davies Library and Community Centre\, 17 Settlers Avenue\, Baldivis\, WA\, 6171\, Australia
CATEGORIES:Free,Library Events
ATTACH;FMTTYPE=image/jpeg:https://seniorocity.com.au/wp-content/uploads/2026/03/Author-Talk-with-Marion-Weatherburn.jpeg
GEO:-32.332702636719;115.81385040283
X-APPLE-STRUCTURED-LOCATION;VALUE=URI;X-ADDRESS=Mary Davies Library and Community Centre 17 Settlers Avenue Baldivis WA 6171 Australia;X-APPLE-RADIUS=500;X-TITLE=17 Settlers Avenue:geo:115.81385040283,-32.332702636719
END:VEVENT
BEGIN:VEVENT
DTSTART;TZID=Australia/Perth:20260409T100000
DTEND;TZID=Australia/Perth:20260409T120000
DTSTAMP:20260421T074506
CREATED:20260323T123934Z
LAST-MODIFIED:20260323T123934Z
UID:10865068-1775728800-1775736000@seniorocity.com.au
SUMMARY:Adult Lego
DESCRIPTION:Challenge yourself to new builds and find the master within. Bring your own kits or build with LEGO® provided \nThis is a free event for ages 18+. \nFor more information\, contact the Mary Davies Library and Community Centre on 9591 0800 or email rockinghamlibraries@rockingham.wa.gov.au \nMary Davies Library and Community Centre has 2 ACROD parking bays (Nancy Alley)\, accessible toilet and lift access to first floor. If you have any specific needs or require accommodations in order to comfortably attend this event\, such as visual aids\, a quiet space\, or accessible seating\, please let us know.
URL:https://seniorocity.com.au/whats-on-perth/adult-lego/
LOCATION:Mary Davies Library and Community Centre\, 17 Settlers Avenue\, Baldivis\, WA\, 6171\, Australia
CATEGORIES:Free,Library Events
ATTACH;FMTTYPE=image/jpeg:https://seniorocity.com.au/wp-content/uploads/2026/03/Adult-Lego.jpg
GEO:-32.332702636719;115.81385040283
X-APPLE-STRUCTURED-LOCATION;VALUE=URI;X-ADDRESS=Mary Davies Library and Community Centre 17 Settlers Avenue Baldivis WA 6171 Australia;X-APPLE-RADIUS=500;X-TITLE=17 Settlers Avenue:geo:115.81385040283,-32.332702636719
END:VEVENT
BEGIN:VEVENT
DTSTART;TZID=Australia/Perth:20260121T093000
DTEND;TZID=Australia/Perth:20260121T103000
DTSTAMP:20260421T074506
CREATED:20260110T135842Z
LAST-MODIFIED:20260110T135842Z
UID:10861355-1768987800-1768991400@seniorocity.com.au
SUMMARY:Have-A-Go Circus Workshop
DESCRIPTION:Join our welcoming and light-hearted circus workshop for adults and seniors to try something new\, have a laugh and get moving in a fun and social setting. \nThis is a free event for ages 18+. Bookings essential. \nMary Davies Library and Community Centre has two ACROD parking bays (Nancy Alley)\, an accessible and lift access to first floor. If you have any specific needs or require accommodations in order to comfortably attend this event\, such as visual aids\, a quiet space\, or accessible seating\, please let us know. \nRegister now
URL:https://seniorocity.com.au/whats-on-perth/have-a-go-circus-workshop/
LOCATION:Mary Davies Library and Community Centre\, 17 Settlers Avenue\, Baldivis\, WA\, 6171\, Australia
CATEGORIES:Free,Library Events,Workshop
ATTACH;FMTTYPE=image/jpeg:https://seniorocity.com.au/wp-content/uploads/2026/01/Have-A-Go-Circus-Workshop.jpg
GEO:-32.332702636719;115.81385040283
X-APPLE-STRUCTURED-LOCATION;VALUE=URI;X-ADDRESS=Mary Davies Library and Community Centre 17 Settlers Avenue Baldivis WA 6171 Australia;X-APPLE-RADIUS=500;X-TITLE=17 Settlers Avenue:geo:115.81385040283,-32.332702636719
END:VEVENT
BEGIN:VEVENT
DTSTART;TZID=Australia/Perth:20260117T090000
DTEND;TZID=Australia/Perth:20260117T120000
DTSTAMP:20260421T074507
CREATED:20260110T062355Z
LAST-MODIFIED:20260110T062355Z
UID:10861352-1768640400-1768651200@seniorocity.com.au
SUMMARY:Empowering Financial Independence in the Multicultural Community
DESCRIPTION:Facilitated by Cynthia Wong\, using a multicultural approach that considers cultural sensitivity in discussing money matters\, this workshop aims to equip learners with financial confidence and basic financial skills. \nThis is a free event for ages 18+. Bookings essential. \nMary Davies Library and Community Centre has two ACROD parking bays (Nancy Alley)\, an accessible bathroom and lift access to first floor. If you have any specific needs or require accommodations in order to comfortably attend this event\, such as visual aids\, a quiet space\, or accessible seating\, please let us know. \nRegister now
URL:https://seniorocity.com.au/whats-on-perth/empowering-financial-independence-in-the-multicultural-community/
LOCATION:Mary Davies Library and Community Centre\, 17 Settlers Avenue\, Baldivis\, WA\, 6171\, Australia
CATEGORIES:Free,Information Session,Workshop
ATTACH;FMTTYPE=image/png:https://seniorocity.com.au/wp-content/uploads/2026/01/Empowering-Financial-Independence-in-the-Multicultural-Community.png
GEO:-32.332702636719;115.81385040283
X-APPLE-STRUCTURED-LOCATION;VALUE=URI;X-ADDRESS=Mary Davies Library and Community Centre 17 Settlers Avenue Baldivis WA 6171 Australia;X-APPLE-RADIUS=500;X-TITLE=17 Settlers Avenue:geo:115.81385040283,-32.332702636719
END:VEVENT
END:VCALENDAR