BEGIN:VCALENDAR
VERSION:2.0
PRODID:-//Seniorocity - Seniors / Over 55&#039;s Guide to Perth - ECPv6.15.11//NONSGML v1.0//EN
CALSCALE:GREGORIAN
METHOD:PUBLISH
X-WR-CALNAME:Seniorocity - Seniors / Over 55&#039;s Guide to Perth
X-ORIGINAL-URL:https://seniorocity.com.au
X-WR-CALDESC:Events for Seniorocity - Seniors / Over 55&#039;s Guide to Perth
REFRESH-INTERVAL;VALUE=DURATION:PT1H
X-Robots-Tag:noindex
X-PUBLISHED-TTL:PT1H
BEGIN:VTIMEZONE
TZID:Australia/Perth
BEGIN:STANDARD
TZOFFSETFROM:+0800
TZOFFSETTO:+0800
TZNAME:AWST
DTSTART:20250101T000000
END:STANDARD
END:VTIMEZONE
BEGIN:VEVENT
DTSTART;TZID=Australia/Perth:20260424T070000
DTEND;TZID=Australia/Perth:20260424T120000
DTSTAMP:20260422T064744
CREATED:20260102T075200Z
LAST-MODIFIED:20260102T075200Z
UID:10857877-1777014000-1777032000@seniorocity.com.au
SUMMARY:Mirrabooka Friday Market
DESCRIPTION:The Mirrabooka Friday Market (previously known as the Balga Friday Market) are a volunteer-run\, outdoor market held at Mirrabooka Open Space (behind Herb Graham Recreation Centre). The markets have been operating for 47 years with all profits reinvested back in to local sports\, schools\, community and senior groups\, as well as special events to support the Telethon Institute. \nMarket sellers offer a huge variety of new and second-hand items including homewares\, clothing\, toys\, plants\, gardening equipment and tools. There are also fresh fruit and vegetables\, food and drink options and much more. It’s likely you will find something interesting\, as well as a bargain or two\, every time you visit! \nParking is available onsite. BYO shopping bags. Not all sellers offer EFTPOS so please bring cash. \nVisit the Facebook page here.
URL:https://seniorocity.com.au/whats-on-perth/mirrabooka-friday-market-2/2026-04-24/
LOCATION:Mirrabooka Regional Open Space\, 38 Ashbury Cres\, Mirrabooka\, WA\, 6061\, Australia
CATEGORIES:Markets
ATTACH;FMTTYPE=image/jpeg:https://seniorocity.com.au/wp-content/uploads/2026/01/CC_Friday-markets_831x478.jpg
END:VEVENT
END:VCALENDAR