BEGIN:VCALENDAR
VERSION:2.0
PRODID:-//Seniorocity - Seniors / Over 55&#039;s Guide to Perth - ECPv6.15.11//NONSGML v1.0//EN
CALSCALE:GREGORIAN
METHOD:PUBLISH
X-ORIGINAL-URL:https://seniorocity.com.au
X-WR-CALDESC:Events for Seniorocity - Seniors / Over 55&#039;s Guide to Perth
REFRESH-INTERVAL;VALUE=DURATION:PT1H
X-Robots-Tag:noindex
X-PUBLISHED-TTL:PT1H
BEGIN:VTIMEZONE
TZID:Australia/Perth
BEGIN:STANDARD
TZOFFSETFROM:+0800
TZOFFSETTO:+0800
TZNAME:AWST
DTSTART:20250101T000000
END:STANDARD
END:VTIMEZONE
BEGIN:VEVENT
DTSTART;TZID=Australia/Perth:20260505T093000
DTEND;TZID=Australia/Perth:20260505T103000
DTSTAMP:20260423T041628
CREATED:20260422T121500Z
LAST-MODIFIED:20260422T121509Z
UID:10866073-1777973400-1777977000@seniorocity.com.au
SUMMARY:SPARK - Mother's Day Card Making Workshop
DESCRIPTION:Join volunteer Maureen for a Mother’s Day card making workshop.\n\n\nCreate a beautiful Mother’s Day card under the guidance of volunteer Maureen.
URL:https://seniorocity.com.au/whats-on-perth/spark-mothers-day-card-making-workshop-2/
LOCATION:Morley Community Centre\, 6A Blades Close\, #Building A\, Morley\, WA\, 6062\, Australia
CATEGORIES:Mother's Day
ATTACH;FMTTYPE=image/jpeg:https://seniorocity.com.au/wp-content/uploads/2026/04/dfe06c2b13347d90cad4ecaec8b22bcf.jpg
END:VEVENT
END:VCALENDAR