BEGIN:VCALENDAR
VERSION:2.0
PRODID:-//Seniorocity - Seniors / Over 55&#039;s Guide to Perth - ECPv6.15.11//NONSGML v1.0//EN
CALSCALE:GREGORIAN
METHOD:PUBLISH
X-ORIGINAL-URL:https://seniorocity.com.au
X-WR-CALDESC:Events for Seniorocity - Seniors / Over 55&#039;s Guide to Perth
REFRESH-INTERVAL;VALUE=DURATION:PT1H
X-Robots-Tag:noindex
X-PUBLISHED-TTL:PT1H
BEGIN:VTIMEZONE
TZID:Australia/Perth
BEGIN:STANDARD
TZOFFSETFROM:+0800
TZOFFSETTO:+0800
TZNAME:AWST
DTSTART:20250101T000000
END:STANDARD
END:VTIMEZONE
BEGIN:VEVENT
DTSTART;TZID=Australia/Perth:20260509T153000
DTEND;TZID=Australia/Perth:20260509T180000
DTSTAMP:20260423T082956
CREATED:20260422T123325Z
LAST-MODIFIED:20260422T123329Z
UID:10866075-1778340600-1778349600@seniorocity.com.au
SUMMARY:Mothers Day Pottery Workshop
DESCRIPTION:Mostyn & Frankie are proud to host Vanessa from Three Hearts Ceramics for a special Mothers Day workshop.\n\n\nAbout this eventCelebrate the women in your life with an afternoon dedicated to creativity\, conversation\, and the art of ceramics. Mostyn & Frankie are proud to host Vanessa from Three Hearts Ceramics for a special Mothers Day workshop designed to honour the slow\, intentional process of making by hand. \nSet within the calm environment of the Mostyn & Frankie store\, this workshop is an opportunity to step away from the rush of the week. Under Vanessa’s expert guidance\, you will create your own functional art – a ceramic mug and a matching plate. \nWhat you will experienceVanessa will walk you through the fundamentals of hand-building\, ensuring you feel confident in every pinch and coil. Once the workshop is complete\, your pieces will be taken to be professionally glazed and fired\, ready for collection at a later date. \nWhile you work\, we will provide a selection of refreshments to keep the creative energy flowing. It is an afternoon designed not just to produce a beautiful object\, but to foster beautiful memories. \nYour ticket includes: \n\nA comprehensive pottery session making a mug and a plate\nAll materials\, firing\, and glazing services\nA glass of chilled champagne\nAn individual grazing platter curated for the afternoon\nA tea or coffee of your choice\nA 10% discount voucher to use toward the Mostyn & Frankie collection on the day\nA small gift for Mum\n\nDetails \n\nDate: Saturday 9th May\nTime: 3.30pm to 6.00pm\nLocation: Mostyn & Frankie\nInvestment: $168 per person\n\nWe have limited this event to sixteen participants to ensure a personal and relaxed experience for everyone involved. We look forward to welcoming you and your loved ones into our space.
URL:https://seniorocity.com.au/whats-on-perth/mothers-day-pottery-workshop/
LOCATION:Mostyn & Frankie Curated Giftboxes Mercantile Coffee Bar\, 18 North Yunderup Road\, North Yunderup\, WA\, 6208\, Australia
CATEGORIES:Mother's Day
ATTACH;FMTTYPE=image/jpeg:https://seniorocity.com.au/wp-content/uploads/2026/04/b1cf073ca6ad2ae5db776224d9c4ec36.jpg
END:VEVENT
END:VCALENDAR