BEGIN:VCALENDAR
VERSION:2.0
PRODID:-//Seniorocity - Seniors / Over 55&#039;s Guide to Perth - ECPv6.15.11//NONSGML v1.0//EN
CALSCALE:GREGORIAN
METHOD:PUBLISH
X-WR-CALNAME:Seniorocity - Seniors / Over 55&#039;s Guide to Perth
X-ORIGINAL-URL:https://seniorocity.com.au
X-WR-CALDESC:Events for Seniorocity - Seniors / Over 55&#039;s Guide to Perth
REFRESH-INTERVAL;VALUE=DURATION:PT1H
X-Robots-Tag:noindex
X-PUBLISHED-TTL:PT1H
BEGIN:VTIMEZONE
TZID:Australia/Perth
BEGIN:STANDARD
TZOFFSETFROM:+0800
TZOFFSETTO:+0800
TZNAME:AWST
DTSTART:20250101T000000
END:STANDARD
END:VTIMEZONE
BEGIN:VEVENT
DTSTART;TZID=Australia/Perth:20260425T073000
DTEND;TZID=Australia/Perth:20260425T113000
DTSTAMP:20260422T125844
CREATED:20250116T100628Z
LAST-MODIFIED:20260102T105157Z
UID:10859812-1777102200-1777116600@seniorocity.com.au
SUMMARY:Mount Claremont Farmers Market
DESCRIPTION:The Market now has up to 55 stalls each week and is governed by a Charter that ensures high quality\, predominantly grower direct produce.  The range of produce includes fruits\, vegetables and herbs\, baked goods\, artisan pantry items\, meat\, poultry\, seafood and pastured eggs.  We have a selection of hot food and drink stalls\, as well as stalls selling natural body and cleaning products\, handmade homewares\, and plants and flowers.
URL:https://seniorocity.com.au/whats-on-perth/mount-claremont-farmers-market/2026-04-25/
LOCATION:Mount Claremont Primary School\, 103 Alfred Road\, Mount Claremont\, WA\, 6010\, Australia
CATEGORIES:Community Event,Free,Markets
ATTACH;FMTTYPE=image/png:https://seniorocity.com.au/wp-content/uploads/2025/01/Mount-Claremont-Farmers-Market.png
END:VEVENT
END:VCALENDAR