BEGIN:VCALENDAR
VERSION:2.0
PRODID:-//Seniorocity - Seniors / Over 55&#039;s Guide to Perth - ECPv6.15.11//NONSGML v1.0//EN
CALSCALE:GREGORIAN
METHOD:PUBLISH
X-WR-CALNAME:Seniorocity - Seniors / Over 55&#039;s Guide to Perth
X-ORIGINAL-URL:https://seniorocity.com.au
X-WR-CALDESC:Events for Seniorocity - Seniors / Over 55&#039;s Guide to Perth
REFRESH-INTERVAL;VALUE=DURATION:PT1H
X-Robots-Tag:noindex
X-PUBLISHED-TTL:PT1H
BEGIN:VTIMEZONE
TZID:Australia/Perth
BEGIN:STANDARD
TZOFFSETFROM:+0800
TZOFFSETTO:+0800
TZNAME:AWST
DTSTART:20250101T000000
END:STANDARD
END:VTIMEZONE
BEGIN:VEVENT
DTSTART;TZID=Australia/Perth:20260420T100000
DTEND;TZID=Australia/Perth:20260420T160000
DTSTAMP:20260421T010506
CREATED:20260316T134656Z
LAST-MODIFIED:20260316T134656Z
UID:10864394-1776679200-1776700800@seniorocity.com.au
SUMMARY:Water stories at Mount Flora Museum
DESCRIPTION:Explore thousands of years of history in Water stories\, a new exhibit exploring how changing water use has shaped the landscape\, industries\, people\, culture\, and identity of the City of Stirling. \nDiscover stories including Kep Katitjin – Indigenous water knowledge\, traditional water use and fish traps\, shipwrecks\, whaling\, droving\, market gardens\, beach and surf culture\, sustainability\, and more. \nVisit the Mount Flora Regional Museum\, which is housed inside a historic water tank located in Waterman’s Bay between the Indian Ocean and Star Swamp\, every Wednesday from April onwards between 10.00am – 4.00pm. \nEntry is a gold coin donation. \nAccessibility: The museum site is wheelchair accessible\, but the mezzanine floor and the rooftop have stair access only. \nParking: There is limited parking located at the top of the driveway; please park on the grassed area at the bottom of the driveway\, on the left as you enter through the gate from Elvire Street. \nFor more information\, contact Stirling Community History on (08) 9205 7455 or email community.history@stirling.wa.gov.au \nImage source: Market garden trolley tracks heading into Gwelup Lake\, c1935. City of Stirling Art and History Collection.
URL:https://seniorocity.com.au/whats-on-perth/water-stories-at-mount-flora-museum/2026-04-20/
LOCATION:Mount Flora Regional Museum\, Elvire Street\, Watermans Bay\, WA\, 6020\, Australia
CATEGORIES:Museum,School holiday events
ATTACH;FMTTYPE=image/jpeg:https://seniorocity.com.au/wp-content/uploads/2026/03/Water-stories-at-Mount-Flora-Museum.jpg
END:VEVENT
END:VCALENDAR