BEGIN:VCALENDAR
VERSION:2.0
PRODID:-//Seniorocity - Seniors / Over 55&#039;s Guide to Perth - ECPv6.15.11//NONSGML v1.0//EN
CALSCALE:GREGORIAN
METHOD:PUBLISH
X-WR-CALNAME:Seniorocity - Seniors / Over 55&#039;s Guide to Perth
X-ORIGINAL-URL:https://seniorocity.com.au
X-WR-CALDESC:Events for Seniorocity - Seniors / Over 55&#039;s Guide to Perth
REFRESH-INTERVAL;VALUE=DURATION:PT1H
X-Robots-Tag:noindex
X-PUBLISHED-TTL:PT1H
BEGIN:VTIMEZONE
TZID:Australia/Perth
BEGIN:STANDARD
TZOFFSETFROM:+0800
TZOFFSETTO:+0800
TZNAME:AWST
DTSTART:20250101T000000
END:STANDARD
END:VTIMEZONE
BEGIN:VEVENT
DTSTART;TZID=Australia/Perth:20260423T100000
DTEND;TZID=Australia/Perth:20260423T113000
DTSTAMP:20260422T184615
CREATED:20260108T145807Z
LAST-MODIFIED:20260108T145807Z
UID:10861207-1776938400-1776943800@seniorocity.com.au
SUMMARY:Knit 'n' Yarn - Thursdays
DESCRIPTION:Knitting\, crochet or needlecraft – bring your project\, share ideas or learn something new with this friendly bunch of crafters! \nFrom beginners to experienced knitters\, no bookings required\, all are welcome. \n 
URL:https://seniorocity.com.au/whats-on-perth/knit-n-yarn-thursdays/2026-04-23/
LOCATION:Murray Library\, Pinjarra Road\, Pinjarra\, WA\, 6208\, Australia
CATEGORIES:Craft,Free,Knitting
ATTACH;FMTTYPE=image/png:https://seniorocity.com.au/wp-content/uploads/2026/01/Knit-n-Yarn-Thursdays.png
END:VEVENT
BEGIN:VEVENT
DTSTART;TZID=Australia/Perth:20260423T140000
DTEND;TZID=Australia/Perth:20260423T150000
DTSTAMP:20260422T184615
CREATED:20250116T103431Z
LAST-MODIFIED:20250116T103431Z
UID:10017450-1776952800-1776956400@seniorocity.com.au
SUMMARY:Digital Drop-In
DESCRIPTION:Need some help with your phone or tablet? \nWant to learn new digital skills? Get online or master your smartphone? \nThis is the group for you! \n\nBring your device along to our free Digital Drop-In every Thursday\, 2pm – 3pm at Murray Library. \nAll welcome! No need to register.
URL:https://seniorocity.com.au/whats-on-perth/digital-drop-in/2026-04-23/
LOCATION:Murray Library\, Pinjarra Road\, Pinjarra\, WA\, 6208\, Australia
CATEGORIES:Free,Library Events,Tech
ATTACH;FMTTYPE=image/png:https://seniorocity.com.au/wp-content/uploads/2025/01/Digital-Drop-In.png
END:VEVENT
BEGIN:VEVENT
DTSTART;TZID=Australia/Perth:20260424T100000
DTEND;TZID=Australia/Perth:20260424T110000
DTSTAMP:20260422T184615
CREATED:20250116T102251Z
LAST-MODIFIED:20250116T102251Z
UID:10017367-1777024800-1777028400@seniorocity.com.au
SUMMARY:Knit 'n' Yarn - Thursday
DESCRIPTION:Knitting\, crochet or needlecraft – bring your project\, share ideas or learn something new with this friendly bunch of crafters! \nFrom beginners to experienced knitters\, no bookings required\, all are welcome.
URL:https://seniorocity.com.au/whats-on-perth/knit-n-yarn-thursday/2026-04-24/
LOCATION:Murray Library\, Pinjarra Road\, Pinjarra\, WA\, 6208\, Australia
CATEGORIES:Free,Knitting,Library Events
ATTACH;FMTTYPE=image/png:https://seniorocity.com.au/wp-content/uploads/2025/01/Knit-n-Yarn-Thursday.png
END:VEVENT
BEGIN:VEVENT
DTSTART;TZID=Australia/Perth:20260428T100000
DTEND;TZID=Australia/Perth:20260428T120000
DTSTAMP:20260422T184615
CREATED:20260109T135452Z
LAST-MODIFIED:20260109T135452Z
UID:10861299-1777370400-1777377600@seniorocity.com.au
SUMMARY:The Write Stuff
DESCRIPTION:A creative writing group that meets fortnightly every 2nd Tuesday from 10:00am to 12:00pm in the Murray Library. \nThis is a self-led group that shares the progress of their work (including short stories\, novellas\, and novels) in a supportive environment\, and offers feedback to those who request it. In the meetings\, the group uses writing prompts\, undertakes writing sprints\, and voluntarily sets their own personal homework tasks to assist with the progress of their individual projects. \nContact the library if you are interested in joining!
URL:https://seniorocity.com.au/whats-on-perth/the-write-stuff/2026-04-28/
LOCATION:Murray Library\, Pinjarra Road\, Pinjarra\, WA\, 6208\, Australia
CATEGORIES:Free,Library Events,Writers Groups
ATTACH;FMTTYPE=image/png:https://seniorocity.com.au/wp-content/uploads/2026/01/The-Write-Stuff.png
END:VEVENT
BEGIN:VEVENT
DTSTART;TZID=Australia/Perth:20260429T130000
DTEND;TZID=Australia/Perth:20260429T140000
DTSTAMP:20260422T184615
CREATED:20250116T101902Z
LAST-MODIFIED:20250116T101902Z
UID:10017288-1777467600-1777471200@seniorocity.com.au
SUMMARY:Knit 'n' Yarn - Wednesdays
DESCRIPTION:Knitting\, crochet or needlecraft – bring your project\, share ideas or learn something new with this friendly bunch of crafters! \nFrom beginners to experienced knitters\, no bookings required\, all are welcome.
URL:https://seniorocity.com.au/whats-on-perth/knit-n-yarn-wednesdays/2026-04-29/
LOCATION:Murray Library\, Pinjarra Road\, Pinjarra\, WA\, 6208\, Australia
CATEGORIES:Free,Knitting,Library Events
ATTACH;FMTTYPE=image/png:https://seniorocity.com.au/wp-content/uploads/2025/01/Knit-n-Yarn-Wednesdays.png
END:VEVENT
BEGIN:VEVENT
DTSTART;TZID=Australia/Perth:20260429T130000
DTEND;TZID=Australia/Perth:20260429T150000
DTSTAMP:20260422T184615
CREATED:20260108T152224Z
LAST-MODIFIED:20260108T152224Z
UID:10861258-1777467600-1777474800@seniorocity.com.au
SUMMARY:Knit 'n' Yarn - Wednesdays
DESCRIPTION:Knitting\, crochet or needlecraft – bring your project\, share ideas or learn something new with this friendly bunch of crafters! \nFrom beginners to experienced knitters\, no bookings required\, all are welcome.
URL:https://seniorocity.com.au/whats-on-perth/knit-n-yarn-wednesdays-2/2026-04-29/
LOCATION:Murray Library\, Pinjarra Road\, Pinjarra\, WA\, 6208\, Australia
CATEGORIES:Free,Knitting
ATTACH;FMTTYPE=image/png:https://seniorocity.com.au/wp-content/uploads/2026/01/Knit-n-Yarn-Wednesdays.png
END:VEVENT
END:VCALENDAR