BEGIN:VCALENDAR
VERSION:2.0
PRODID:-//Seniorocity - Seniors / Over 55&#039;s Guide to Perth - ECPv6.15.11//NONSGML v1.0//EN
CALSCALE:GREGORIAN
METHOD:PUBLISH
X-ORIGINAL-URL:https://seniorocity.com.au
X-WR-CALDESC:Events for Seniorocity - Seniors / Over 55&#039;s Guide to Perth
REFRESH-INTERVAL;VALUE=DURATION:PT1H
X-Robots-Tag:noindex
X-PUBLISHED-TTL:PT1H
BEGIN:VTIMEZONE
TZID:Australia/Perth
BEGIN:STANDARD
TZOFFSETFROM:+0800
TZOFFSETTO:+0800
TZNAME:AWST
DTSTART:20250101T000000
END:STANDARD
END:VTIMEZONE
BEGIN:VEVENT
DTSTART;TZID=Australia/Perth:20260408T193000
DTEND;TZID=Australia/Perth:20260408T210000
DTSTAMP:20260421T192216
CREATED:20260215T141057Z
LAST-MODIFIED:20260215T141057Z
UID:10863650-1775676600-1775682000@seniorocity.com.au
SUMMARY:The singing circle Fremantle
DESCRIPTION:A safe place for people to meet and sing. \n\n\nSing for the love of it\, for the fun of it\, to feed your soul and let our songs do the talking. \nNo performances\, just a safe space to explore your voice and sing. No experience or skill necessary\, just enthusiasm! \nFREE! Bookings required. \n 
URL:https://seniorocity.com.au/whats-on-perth/the-singing-circle-fremantle/2026-04-08/
LOCATION:North Fremantle Community Hall\, 2 Thompson Road\, North Fremantle\, WA\, 6159\, Australia
CATEGORIES:Free,Meet New People,Music Event,Social
ATTACH;FMTTYPE=image/jpeg:https://seniorocity.com.au/wp-content/uploads/2026/02/The-singing-circle-Fremantle.jpg
END:VEVENT
BEGIN:VEVENT
DTSTART;TZID=Australia/Perth:20260204T190000
DTEND;TZID=Australia/Perth:20260204T210000
DTSTAMP:20260421T192216
CREATED:20260104T061032Z
LAST-MODIFIED:20260104T061032Z
UID:10860352-1770231600-1770238800@seniorocity.com.au
SUMMARY:Freo Men’s Group
DESCRIPTION:Here is an invitation for Men seeking a deeper connection. Freo Men’s Group offers a safe\, confidential\, non-judgmental space\, where you can be seen and heard. Mateship is sharing\, supporting and learning\, as we navigate the loves and the challenges in life. Men in a circle is a timeless practice\, come join us. \nWednesdays: 7 January + 4 February 2026 \nFor more info and to book please call Men’s Health & Wellbeing WA on 0499 076 925
URL:https://seniorocity.com.au/whats-on-perth/freo-mens-group-2/2026-02-04/
LOCATION:North Fremantle Community Hall\, 2 Thompson Road\, North Fremantle\, WA\, 6159\, Australia
CATEGORIES:Free,Health,Social,Social event
ATTACH;FMTTYPE=image/jpeg:https://seniorocity.com.au/wp-content/uploads/2026/01/Freo-Mens-Group.jpg
END:VEVENT
END:VCALENDAR