BEGIN:VCALENDAR
VERSION:2.0
PRODID:-//Seniorocity - Seniors / Over 55&#039;s Guide to Perth - ECPv6.15.11//NONSGML v1.0//EN
CALSCALE:GREGORIAN
METHOD:PUBLISH
X-WR-CALNAME:Seniorocity - Seniors / Over 55&#039;s Guide to Perth
X-ORIGINAL-URL:https://seniorocity.com.au
X-WR-CALDESC:Events for Seniorocity - Seniors / Over 55&#039;s Guide to Perth
REFRESH-INTERVAL;VALUE=DURATION:PT1H
X-Robots-Tag:noindex
X-PUBLISHED-TTL:PT1H
BEGIN:VTIMEZONE
TZID:Australia/Perth
BEGIN:STANDARD
TZOFFSETFROM:+0800
TZOFFSETTO:+0800
TZNAME:AWST
DTSTART:20250101T000000
END:STANDARD
END:VTIMEZONE
BEGIN:VEVENT
DTSTART;TZID=Australia/Perth:20260513T193000
DTEND;TZID=Australia/Perth:20260513T210000
DTSTAMP:20260421T174827
CREATED:20260215T141057Z
LAST-MODIFIED:20260215T141057Z
UID:10863651-1778700600-1778706000@seniorocity.com.au
SUMMARY:The singing circle Fremantle
DESCRIPTION:A safe place for people to meet and sing. \n\n\nSing for the love of it\, for the fun of it\, to feed your soul and let our songs do the talking. \nNo performances\, just a safe space to explore your voice and sing. No experience or skill necessary\, just enthusiasm! \nFREE! Bookings required. \n 
URL:https://seniorocity.com.au/whats-on-perth/the-singing-circle-fremantle/2026-05-13/
LOCATION:North Fremantle Community Hall\, 2 Thompson Road\, North Fremantle\, WA\, 6159\, Australia
CATEGORIES:Free,Meet New People,Music Event,Social
ATTACH;FMTTYPE=image/jpeg:https://seniorocity.com.au/wp-content/uploads/2026/02/The-singing-circle-Fremantle.jpg
END:VEVENT
END:VCALENDAR