BEGIN:VCALENDAR
VERSION:2.0
PRODID:-//Seniorocity - Seniors / Over 55&#039;s Guide to Perth - ECPv6.15.11//NONSGML v1.0//EN
CALSCALE:GREGORIAN
METHOD:PUBLISH
X-ORIGINAL-URL:https://seniorocity.com.au
X-WR-CALDESC:Events for Seniorocity - Seniors / Over 55&#039;s Guide to Perth
REFRESH-INTERVAL;VALUE=DURATION:PT1H
X-Robots-Tag:noindex
X-PUBLISHED-TTL:PT1H
BEGIN:VTIMEZONE
TZID:Australia/Perth
BEGIN:STANDARD
TZOFFSETFROM:+0800
TZOFFSETTO:+0800
TZNAME:AWST
DTSTART:20250101T000000
END:STANDARD
END:VTIMEZONE
BEGIN:VEVENT
DTSTART;TZID=Australia/Perth:20260321T160000
DTEND;TZID=Australia/Perth:20260321T200000
DTSTAMP:20260423T031226
CREATED:20260216T144314Z
LAST-MODIFIED:20260216T144314Z
UID:10863669-1774108800-1774123200@seniorocity.com.au
SUMMARY:Festival of Culture
DESCRIPTION:The Festival of Culture is all about celebrating different cultures and linguistically diverse backgrounds. \nTake part\, tell stories\, learn and connect through a wide range of activations: \n\nNon-stop stage entertainment and cultural performances\nConnect with local multicultural organisations\nActivities from different cultures\nFoods stalls from around the world\n\nEnjoy a wide range of free activities: \n\nDamper making workshops (register your spot on the day)\nCraft workshops like lantern making\, totem weaving and origami\nHenna tattoos\, face painting and more\n\nGrab dinner from: \n\nMr Goz\nWally’s Tacos\nKasama’s Thai Kitchen\nGelato Monkey\n\nWith the Festival of Culture at the heart of Harmony Week\, everyone is welcome and we encourage you to wear traditional dress to celebrate your history. \nThe Festival of Culture is proudly supported by Lotterywest.
URL:https://seniorocity.com.au/whats-on-perth/festival-of-culture/
LOCATION:North Perth Town Hall\, 26 View Street\, North Perth\, Australia
CATEGORIES:Community Event,Family Event,Festival,Food Trucks,Free,Harmony Week
ATTACH;FMTTYPE=image/jpeg:https://seniorocity.com.au/wp-content/uploads/2026/02/Festival-of-Culture.jpg
GEO:-31.93145;115.85647
X-APPLE-STRUCTURED-LOCATION;VALUE=URI;X-ADDRESS=North Perth Town Hall 26 View Street North Perth Australia;X-APPLE-RADIUS=500;X-TITLE=26 View Street:geo:115.85647,-31.93145
END:VEVENT
BEGIN:VEVENT
DTSTART;TZID=Australia/Perth:20260301T080000
DTEND;TZID=Australia/Perth:20260301T120000
DTSTAMP:20260423T031226
CREATED:20260113T144207Z
LAST-MODIFIED:20260113T144207Z
UID:10861657-1772352000-1772366400@seniorocity.com.au
SUMMARY:Perth Pre Loved Market
DESCRIPTION:Perth Pre Loved Market – Perth’s destination for elevated pre-loved fashion. \nPerth’s newest fashion market\, running the first Sunday of every month at the North Perth Town Hall. \nExplore quality pre-loved designer apparel and accessories from the wardrobes of Perth’s fashion lovers. \nThis market encourages a circular fashion economy\, celebrates slow fashion and women supporting women. Any unsold items can be donated to their associated charity\, Dress for Success WA. \nSUNDAY 1ST FEBRUARY 2026\, 8AM – 12PM. \nWhat can I expect? \nExpect friendly faces\, effortless style\, and a collection of quality pre-loved pieces from Perth’s most fashionable wardrobes. \nWhat time should I visit? \n8am Early bird gets…. the Zimmermann dress! \n10am the crowds should have calmed down. \n11am great time to grab a bargain\, stall holders will be wheeling and dealing to move their stock. \nFor more information on session times and tickets\, visit: Home | Perth Pre Loved \nThis event is delivered by Perth Pre Loved.
URL:https://seniorocity.com.au/whats-on-perth/perth-pre-loved-market/2026-03-01/
LOCATION:North Perth Town Hall\, 26 View Street\, North Perth\, Australia
CATEGORIES:Markets
ATTACH;FMTTYPE=image/jpeg:https://seniorocity.com.au/wp-content/uploads/2026/01/Perth-Pre-Loved-Market.jpg
GEO:-31.93145;115.85647
X-APPLE-STRUCTURED-LOCATION;VALUE=URI;X-ADDRESS=North Perth Town Hall 26 View Street North Perth Australia;X-APPLE-RADIUS=500;X-TITLE=26 View Street:geo:115.85647,-31.93145
END:VEVENT
END:VCALENDAR