BEGIN:VCALENDAR
VERSION:2.0
PRODID:-//Seniorocity - Seniors / Over 55&#039;s Guide to Perth - ECPv6.15.11//NONSGML v1.0//EN
CALSCALE:GREGORIAN
METHOD:PUBLISH
X-WR-CALNAME:Seniorocity - Seniors / Over 55&#039;s Guide to Perth
X-ORIGINAL-URL:https://seniorocity.com.au
X-WR-CALDESC:Events for Seniorocity - Seniors / Over 55&#039;s Guide to Perth
REFRESH-INTERVAL;VALUE=DURATION:PT1H
X-Robots-Tag:noindex
X-PUBLISHED-TTL:PT1H
BEGIN:VTIMEZONE
TZID:Australia/Perth
BEGIN:STANDARD
TZOFFSETFROM:+0800
TZOFFSETTO:+0800
TZNAME:AWST
DTSTART:20250101T000000
END:STANDARD
END:VTIMEZONE
BEGIN:VEVENT
DTSTART;TZID=Australia/Perth:20260510T113000
DTEND;TZID=Australia/Perth:20260510T133000
DTSTAMP:20260421T032509
CREATED:20260416T070226Z
LAST-MODIFIED:20260416T070226Z
UID:10865802-1778412600-1778419800@seniorocity.com.au
SUMMARY:Mother’s Day Bottomless Brunch 2026
DESCRIPTION:Spend quality time with mum from 11:30am to 1:30pm on Sunday\, 10 May with a buffet breakfast paired with an assortment of free flowing Tanqueray Gin cocktails.\n\nDine on delights including freshly baked pastries\, gourmet cheeses potato rostis\, and mini duck wellingtons\, as well as treats with an Asian twist such as seafood dumplings\, pork buns and a live roti cooking station!\n\nAll of these breakfast goodies come with bottomless spritz cocktails featuring Tanqueray Gin\, adding an extra touch of decadence to your time with mum.\n\nIf you’re looking to enjoy your bottomless brunch with no alcohol\, there will be non-alcoholic drinks available. Enjoy a selection of assorted fruit juices\, soft drinks and hot beverages including hot chocolate and Nespresso coffee.\n\nVisit Website
URL:https://seniorocity.com.au/whats-on-perth/mothers-day-bottomless-brunch-2026/
LOCATION:Novotel Perth Murray Street\, 388 Murray Street\, Perth\, WA\, 6000\, Australia
CATEGORIES:Mother's Day
ATTACH;FMTTYPE=image/webp:https://seniorocity.com.au/wp-content/uploads/2026/04/Mothers-Day-Bottomless-Brunch-2026.webp
END:VEVENT
END:VCALENDAR