BEGIN:VCALENDAR
VERSION:2.0
PRODID:-//Seniorocity - Seniors / Over 55&#039;s Guide to Perth - ECPv6.15.11//NONSGML v1.0//EN
CALSCALE:GREGORIAN
METHOD:PUBLISH
X-WR-CALNAME:Seniorocity - Seniors / Over 55&#039;s Guide to Perth
X-ORIGINAL-URL:https://seniorocity.com.au
X-WR-CALDESC:Events for Seniorocity - Seniors / Over 55&#039;s Guide to Perth
REFRESH-INTERVAL;VALUE=DURATION:PT1H
X-Robots-Tag:noindex
X-PUBLISHED-TTL:PT1H
BEGIN:VTIMEZONE
TZID:Australia/Perth
BEGIN:STANDARD
TZOFFSETFROM:+0800
TZOFFSETTO:+0800
TZNAME:AWST
DTSTART:20250101T000000
END:STANDARD
END:VTIMEZONE
BEGIN:VEVENT
DTSTART;TZID=Australia/Perth:20260510T070000
DTEND;TZID=Australia/Perth:20260510T150000
DTSTAMP:20260423T102739
CREATED:20260422T135103Z
LAST-MODIFIED:20260422T135103Z
UID:10866093-1778396400-1778425200@seniorocity.com.au
SUMMARY:Mother’s Day at Pagoda Resort & Spa
DESCRIPTION:Sunday 10 May 2026 | Historic Ballroom | Buffet Breakfast 7am – 10am | Lunch 12pm – 3pm\nCelebrate Mother’s Day at Pagoda Resort & Spa\, where delicious food and relaxed dining come together to create the perfect way to celebrate.\nStart the day with our Mother’s Day Buffet Breakfast\, featuring a generous spread of breakfast favourites alongside a selection of special dishes. From freshly baked pastries and seasonal fruits to hearty hot breakfast classics\, it’s the perfect way to begin a day dedicated to Mum.\nFor those celebrating later in the day\, our Mother’s Day Lunch offers a relaxed grazing-style dining experience designed to be shared. Indulge in a selection of beautifully presented platters\, including premium seafood\, succulent roasts\, artisan charcuterie and a selection of cheeses\, all thoughtfully prepared to bring everyone together around the table.\nWhether you’re joining us for a morning treat or a leisurely lunch\, Mother’s Day at Pagoda is all about great food\, wonderful company and celebrating Mum in style.
URL:https://seniorocity.com.au/whats-on-perth/mothers-day-at-pagoda-resort-spa/
LOCATION:Pagoda Resort & Spa\, 112 Melville Parade\, Como\, WA\, 6152\, Australia
CATEGORIES:Mother's Day
ATTACH;FMTTYPE=image/jpeg:https://seniorocity.com.au/wp-content/uploads/2026/04/Mothers-Day-2026-@-Pagoda.jpg
END:VEVENT
END:VCALENDAR