BEGIN:VCALENDAR
VERSION:2.0
PRODID:-//Seniorocity - Seniors / Over 55&#039;s Guide to Perth - ECPv6.15.11//NONSGML v1.0//EN
CALSCALE:GREGORIAN
METHOD:PUBLISH
X-ORIGINAL-URL:https://seniorocity.com.au
X-WR-CALDESC:Events for Seniorocity - Seniors / Over 55&#039;s Guide to Perth
REFRESH-INTERVAL;VALUE=DURATION:PT1H
X-Robots-Tag:noindex
X-PUBLISHED-TTL:PT1H
BEGIN:VTIMEZONE
TZID:Australia/Perth
BEGIN:STANDARD
TZOFFSETFROM:+0800
TZOFFSETTO:+0800
TZNAME:AWST
DTSTART:20250101T000000
END:STANDARD
END:VTIMEZONE
BEGIN:VEVENT
DTSTART;TZID=Australia/Perth:20260509T133000
DTEND;TZID=Australia/Perth:20260509T163000
DTSTAMP:20260423T070105
CREATED:20260422T142505Z
LAST-MODIFIED:20260422T142505Z
UID:10866097-1778333400-1778344200@seniorocity.com.au
SUMMARY:Mother's Day High Tea
DESCRIPTION:Make Mum’s day truly special with Pan Pacific Perth’s signature Asian-inspired Mother’s Day High Tea\, hosted at the intimate and stylish Más Vino.\n\nSavour a beautifully curated selection of handcrafted sweet and savoury delights\, thoughtfully created with premium Western Australian produce and delicate Asian influencer. Paired with your choice of premium Dilmah loose-leaf teas\, filtered coffee\, or free-flowing Cloak & Dagger Prosecco\, this is an afternoon designed for connection\, indulgence and celebration.\n\nAvailable from 1:30pm to 4:30pm on Saturday 9 May and Sunday 10 May 2026\, with seating times offered at 1:30pm\, 2:00pm\, 2:30pm and 3:00pm for a 90-minute experience.\n\n• High Tea with free‑flowing premium Dilmah Tea and filtered coffee – AUD 85.00 per person• High Tea with free‑flowing Cloak & Dagger Prosecco\, plus premium Dilmah Tea and filtered coffee – AUD 115.00 per person• Children’s High Tea (4-12 years) – AUD 49.00 per child\n\nFind out more and reserve your place at this link – https://panpacificperth.events/3Q2ptLV.
URL:https://seniorocity.com.au/whats-on-perth/mothers-day-high-tea-3/2026-05-09/
LOCATION:Pan Pacific Perth\, 207 Adelaide Terrace\, Perth\, WA\, 6000\, Australia
CATEGORIES:Mother's Day
ATTACH;FMTTYPE=image/jpeg:https://seniorocity.com.au/wp-content/uploads/2026/04/Mothers-Day-High-Tea-@-Pan-Pacific.jpg
END:VEVENT
END:VCALENDAR