BEGIN:VCALENDAR
VERSION:2.0
PRODID:-//Seniorocity - Seniors / Over 55&#039;s Guide to Perth - ECPv6.15.11//NONSGML v1.0//EN
CALSCALE:GREGORIAN
METHOD:PUBLISH
X-ORIGINAL-URL:https://seniorocity.com.au
X-WR-CALDESC:Events for Seniorocity - Seniors / Over 55&#039;s Guide to Perth
REFRESH-INTERVAL;VALUE=DURATION:PT1H
X-Robots-Tag:noindex
X-PUBLISHED-TTL:PT1H
BEGIN:VTIMEZONE
TZID:Australia/Perth
BEGIN:STANDARD
TZOFFSETFROM:+0800
TZOFFSETTO:+0800
TZNAME:AWST
DTSTART:20250101T000000
END:STANDARD
END:VTIMEZONE
BEGIN:VEVENT
DTSTART;TZID=Australia/Perth:20260510T090000
DTEND;TZID=Australia/Perth:20260510T170000
DTSTAMP:20260423T102118
CREATED:20260422T131318Z
LAST-MODIFIED:20260422T131318Z
UID:10866090-1778403600-1778432400@seniorocity.com.au
SUMMARY:Mother's Day at Perth Zoo
DESCRIPTION:Make magical memories with mum at Perth Zoo this Mother’s Day\, right in the heart of South Perth. \nWhether mum loves furry\, feathered\, or scaly friends\, Perth Zoo has everything you need to make her day truly special. \nWhy visit Perth Zoo on Mother’s Day? \n\nEnjoy free entry for mums\nBook a delicious Mother’s Day lunch at The Maali\nTake part in unique Close Encounters\nPick up a special Mother’s Day gift pack\n\n  \nFREE Zoo entry for all Mums – Sunday 10 May 2026 \nGive mum the gift of a wild adventure!\nAll mums enjoy FREE entry to Perth Zoo on Mother’s Day\, 10 May 2026. \nPre-purchase your tickets for the rest of the family
URL:https://seniorocity.com.au/whats-on-perth/mothers-day-at-perth-zoo/
LOCATION:Perth Zoo\, 20 Labouchere Road\, South Perth\, Australia
CATEGORIES:Family Event,Mother's Day
ATTACH;FMTTYPE=image/jpeg:https://seniorocity.com.au/wp-content/uploads/2026/04/Mothers-Day-at-Perth-Zoo.jpg
GEO:-31.974049;115.851136
X-APPLE-STRUCTURED-LOCATION;VALUE=URI;X-ADDRESS=Perth Zoo 20 Labouchere Road South Perth Australia;X-APPLE-RADIUS=500;X-TITLE=20 Labouchere Road:geo:115.851136,-31.974049
END:VEVENT
END:VCALENDAR