BEGIN:VCALENDAR
VERSION:2.0
PRODID:-//Seniorocity - Seniors / Over 55&#039;s Guide to Perth - ECPv6.15.11//NONSGML v1.0//EN
CALSCALE:GREGORIAN
METHOD:PUBLISH
X-ORIGINAL-URL:https://seniorocity.com.au
X-WR-CALDESC:Events for Seniorocity - Seniors / Over 55&#039;s Guide to Perth
REFRESH-INTERVAL;VALUE=DURATION:PT1H
X-Robots-Tag:noindex
X-PUBLISHED-TTL:PT1H
BEGIN:VTIMEZONE
TZID:Australia/Perth
BEGIN:STANDARD
TZOFFSETFROM:+0800
TZOFFSETTO:+0800
TZNAME:AWST
DTSTART:20250101T000000
END:STANDARD
END:VTIMEZONE
BEGIN:VEVENT
DTSTART;TZID=Australia/Perth:20260530T120000
DTEND;TZID=Australia/Perth:20260530T210000
DTSTAMP:20260421T002928
CREATED:20260418T160012Z
LAST-MODIFIED:20260418T160012Z
UID:10866000-1780142400-1780174800@seniorocity.com.au
SUMMARY:Perth Eid festival
DESCRIPTION:Join us celebrating Eid\, a key day for many Western Australians\, in a family-friendly environment with community spirit\, multicultural food\, performances and rides
URL:https://seniorocity.com.au/whats-on-perth/perth-eid-festival/
LOCATION:Princess Wallington Reserve\, 50 Wallington Road\, Balga\, WA\, 6050\, Australia
CATEGORIES:Community Event,Family Event,Festival,Free
ATTACH;FMTTYPE=image/png:https://seniorocity.com.au/wp-content/uploads/2026/04/Perth-Eid-festival.png
END:VEVENT
END:VCALENDAR