BEGIN:VCALENDAR
VERSION:2.0
PRODID:-//Seniorocity - Seniors / Over 55&#039;s Guide to Perth - ECPv6.15.11//NONSGML v1.0//EN
CALSCALE:GREGORIAN
METHOD:PUBLISH
X-WR-CALNAME:Seniorocity - Seniors / Over 55&#039;s Guide to Perth
X-ORIGINAL-URL:https://seniorocity.com.au
X-WR-CALDESC:Events for Seniorocity - Seniors / Over 55&#039;s Guide to Perth
REFRESH-INTERVAL;VALUE=DURATION:PT1H
X-Robots-Tag:noindex
X-PUBLISHED-TTL:PT1H
BEGIN:VTIMEZONE
TZID:Australia/Perth
BEGIN:STANDARD
TZOFFSETFROM:+0800
TZOFFSETTO:+0800
TZNAME:AWST
DTSTART:20250101T000000
END:STANDARD
END:VTIMEZONE
BEGIN:VEVENT
DTSTART;TZID=Australia/Perth:20260510T080000
DTEND;TZID=Australia/Perth:20260510T110000
DTSTAMP:20260423T140939
CREATED:20260422T113525Z
LAST-MODIFIED:20260422T114642Z
UID:10866059-1778400000-1778410800@seniorocity.com.au
SUMMARY:Mother's Day Buffet Breakfast at Rendezvous
DESCRIPTION:Celebrate mum with a delightful variety of food and astonishing views of the Indian Ocean.\n\n\nMother’s Day Buffet Breakfast at Rendezvous Scarborough \nMake this occasion truly special with a delightful buffet breakfast overlooking the breathtaking Indian Ocean. Gather your family and indulge in a wide array of breakfast favorites\, from fresh seasonal fruits to golden\, fluffy pancakes and more. \nEnjoy the serene coastal views at Rendezvous Hotel Scarborough as you savour a carefully curated selection of morning delights\, celebrating Mother’s Day with a degustative experience. For coffee aficionados\, our skilled baristas will be serving expertly crafted brews\, all included in the cost of your ticket. \nTo add an extra touch of appreciation\, every mum will receive a small complimentary gift. \nTo finalize the event\, consider adding a mimosa cocktail and enjoying a peaceful moment with your loved ones. \n📅 Date: Mother’s Day\, 10th May 2026📍 Location: Rendezvous Hotel Scarborough\, Mentelle Room⏰ Time: 8am – 11am🎟 Bookings Essential🎁 Gift for Mum☕ Barista coffees included \nPricing:Adult (+13): $49Child: (4-12): $20Child (U3): Free \n🍹 Add a mimosa to the reservation for $13 (per cocktail). \nDue to the high demand for this event\, bookings are limited and expected to sell out quickly. Secure your spot for an unforgettable Mother’s Day celebration filled with love\, laughter\, and a feast for the senses. \nMOTHER’S DAY BREAKFAST MENU \nBarista made coffe. \nMake Your Own Eggs Benny Station with a variety of ingredients like ham\, smoked salmon\, baby spinach\, English muffins\, hollandaise sauce. \nHot Buffet: Bacon\, beef chipolatas\, hash browns\, homemade baked beans\, sautéed mushrooms with garlic and herbs\, grilled tomatoes with thyme\, scrambled free-range eggs. \nCold Buffet: Fresh fruit selection\, poached fruits\, greek yoghurt\, natural muesli\, bircher muesli\, mixed berry smoothies\, chia pudding. Selection of cured meats and cheese. \nAssorted fruits\, seeds and a variety of cereals\, and more. \nMimosa cocktail available +$13 (each). \nWhen purchasing tickets please be aware you are securing a table for the amount of tickets purchased. Tickets cannot be combined after sale to form tables.
URL:https://seniorocity.com.au/whats-on-perth/mothers-day-buffet-breakfast-at-rendezvous/
LOCATION:Rendezvous Hotel Perth Scarborough\, 148 The Esplanade\, Scarborough\, WA\, 6019\, Australia
CATEGORIES:Mother's Day
ATTACH;FMTTYPE=image/jpeg:https://seniorocity.com.au/wp-content/uploads/2026/04/d5f5b292c6f1b2a30e25c1c4b00fcf6d.jpg
END:VEVENT
END:VCALENDAR