BEGIN:VCALENDAR
VERSION:2.0
PRODID:-//Seniorocity - Seniors / Over 55&#039;s Guide to Perth - ECPv6.15.11//NONSGML v1.0//EN
CALSCALE:GREGORIAN
METHOD:PUBLISH
X-WR-CALNAME:Seniorocity - Seniors / Over 55&#039;s Guide to Perth
X-ORIGINAL-URL:https://seniorocity.com.au
X-WR-CALDESC:Events for Seniorocity - Seniors / Over 55&#039;s Guide to Perth
REFRESH-INTERVAL;VALUE=DURATION:PT1H
X-Robots-Tag:noindex
X-PUBLISHED-TTL:PT1H
BEGIN:VTIMEZONE
TZID:Australia/Perth
BEGIN:STANDARD
TZOFFSETFROM:+0800
TZOFFSETTO:+0800
TZNAME:AWST
DTSTART:20250101T000000
END:STANDARD
END:VTIMEZONE
BEGIN:VEVENT
DTSTART;TZID=Australia/Perth:20260410T100000
DTEND;TZID=Australia/Perth:20260410T120000
DTSTAMP:20260421T184912
CREATED:20260323T130458Z
LAST-MODIFIED:20260323T130458Z
UID:10865106-1775815200-1775822400@seniorocity.com.au
SUMMARY:Feline Fest
DESCRIPTION:Learn about all things cat care\, behaviour and nutrition. \nThere’ll be free talks from a cat behavourist and the ReWild Perth team. Enjoy a complimentary barista coffee and talk with local businesses offering cat care solutions. \nRSPCA Cat Program Talk – Register Here
URL:https://seniorocity.com.au/whats-on-perth/feline-fest/
LOCATION:Secret Harbour Community Centre\, 6 Lanier Way\, Secret harbour\, WA
CATEGORIES:Free,Information Session,Library Events
ATTACH;FMTTYPE=image/jpeg:https://seniorocity.com.au/wp-content/uploads/2026/03/Feline-Fest.jpg
END:VEVENT
END:VCALENDAR