BEGIN:VCALENDAR
VERSION:2.0
PRODID:-//Seniorocity - Seniors / Over 55&#039;s Guide to Perth - ECPv6.15.11//NONSGML v1.0//EN
CALSCALE:GREGORIAN
METHOD:PUBLISH
X-ORIGINAL-URL:https://seniorocity.com.au
X-WR-CALDESC:Events for Seniorocity - Seniors / Over 55&#039;s Guide to Perth
REFRESH-INTERVAL;VALUE=DURATION:PT1H
X-Robots-Tag:noindex
X-PUBLISHED-TTL:PT1H
BEGIN:VTIMEZONE
TZID:Australia/Perth
BEGIN:STANDARD
TZOFFSETFROM:+0800
TZOFFSETTO:+0800
TZNAME:AWST
DTSTART:20250101T000000
END:STANDARD
END:VTIMEZONE
BEGIN:VEVENT
DTSTART;TZID=Australia/Perth:20260522T093000
DTEND;TZID=Australia/Perth:20260522T123000
DTSTAMP:20260422T150211
CREATED:20260415T144340Z
LAST-MODIFIED:20260415T144340Z
UID:10865733-1779442200-1779453000@seniorocity.com.au
SUMMARY:Self Advocacy 101 Workshop
DESCRIPTION:Build your confidence\, find your voice\, and learn practical ways to advocate for yourself in the mental health system. These FREE workshops were co-designed by people with lived experience\, and focus on real-life communication skills that help you be heard. \nEach workshop focuses on a different topic and includes a light morning tea. You’re welcome to join whichever sessions suit you\, but as they build on each other\, you’ll get the most out of the series by attending them all. \n22nd May – An Introduction to Mental Health Self-Advocacy \nTopics covered: \n\nYour healthcare rights in WA\nPlanning for Self-Advocacy\nSelf-Advocacy and empowerment\nMaintaining your wellbeing whilst Self-Advocating\n\n5th June – Speaking Up: Communication for Effective Self-Advocacy \nTopics covered: \n\nCommunication skills for Self-Advocacy\nNavigating Challenges and Barriers to Self-Advocacy\nPreparing for Self-Advocacy\nMaintaining wellbeing whilst Self-Advocating\n\n19th June – Self-Advocacy and Preparing for Appointments \nTopics covered: \n\nPreparing for an appointment (Tools and strategies)\nCommunicating during an appointment\nSupport people and advocates\nMaintaining my wellbeing\n\n3rd July – Self-Advocacy: Navigating Complaints \nTopics covered: \n\nWhen to make a complaint\nComplaint processes and pathways\nHow to write a strong complaint\nSupports during the process\n\nBook Online
URL:https://seniorocity.com.au/whats-on-perth/self-advocacy-101-workshop/
LOCATION:Seville Grove Public Library\, 78 Champion Drive\, Seville Grove\, WA\, 6112\, Australia
CATEGORIES:Free,Health,Information Session,Workshop
ATTACH;FMTTYPE=image/jpeg:https://seniorocity.com.au/wp-content/uploads/2026/04/Self-Advocacy-101-Workshop.jpg
GEO:-32.131832122803;116.00186157227
X-APPLE-STRUCTURED-LOCATION;VALUE=URI;X-ADDRESS=Seville Grove Public Library 78 Champion Drive Seville Grove WA 6112 Australia;X-APPLE-RADIUS=500;X-TITLE=78 Champion Drive:geo:116.00186157227,-32.131832122803
END:VEVENT
END:VCALENDAR