BEGIN:VCALENDAR
VERSION:2.0
PRODID:-//Seniorocity - Seniors / Over 55&#039;s Guide to Perth - ECPv6.15.11//NONSGML v1.0//EN
CALSCALE:GREGORIAN
METHOD:PUBLISH
X-ORIGINAL-URL:https://seniorocity.com.au
X-WR-CALDESC:Events for Seniorocity - Seniors / Over 55&#039;s Guide to Perth
REFRESH-INTERVAL;VALUE=DURATION:PT1H
X-Robots-Tag:noindex
X-PUBLISHED-TTL:PT1H
BEGIN:VTIMEZONE
TZID:Australia/Perth
BEGIN:STANDARD
TZOFFSETFROM:+0800
TZOFFSETTO:+0800
TZNAME:AWST
DTSTART:20250101T000000
END:STANDARD
END:VTIMEZONE
BEGIN:VEVENT
DTSTART;TZID=Australia/Perth:20260126T160000
DTEND;TZID=Australia/Perth:20260126T210000
DTSTAMP:20260421T122050
CREATED:20260101T045646Z
LAST-MODIFIED:20260101T045646Z
UID:10857266-1769443200-1769461200@seniorocity.com.au
SUMMARY:Australia Day 2026 at South of Perth Yacht Club
DESCRIPTION: Australia Day at South of Perth Yacht Club \nCelebrate the Aussie way with an afternoon of great food\, lawn games\, cold drinks and riverfront vibes \n Monday 26 January 2026 4pm–9pm $20 non-members | $16 members Build-your-own burger bar or gourmet bratwurst hotdogs included Lawn games •  Beer specials •  Cash bar outside\nGrab your mates\, wear your green & gold\, and join us for a relaxed riverside Australia Day celebration! \nClick here to purchase tickets: https://bit.ly/Australia-Day-SOPYC
URL:https://seniorocity.com.au/whats-on-perth/australia-day-2026-at-south-of-perth-yacht-club/
LOCATION:South of Perth Yacht Club\, Canning Beach Road\, Applecross\, WA\, 6153\, Australia
CATEGORIES:Australia Day
ATTACH;FMTTYPE=image/jpeg:https://seniorocity.com.au/wp-content/uploads/2026/01/Australia-Day-2026-at-South-of-Perth-Yacht-Club.jpg
END:VEVENT
END:VCALENDAR