BEGIN:VCALENDAR
VERSION:2.0
PRODID:-//Seniorocity - Seniors / Over 55&#039;s Guide to Perth - ECPv6.15.11//NONSGML v1.0//EN
CALSCALE:GREGORIAN
METHOD:PUBLISH
X-WR-CALNAME:Seniorocity - Seniors / Over 55&#039;s Guide to Perth
X-ORIGINAL-URL:https://seniorocity.com.au
X-WR-CALDESC:Events for Seniorocity - Seniors / Over 55&#039;s Guide to Perth
REFRESH-INTERVAL;VALUE=DURATION:PT1H
X-Robots-Tag:noindex
X-PUBLISHED-TTL:PT1H
BEGIN:VTIMEZONE
TZID:Australia/Perth
BEGIN:STANDARD
TZOFFSETFROM:+0800
TZOFFSETTO:+0800
TZNAME:AWST
DTSTART:20250101T000000
END:STANDARD
END:VTIMEZONE
BEGIN:VEVENT
DTSTART;TZID=Australia/Perth:20260417T100000
DTEND;TZID=Australia/Perth:20260417T110000
DTSTAMP:20260421T052605
CREATED:20260320T075819Z
LAST-MODIFIED:20260320T075819Z
UID:10864535-1776420000-1776423600@seniorocity.com.au
SUMMARY:Be Connected - Discovering AI
DESCRIPTION:Join us to learn more about AI\, some of the ways it can help us\, and things to look out for. Please bring your own device. Tea and coffee will be provided; attendees are encouraged to BYO reusable coffee cup. Bookings are essential as places are limited. \nBook now
URL:https://seniorocity.com.au/whats-on-perth/be-connected-discovering-ai/
LOCATION:Stirling Libraries – Mirrabooka\, 21 Sudbury Road\, Mirrabooka\, WA\, 6061\, Australia
CATEGORIES:Free,Library Events,Tech
ATTACH;FMTTYPE=image/png:https://seniorocity.com.au/wp-content/uploads/2026/03/Be-Connected-Discovering-AI.png
END:VEVENT
BEGIN:VEVENT
DTSTART;TZID=Australia/Perth:20260409T100000
DTEND;TZID=Australia/Perth:20260409T110000
DTSTAMP:20260421T052605
CREATED:20260316T140912Z
LAST-MODIFIED:20260316T140912Z
UID:10864432-1775728800-1775732400@seniorocity.com.au
SUMMARY:Living together: No Pressure Book Club at Stirling Libraries - Mirrabooka
DESCRIPTION:Join us for a friendly\, relaxed and informal book chat with other locals led by library staff. \nWith no set theme or topic this group is designed for those who would like to talk about anything that they have been reading or listening to. \nChat about books you have enjoyed (or not!) and discover what to read next. \nNew participants are warmly welcomed; you are free to contribute or simply enjoy listening to the conversation. \nTea\, coffee and light morning tea provided. \nDate: Thursday 9 April\nTime: 10.00am – 11.00am\nLocation: Stirling Libraries – Mirrabooka \nTo learn more about this event and the City’s Living Together programs\, visit: www.stirling.wa.gov.au/livinglocally
URL:https://seniorocity.com.au/whats-on-perth/living-together-no-pressure-book-club-at-stirling-libraries-mirrabooka/
LOCATION:Stirling Libraries – Mirrabooka\, 21 Sudbury Road\, Mirrabooka\, WA\, 6061\, Australia
CATEGORIES:Club,Free,Library Events,Week day events
ATTACH;FMTTYPE=image/png:https://seniorocity.com.au/wp-content/uploads/2026/03/Living-together-No-Pressure-Book-Club-at-Stirling-Libraries-Mirrabooka.png
END:VEVENT
END:VCALENDAR