BEGIN:VCALENDAR
VERSION:2.0
PRODID:-//Seniorocity - Seniors / Over 55&#039;s Guide to Perth - ECPv6.15.11//NONSGML v1.0//EN
CALSCALE:GREGORIAN
METHOD:PUBLISH
X-ORIGINAL-URL:https://seniorocity.com.au
X-WR-CALDESC:Events for Seniorocity - Seniors / Over 55&#039;s Guide to Perth
REFRESH-INTERVAL;VALUE=DURATION:PT1H
X-Robots-Tag:noindex
X-PUBLISHED-TTL:PT1H
BEGIN:VTIMEZONE
TZID:Australia/Perth
BEGIN:STANDARD
TZOFFSETFROM:+0800
TZOFFSETTO:+0800
TZNAME:AWST
DTSTART:20250101T000000
END:STANDARD
END:VTIMEZONE
BEGIN:VEVENT
DTSTART;TZID=Australia/Perth:20260419T100000
DTEND;TZID=Australia/Perth:20260419T160000
DTSTAMP:20260422T181430
CREATED:20260302T142308Z
LAST-MODIFIED:20260302T142308Z
UID:10863968-1776592800-1776614400@seniorocity.com.au
SUMMARY:Swan Valley Home & Garden Fair
DESCRIPTION:You’re invited to the inaugural Swan Valley Home & Garden Fair at Swan Settlers Market.\nJoin us on Saturday\, 18 and Sunday\, 19 April from 10am to 4pm for a beautiful boutique event celebrating all things home\, garden\, and artisan living\, in the heart of the Swan Valley.\n\nExplore a carefully curated collection of plants\, garden features\, homewares\, pottery\, sustainable living products\, and unique artisan goods. Whether you’re looking to refresh your garden\, add something special to your home\, or enjoy a relaxed day out\, this fair is designed to inspire.\nMake a full day of it while you’re here. Enjoy great food\, coffee\, wine\, and gin\, browse the market’s permanent artisan stalls\, and soak up the atmosphere.\n\nFree entry\nSwan Settlers Market124 Lennard St\, Herne Hill\n\nEat. Drink. Shop. Play.\nWe can’t wait to welcome you to this exciting new Swan Valley event.
URL:https://seniorocity.com.au/whats-on-perth/swan-valley-home-garden-fair/2026-04-19/
LOCATION:Swan Settlers Market\, 124 Lennard St\, Herne Hill\, WA\, 6056\, Australia
CATEGORIES:Fair,Free,Markets
ATTACH;FMTTYPE=image/jpeg:https://seniorocity.com.au/wp-content/uploads/2026/03/Swan-Valley-Home-Garden-Fair.jpg
GEO:-31.835443496704;116.02113342285
X-APPLE-STRUCTURED-LOCATION;VALUE=URI;X-ADDRESS=Swan Settlers Market 124 Lennard St Herne Hill WA 6056 Australia;X-APPLE-RADIUS=500;X-TITLE=124 Lennard St:geo:116.02113342285,-31.835443496704
END:VEVENT
BEGIN:VEVENT
DTSTART;TZID=Australia/Perth:20260406T120000
DTEND;TZID=Australia/Perth:20260406T140000
DTSTAMP:20260422T181430
CREATED:20260302T134004Z
LAST-MODIFIED:20260302T134004Z
UID:10863964-1775476800-1775484000@seniorocity.com.au
SUMMARY:Reptiles & Snakes - Easter Long Weekend Fun
DESCRIPTION:Reptiles & Snakes at Swan Settlers MarketSaturday 4th April | 12pm – 2pmFree entry\n\nGet ready for a wild and wonderful adventure these school holidays as reptiles and snakes slither into Swan Settlers Market this Easter long weekend.\n\nThis free\, hands-on experience is your chance to get up close and personal with some seriously cool critters. Meet slithery snakes\, wiggly lizards\, and don’t forget the cutest turtle and frog. It’s the perfect mix of fun\, learning\, and unforgettable holiday memories.\n\nMake a full Easter weekend of it at the market:\n\nSunday 5 AprilAnimal Farm10am – 2pmEnjoy cuddles and smiles with adorable farmyard friends.\n\nMonday 6 AprilFace Painting and Easter Egg HuntFace painting 12pm – 2pmJoin the Easter Bunny fun and hunt for delicious treats 11am\nBring the kids\, grab a coffee or lunch\, and enjoy a full weekend of family fun in the Swan Valley with playgrounds\, shopping\, food\, wine\, and more.\n\nSwan Settlers Market124 Lennard St\, Herne Hill\nWe can’t wait to see you there.
URL:https://seniorocity.com.au/whats-on-perth/reptiles-snakes-easter-long-weekend-fun/2026-04-06/
LOCATION:Swan Settlers Market\, 124 Lennard St\, Herne Hill\, WA\, 6056\, Australia
CATEGORIES:Family Event,Free,Markets
ATTACH;FMTTYPE=image/jpeg:https://seniorocity.com.au/wp-content/uploads/2026/03/Reptiles-Snakes-Easter-Long-Weekend-Fun.jpg
GEO:-31.835443496704;116.02113342285
X-APPLE-STRUCTURED-LOCATION;VALUE=URI;X-ADDRESS=Swan Settlers Market 124 Lennard St Herne Hill WA 6056 Australia;X-APPLE-RADIUS=500;X-TITLE=124 Lennard St:geo:116.02113342285,-31.835443496704
END:VEVENT
BEGIN:VEVENT
DTSTART;TZID=Australia/Perth:20260406T110000
DTEND;TZID=Australia/Perth:20260406T140000
DTSTAMP:20260422T181430
CREATED:20260302T135246Z
LAST-MODIFIED:20260302T135246Z
UID:10863966-1775473200-1775484000@seniorocity.com.au
SUMMARY:Easter Egg Hunt at Swan Settlers Market
DESCRIPTION:Easter Egg Hunt at Swan Settlers MarketMonday 6 April | 11am sharp124 Lennard St\, Herne Hill\n\nGet ready for a chocolate-filled Easter Monday that the whole family will love.\nOur Free Easter Egg Hunt kicks off at 11am sharp at the playground\, so make sure you arrive early – once the eggs are found\, they’re gone!\n\n Under 5s Hunt – A special space just for the littlest bunnies to enjoy.\n Face painting from 12pm – 2pm\n All-day fun – Explore yummy food stalls\, awesome shopping\, and exciting activities\, including Maxed Out Axe Throwing for the grown-ups.\n\nMake a full Easter weekend of it with us:\n\nEaster Saturday (April 4)Reptiles & Snakes Show from 12pm – and yes… cuddle a snake if you dare.\n\nEaster Sunday (April 5)Live music from 12pm – 2pmAnimal Farm from 10am – 2pm with plenty of adorable faces to meet.\nIt’s a long weekend packed with family fun\, great food\, entertainment\, and plenty to keep everyone smiling.\n\nWe can’t wait to celebrate Easter with you at Swan Settlers Market.
URL:https://seniorocity.com.au/whats-on-perth/easter-egg-hunt-at-swan-settlers-market/
LOCATION:Swan Settlers Market\, 124 Lennard St\, Herne Hill\, WA\, 6056\, Australia
CATEGORIES:Easter,Family Event,Free,Markets,School holiday events
ATTACH;FMTTYPE=image/jpeg:https://seniorocity.com.au/wp-content/uploads/2026/03/Easter-Egg-Hunt-at-Swan-Settlers-Market.jpg
GEO:-31.835443496704;116.02113342285
X-APPLE-STRUCTURED-LOCATION;VALUE=URI;X-ADDRESS=Swan Settlers Market 124 Lennard St Herne Hill WA 6056 Australia;X-APPLE-RADIUS=500;X-TITLE=124 Lennard St:geo:116.02113342285,-31.835443496704
END:VEVENT
BEGIN:VEVENT
DTSTART;TZID=Australia/Perth:20260405T100000
DTEND;TZID=Australia/Perth:20260405T120000
DTSTAMP:20260422T181430
CREATED:20260302T134659Z
LAST-MODIFIED:20260302T134659Z
UID:10863965-1775383200-1775390400@seniorocity.com.au
SUMMARY:Cute Animal Farm at Swan Settlers Market
DESCRIPTION:Cute Animal Farm at Swan Settlers MarketSunday 5 April | 10am – 2pm\n\nSchool holidays are the perfect time to slow down\, get outside and enjoy a day together – and there’s no better way to do it than with a visit to our cute animal farm at Swan Settlers Market on Sunday 5 April\, from 10am to 2pm.\n\nBring the kids along for plenty of cuddles\, smiles and hands-on time with adorable furry friends\, all set against the relaxed atmosphere of the Swan Valley. It’s the kind of experience little ones remember\, and a lovely way for parents to enjoy a breather with a coffee in hand.\n\nWith the Easter long weekend\, it’s a great chance to kick off the holiday spirit early. Explore the market stalls\, enjoy delicious food and drinks\, let the kids play\, and make a full family day of it.\nWe can’t wait to welcome you for a heart-melting day of animals\, fresh air and holiday fun at the market.
URL:https://seniorocity.com.au/whats-on-perth/cute-animal-farm-at-swan-settlers-market/
LOCATION:Swan Settlers Market\, 124 Lennard St\, Herne Hill\, WA\, 6056\, Australia
CATEGORIES:Family Event,Free,Markets,School holiday events
ATTACH;FMTTYPE=image/jpeg:https://seniorocity.com.au/wp-content/uploads/2026/03/Cute-Animal-Farm-at-Swan-Settlers-Market.jpg
GEO:-31.835443496704;116.02113342285
X-APPLE-STRUCTURED-LOCATION;VALUE=URI;X-ADDRESS=Swan Settlers Market 124 Lennard St Herne Hill WA 6056 Australia;X-APPLE-RADIUS=500;X-TITLE=124 Lennard St:geo:116.02113342285,-31.835443496704
END:VEVENT
BEGIN:VEVENT
DTSTART;TZID=Australia/Perth:20260126T100000
DTEND;TZID=Australia/Perth:20260126T140000
DTSTAMP:20260422T181430
CREATED:20251231T143659Z
LAST-MODIFIED:20251231T143659Z
UID:10857259-1769421600-1769436000@seniorocity.com.au
SUMMARY:Free Animal farm - Australia Day Long Weekend
DESCRIPTION: Sun-Kissed Summer Fun in the Swan Valley – Long Weekend School Holiday Adventures  Swan Settlers Market\, Herne Hill\nMake the most of the long weekend this January school holidays with a fun-filled family day out at Swan Settlers Market.\nBring the kids along for warm summer days\, plenty of laughs\, and memory-making moments in the heart of the Swan Valley. Little animal lovers will adore exploring our animal farm\, where they can meet friendly farm animals and enjoy hands-on holiday fun they’ll remember all summer long.\nLet the kids burn off that holiday energy in our indoor and outdoor play zones while you relax with a chilled drink\, iced coffee\, or grab something delicious from our food stalls.\nPlus\, don’t miss **Chilli in the Valley** heating things up with spicy food\, live entertainment\, and loads of fun for grown-ups and teens alike – it’s all happening alongside your family adventures!\nTake your time wandering the market\, discovering handmade gifts\, kids’ goodies\, homewares\, and unique finds perfect for summer.\n Family-friendly fun for all ages Indoor & outdoor play areas Animal farm experiences Chilli in the Valley – food\, fun & entertainment Food\, drinks & market treats\n Monday\, 26 January – long weekend vibes! Swan Settlers Market\, Herne Hill\nGather the family\, enjoy the sunshine\, and make the most of a relaxed summer holiday day at Swan Settlers Market.
URL:https://seniorocity.com.au/whats-on-perth/free-animal-farm-australia-day-long-weekend/
LOCATION:Swan Settlers Market\, 124 Lennard St\, Herne Hill\, WA\, 6056\, Australia
CATEGORIES:Australia Day,Family Event,Free
ATTACH;FMTTYPE=image/jpeg:https://seniorocity.com.au/wp-content/uploads/2025/12/Free-Animal-farm-Australia-Day-Long-Weekend.jpg
GEO:-31.835443496704;116.02113342285
X-APPLE-STRUCTURED-LOCATION;VALUE=URI;X-ADDRESS=Swan Settlers Market 124 Lennard St Herne Hill WA 6056 Australia;X-APPLE-RADIUS=500;X-TITLE=124 Lennard St:geo:116.02113342285,-31.835443496704
END:VEVENT
BEGIN:VEVENT
DTSTART;TZID=Australia/Perth:20260118T120000
DTEND;TZID=Australia/Perth:20260118T140000
DTSTAMP:20260422T181430
CREATED:20251231T142725Z
LAST-MODIFIED:20251231T142725Z
UID:10857258-1768737600-1768744800@seniorocity.com.au
SUMMARY:Free Reptile Encounters in the Valley
DESCRIPTION: Reptile Encounters in the Valley – January School Holiday Fun Swan Settlers Market\, Herne Hill\nKeep the kids entertained these January school holidays with a fun\, hands-on wildlife experience at Swan Settlers Market.\nThe Perth Reptile Company is visiting with their crowd-favourite scaly stars\, giving kids (and brave adults) the chance to get up close with some truly fascinating creatures. It’s interactive\, educational\, and always a huge hit with families.\nMeet & Greet the Reptiles Friendly snakes to hold Curious lizards to pat A sweet turtle to meet A fabulous frog to say hello to\nHave your camera ready — those holiday snaps are always a winner.\n FREE ENTRY – perfect for all ages\nMake a full day of it with market shopping\, great food\, live music\, and plenty of indoor and outdoor activities for the whole family.\n Sunday\, 18 January – don’t miss this scaly school holiday favourite at Swan Settlers Market.
URL:https://seniorocity.com.au/whats-on-perth/free-reptile-encounters-in-the-valley/
LOCATION:Swan Settlers Market\, 124 Lennard St\, Herne Hill\, WA\, 6056\, Australia
CATEGORIES:Family Event,Free,Markets,School holiday events
ATTACH;FMTTYPE=image/jpeg:https://seniorocity.com.au/wp-content/uploads/2025/12/Free-Reptile-Encounters-in-the-Valley.jpg
GEO:-31.835443496704;116.02113342285
X-APPLE-STRUCTURED-LOCATION;VALUE=URI;X-ADDRESS=Swan Settlers Market 124 Lennard St Herne Hill WA 6056 Australia;X-APPLE-RADIUS=500;X-TITLE=124 Lennard St:geo:116.02113342285,-31.835443496704
END:VEVENT
BEGIN:VEVENT
DTSTART;TZID=Australia/Perth:20260117T100000
DTEND;TZID=Australia/Perth:20260117T140000
DTSTAMP:20260422T181430
CREATED:20251231T141924Z
LAST-MODIFIED:20251231T141924Z
UID:10857257-1768644000-1768658400@seniorocity.com.au
SUMMARY:Free Petting Zoo with Farmer Damien
DESCRIPTION: Sun-Kissed Summer Fun in the Swan Valley – School Holiday Adventures  Swan Settlers Market\, Herne Hill\nMake the most of the January school holidays with a fun-filled family day out at Swan Settlers Market.\nBring the kids along for warm summer days\, plenty of laughs\, and memory-making moments in the heart of the Swan Valley. Little animal lovers will adore exploring our animal farm\, where they can meet friendly farm animals and enjoy hands-on holiday fun they’ll remember all summer long.\nLet the kids burn off that holiday energy in our indoor and outdoor play zones while you relax with a chilled drink\, iced coffee\, or grab something delicious from our food stalls.\nTake your time wandering the market\, discovering handmade gifts\, kids’ goodies\, homewares\, and unique finds perfect for summer.\n Family-friendly fun for all ages Indoor & outdoor play areas Animal farm experiences Food\, drinks & market treats\n Sunday\, 18 January Swan Settlers Market\, Herne Hill\nGather the family\, enjoy the sunshine\, and settle in for a relaxed summer holiday day at Swan Settlers Market.
URL:https://seniorocity.com.au/whats-on-perth/free-petting-zoo-with-farmer-damien/
LOCATION:Swan Settlers Market\, 124 Lennard St\, Herne Hill\, WA\, 6056\, Australia
CATEGORIES:Family Event,Free,Markets,School holiday events
ATTACH;FMTTYPE=image/jpeg:https://seniorocity.com.au/wp-content/uploads/2025/12/Free-Petting-Zoo-with-Farmer-Damien.jpg
GEO:-31.835443496704;116.02113342285
X-APPLE-STRUCTURED-LOCATION;VALUE=URI;X-ADDRESS=Swan Settlers Market 124 Lennard St Herne Hill WA 6056 Australia;X-APPLE-RADIUS=500;X-TITLE=124 Lennard St:geo:116.02113342285,-31.835443496704
END:VEVENT
END:VCALENDAR