BEGIN:VCALENDAR
VERSION:2.0
PRODID:-//Seniorocity - Seniors / Over 55&#039;s Guide to Perth - ECPv6.15.11//NONSGML v1.0//EN
CALSCALE:GREGORIAN
METHOD:PUBLISH
X-ORIGINAL-URL:https://seniorocity.com.au
X-WR-CALDESC:Events for Seniorocity - Seniors / Over 55&#039;s Guide to Perth
REFRESH-INTERVAL;VALUE=DURATION:PT1H
X-Robots-Tag:noindex
X-PUBLISHED-TTL:PT1H
BEGIN:VTIMEZONE
TZID:Australia/Perth
BEGIN:STANDARD
TZOFFSETFROM:+0800
TZOFFSETTO:+0800
TZNAME:AWST
DTSTART:20250101T000000
END:STANDARD
END:VTIMEZONE
BEGIN:VEVENT
DTSTART;TZID=Australia/Perth:20260510T110000
DTEND;TZID=Australia/Perth:20260510T200000
DTSTAMP:20260423T102126
CREATED:20260422T140457Z
LAST-MODIFIED:20260422T140457Z
UID:10866095-1778410800-1778443200@seniorocity.com.au
SUMMARY:Mother's Day High Tea
DESCRIPTION:Treat Mum to a High Tea experience at The Globe this Mother’s Day!Indulge in a selection of sweet and savoury treats\, a selection of tea and a complimentary mimosa on arrival\, because she deserves it.Sunday May 10th | Available all day$50 per personBookings Essential – Limited Spots Available!
URL:https://seniorocity.com.au/whats-on-perth/mothers-day-high-tea-2/
LOCATION:The Globe Perth\, 495/497 Wellington St\, Perth\, WA\, 6000\, Australia
CATEGORIES:Mother's Day
ATTACH;FMTTYPE=image/jpeg:https://seniorocity.com.au/wp-content/uploads/2026/04/Mothers-Day-High-Tea.jpg
END:VEVENT
END:VCALENDAR