BEGIN:VCALENDAR
VERSION:2.0
PRODID:-//Seniorocity - Seniors / Over 55&#039;s Guide to Perth - ECPv6.15.11//NONSGML v1.0//EN
CALSCALE:GREGORIAN
METHOD:PUBLISH
X-ORIGINAL-URL:https://seniorocity.com.au
X-WR-CALDESC:Events for Seniorocity - Seniors / Over 55&#039;s Guide to Perth
REFRESH-INTERVAL;VALUE=DURATION:PT1H
X-Robots-Tag:noindex
X-PUBLISHED-TTL:PT1H
BEGIN:VTIMEZONE
TZID:Australia/Perth
BEGIN:STANDARD
TZOFFSETFROM:+0800
TZOFFSETTO:+0800
TZNAME:AWST
DTSTART:20250101T000000
END:STANDARD
END:VTIMEZONE
BEGIN:VEVENT
DTSTART;TZID=Australia/Perth:20260425T133000
DTEND;TZID=Australia/Perth:20260425T153000
DTSTAMP:20260420T211933
CREATED:20260204T091127Z
LAST-MODIFIED:20260401T143312Z
UID:10862755-1777123800-1777131000@seniorocity.com.au
SUMMARY:Make New & Mend Craft Group
DESCRIPTION:Make New & Mend  meets Sat 1:30-3:30pm\, Grove Library. Drop in any time to learn or share crochet\, knitting\, sewing. Inclusive & welcoming.
URL:https://seniorocity.com.au/whats-on-perth/make-new-mend-craft-group-12/
LOCATION:The Grove Library\, 1 Leake Street\, Peppermint Grove\, WA\, 6011\, Australia
CATEGORIES:Craft
END:VEVENT
BEGIN:VEVENT
DTSTART;TZID=Australia/Perth:20260502T133000
DTEND;TZID=Australia/Perth:20260502T153000
DTSTAMP:20260420T211933
CREATED:20260204T091128Z
LAST-MODIFIED:20260401T143323Z
UID:10862756-1777728600-1777735800@seniorocity.com.au
SUMMARY:Make New & Mend Craft Group
DESCRIPTION:Make New & Mend  meets Sat 1:30-3:30pm\, Grove Library. Drop in any time to learn or share crochet\, knitting\, sewing. Inclusive & welcoming.
URL:https://seniorocity.com.au/whats-on-perth/make-new-mend-craft-group-13/
LOCATION:The Grove Library\, 1 Leake Street\, Peppermint Grove\, WA\, 6011\, Australia
CATEGORIES:Craft
END:VEVENT
BEGIN:VEVENT
DTSTART;TZID=Australia/Perth:20260509T133000
DTEND;TZID=Australia/Perth:20260509T153000
DTSTAMP:20260420T211933
CREATED:20260204T091128Z
LAST-MODIFIED:20260401T143337Z
UID:10862757-1778333400-1778340600@seniorocity.com.au
SUMMARY:Make New & Mend Craft Group
DESCRIPTION:Make New & Mend  meets Sat 1:30-3:30pm\, Grove Library. Drop in any time to learn or share crochet\, knitting\, sewing. Inclusive & welcoming.
URL:https://seniorocity.com.au/whats-on-perth/make-new-mend-craft-group-14/
LOCATION:The Grove Library\, 1 Leake Street\, Peppermint Grove\, WA\, 6011\, Australia
CATEGORIES:Craft
END:VEVENT
BEGIN:VEVENT
DTSTART;TZID=Australia/Perth:20260516T133000
DTEND;TZID=Australia/Perth:20260516T153000
DTSTAMP:20260420T211933
CREATED:20260204T091129Z
LAST-MODIFIED:20260401T143348Z
UID:10862758-1778938200-1778945400@seniorocity.com.au
SUMMARY:Make New & Mend Craft Group
DESCRIPTION:Make New & Mend  meets Sat 1:30-3:30pm\, Grove Library. Drop in any time to learn or share crochet\, knitting\, sewing. Inclusive & welcoming.
URL:https://seniorocity.com.au/whats-on-perth/make-new-mend-craft-group-15/
LOCATION:The Grove Library\, 1 Leake Street\, Peppermint Grove\, WA\, 6011\, Australia
CATEGORIES:Craft
END:VEVENT
BEGIN:VEVENT
DTSTART;TZID=Australia/Perth:20260523T133000
DTEND;TZID=Australia/Perth:20260523T153000
DTSTAMP:20260420T211933
CREATED:20260204T091130Z
LAST-MODIFIED:20260401T143400Z
UID:10862759-1779543000-1779550200@seniorocity.com.au
SUMMARY:Make New & Mend Craft Group
DESCRIPTION:Make New & Mend  meets Sat 1:30-3:30pm\, Grove Library. Drop in any time to learn or share crochet\, knitting\, sewing. Inclusive & welcoming.
URL:https://seniorocity.com.au/whats-on-perth/make-new-mend-craft-group-16/
LOCATION:The Grove Library\, 1 Leake Street\, Peppermint Grove\, WA\, 6011\, Australia
CATEGORIES:Craft
END:VEVENT
BEGIN:VEVENT
DTSTART;TZID=Australia/Perth:20260530T133000
DTEND;TZID=Australia/Perth:20260530T153000
DTSTAMP:20260420T211933
CREATED:20260204T091131Z
LAST-MODIFIED:20260401T143414Z
UID:10862760-1780147800-1780155000@seniorocity.com.au
SUMMARY:Make New & Mend Craft Group
DESCRIPTION:Make New & Mend  meets Sat 1:30-3:30pm\, Grove Library. Drop in any time to learn or share crochet\, knitting\, sewing. Inclusive & welcoming.
URL:https://seniorocity.com.au/whats-on-perth/make-new-mend-craft-group-17/
LOCATION:The Grove Library\, 1 Leake Street\, Peppermint Grove\, WA\, 6011\, Australia
CATEGORIES:Craft
END:VEVENT
BEGIN:VEVENT
DTSTART;TZID=Australia/Perth:20260606T133000
DTEND;TZID=Australia/Perth:20260606T153000
DTSTAMP:20260420T211933
CREATED:20260204T091132Z
LAST-MODIFIED:20260401T143426Z
UID:10862761-1780752600-1780759800@seniorocity.com.au
SUMMARY:Make New & Mend Craft Group
DESCRIPTION:Make New & Mend  meets Sat 1:30-3:30pm\, Grove Library. Drop in any time to learn or share crochet\, knitting\, sewing. Inclusive & welcoming.
URL:https://seniorocity.com.au/whats-on-perth/make-new-mend-craft-group-18/
LOCATION:The Grove Library\, 1 Leake Street\, Peppermint Grove\, WA\, 6011\, Australia
CATEGORIES:Craft
END:VEVENT
BEGIN:VEVENT
DTSTART;TZID=Australia/Perth:20260613T133000
DTEND;TZID=Australia/Perth:20260613T153000
DTSTAMP:20260420T211933
CREATED:20260204T091133Z
LAST-MODIFIED:20260401T143437Z
UID:10862762-1781357400-1781364600@seniorocity.com.au
SUMMARY:Make New & Mend Craft Group
DESCRIPTION:Make New & Mend  meets Sat 1:30-3:30pm\, Grove Library. Drop in any time to learn or share crochet\, knitting\, sewing. Inclusive & welcoming.
URL:https://seniorocity.com.au/whats-on-perth/make-new-mend-craft-group-19/
LOCATION:The Grove Library\, 1 Leake Street\, Peppermint Grove\, WA\, 6011\, Australia
CATEGORIES:Craft
END:VEVENT
BEGIN:VEVENT
DTSTART;TZID=Australia/Perth:20260620T133000
DTEND;TZID=Australia/Perth:20260620T153000
DTSTAMP:20260420T211933
CREATED:20260204T091133Z
LAST-MODIFIED:20260401T143449Z
UID:10862763-1781962200-1781969400@seniorocity.com.au
SUMMARY:Make New & Mend Craft Group
DESCRIPTION:Make New & Mend  meets Sat 1:30-3:30pm\, Grove Library. Drop in any time to learn or share crochet\, knitting\, sewing. Inclusive & welcoming.
URL:https://seniorocity.com.au/whats-on-perth/make-new-mend-craft-group-20/
LOCATION:The Grove Library\, 1 Leake Street\, Peppermint Grove\, WA\, 6011\, Australia
CATEGORIES:Craft
END:VEVENT
BEGIN:VEVENT
DTSTART;TZID=Australia/Perth:20260627T133000
DTEND;TZID=Australia/Perth:20260627T153000
DTSTAMP:20260420T211933
CREATED:20260204T091200Z
LAST-MODIFIED:20260401T143500Z
UID:10862764-1782567000-1782574200@seniorocity.com.au
SUMMARY:Make New & Mend Craft Group
DESCRIPTION:Make New & Mend  meets Sat 1:30-3:30pm\, Grove Library. Drop in any time to learn or share crochet\, knitting\, sewing. Inclusive & welcoming.
URL:https://seniorocity.com.au/whats-on-perth/make-new-mend-craft-group-21/
LOCATION:The Grove Library\, 1 Leake Street\, Peppermint Grove\, WA\, 6011\, Australia
CATEGORIES:Craft
END:VEVENT
BEGIN:VEVENT
DTSTART;TZID=Australia/Perth:20260704T133000
DTEND;TZID=Australia/Perth:20260704T153000
DTSTAMP:20260420T211933
CREATED:20260204T091201Z
LAST-MODIFIED:20260401T143515Z
UID:10862765-1783171800-1783179000@seniorocity.com.au
SUMMARY:Make New & Mend Craft Group
DESCRIPTION:Make New & Mend  meets Sat 1:30-3:30pm\, Grove Library. Drop in any time to learn or share crochet\, knitting\, sewing. Inclusive & welcoming.
URL:https://seniorocity.com.au/whats-on-perth/make-new-mend-craft-group-22/
LOCATION:The Grove Library\, 1 Leake Street\, Peppermint Grove\, WA\, 6011\, Australia
CATEGORIES:Craft
END:VEVENT
BEGIN:VEVENT
DTSTART;TZID=Australia/Perth:20260711T133000
DTEND;TZID=Australia/Perth:20260711T153000
DTSTAMP:20260420T211933
CREATED:20260204T091202Z
LAST-MODIFIED:20260401T143527Z
UID:10862766-1783776600-1783783800@seniorocity.com.au
SUMMARY:Make New & Mend Craft Group
DESCRIPTION:Make New & Mend  meets Sat 1:30-3:30pm\, Grove Library. Drop in any time to learn or share crochet\, knitting\, sewing. Inclusive & welcoming.
URL:https://seniorocity.com.au/whats-on-perth/make-new-mend-craft-group-23/
LOCATION:The Grove Library\, 1 Leake Street\, Peppermint Grove\, WA\, 6011\, Australia
CATEGORIES:Craft
END:VEVENT
BEGIN:VEVENT
DTSTART;TZID=Australia/Perth:20260718T133000
DTEND;TZID=Australia/Perth:20260718T153000
DTSTAMP:20260420T211933
CREATED:20260204T091203Z
LAST-MODIFIED:20260401T143539Z
UID:10862767-1784381400-1784388600@seniorocity.com.au
SUMMARY:Make New & Mend Craft Group
DESCRIPTION:Make New & Mend  meets Sat 1:30-3:30pm\, Grove Library. Drop in any time to learn or share crochet\, knitting\, sewing. Inclusive & welcoming.
URL:https://seniorocity.com.au/whats-on-perth/make-new-mend-craft-group-24/
LOCATION:The Grove Library\, 1 Leake Street\, Peppermint Grove\, WA\, 6011\, Australia
CATEGORIES:Craft
END:VEVENT
BEGIN:VEVENT
DTSTART;TZID=Australia/Perth:20260725T133000
DTEND;TZID=Australia/Perth:20260725T153000
DTSTAMP:20260420T211933
CREATED:20260204T091204Z
LAST-MODIFIED:20260401T143549Z
UID:10862768-1784986200-1784993400@seniorocity.com.au
SUMMARY:Make New & Mend Craft Group
DESCRIPTION:Make New & Mend  meets Sat 1:30-3:30pm\, Grove Library. Drop in any time to learn or share crochet\, knitting\, sewing. Inclusive & welcoming.
URL:https://seniorocity.com.au/whats-on-perth/make-new-mend-craft-group-25/
LOCATION:The Grove Library\, 1 Leake Street\, Peppermint Grove\, WA\, 6011\, Australia
CATEGORIES:Craft
END:VEVENT
BEGIN:VEVENT
DTSTART;TZID=Australia/Perth:20260801T133000
DTEND;TZID=Australia/Perth:20260801T153000
DTSTAMP:20260420T211933
CREATED:20260204T091205Z
LAST-MODIFIED:20260401T143600Z
UID:10862769-1785591000-1785598200@seniorocity.com.au
SUMMARY:Make New & Mend Craft Group
DESCRIPTION:Make New & Mend  meets Sat 1:30-3:30pm\, Grove Library. Drop in any time to learn or share crochet\, knitting\, sewing. Inclusive & welcoming.
URL:https://seniorocity.com.au/whats-on-perth/make-new-mend-craft-group-26/
LOCATION:The Grove Library\, 1 Leake Street\, Peppermint Grove\, WA\, 6011\, Australia
CATEGORIES:Craft
END:VEVENT
BEGIN:VEVENT
DTSTART;TZID=Australia/Perth:20260808T133000
DTEND;TZID=Australia/Perth:20260808T153000
DTSTAMP:20260420T211933
CREATED:20260204T091206Z
LAST-MODIFIED:20260401T143612Z
UID:10862770-1786195800-1786203000@seniorocity.com.au
SUMMARY:Make New & Mend Craft Group
DESCRIPTION:Make New & Mend  meets Sat 1:30-3:30pm\, Grove Library. Drop in any time to learn or share crochet\, knitting\, sewing. Inclusive & welcoming.
URL:https://seniorocity.com.au/whats-on-perth/make-new-mend-craft-group-27/
LOCATION:The Grove Library\, 1 Leake Street\, Peppermint Grove\, WA\, 6011\, Australia
CATEGORIES:Craft
END:VEVENT
BEGIN:VEVENT
DTSTART;TZID=Australia/Perth:20260815T133000
DTEND;TZID=Australia/Perth:20260815T153000
DTSTAMP:20260420T211933
CREATED:20260204T091207Z
LAST-MODIFIED:20260401T143625Z
UID:10862771-1786800600-1786807800@seniorocity.com.au
SUMMARY:Make New & Mend Craft Group
DESCRIPTION:Make New & Mend  meets Sat 1:30-3:30pm\, Grove Library. Drop in any time to learn or share crochet\, knitting\, sewing. Inclusive & welcoming.
URL:https://seniorocity.com.au/whats-on-perth/make-new-mend-craft-group-28/
LOCATION:The Grove Library\, 1 Leake Street\, Peppermint Grove\, WA\, 6011\, Australia
CATEGORIES:Craft
END:VEVENT
BEGIN:VEVENT
DTSTART;TZID=Australia/Perth:20260822T133000
DTEND;TZID=Australia/Perth:20260822T153000
DTSTAMP:20260420T211933
CREATED:20260204T091208Z
LAST-MODIFIED:20260401T143637Z
UID:10862772-1787405400-1787412600@seniorocity.com.au
SUMMARY:Make New & Mend Craft Group
DESCRIPTION:Make New & Mend  meets Sat 1:30-3:30pm\, Grove Library. Drop in any time to learn or share crochet\, knitting\, sewing. Inclusive & welcoming.
URL:https://seniorocity.com.au/whats-on-perth/make-new-mend-craft-group-29/
LOCATION:The Grove Library\, 1 Leake Street\, Peppermint Grove\, WA\, 6011\, Australia
CATEGORIES:Craft
END:VEVENT
BEGIN:VEVENT
DTSTART;TZID=Australia/Perth:20260829T133000
DTEND;TZID=Australia/Perth:20260829T153000
DTSTAMP:20260420T211933
CREATED:20260204T091208Z
LAST-MODIFIED:20260401T143648Z
UID:10862773-1788010200-1788017400@seniorocity.com.au
SUMMARY:Make New & Mend Craft Group
DESCRIPTION:Make New & Mend  meets Sat 1:30-3:30pm\, Grove Library. Drop in any time to learn or share crochet\, knitting\, sewing. Inclusive & welcoming.
URL:https://seniorocity.com.au/whats-on-perth/make-new-mend-craft-group-30/
LOCATION:The Grove Library\, 1 Leake Street\, Peppermint Grove\, WA\, 6011\, Australia
CATEGORIES:Craft
END:VEVENT
BEGIN:VEVENT
DTSTART;TZID=Australia/Perth:20260905T133000
DTEND;TZID=Australia/Perth:20260905T153000
DTSTAMP:20260420T211933
CREATED:20260204T091236Z
LAST-MODIFIED:20260401T143700Z
UID:10862774-1788615000-1788622200@seniorocity.com.au
SUMMARY:Make New & Mend Craft Group
DESCRIPTION:Make New & Mend  meets Sat 1:30-3:30pm\, Grove Library. Drop in any time to learn or share crochet\, knitting\, sewing. Inclusive & welcoming.
URL:https://seniorocity.com.au/whats-on-perth/make-new-mend-craft-group-31/
LOCATION:The Grove Library\, 1 Leake Street\, Peppermint Grove\, WA\, 6011\, Australia
CATEGORIES:Craft
END:VEVENT
BEGIN:VEVENT
DTSTART;TZID=Australia/Perth:20260912T133000
DTEND;TZID=Australia/Perth:20260912T153000
DTSTAMP:20260420T211933
CREATED:20260204T091236Z
LAST-MODIFIED:20260401T143717Z
UID:10862775-1789219800-1789227000@seniorocity.com.au
SUMMARY:Make New & Mend Craft Group
DESCRIPTION:Make New & Mend  meets Sat 1:30-3:30pm\, Grove Library. Drop in any time to learn or share crochet\, knitting\, sewing. Inclusive & welcoming.
URL:https://seniorocity.com.au/whats-on-perth/make-new-mend-craft-group-32/
LOCATION:The Grove Library\, 1 Leake Street\, Peppermint Grove\, WA\, 6011\, Australia
CATEGORIES:Craft
END:VEVENT
BEGIN:VEVENT
DTSTART;TZID=Australia/Perth:20260919T133000
DTEND;TZID=Australia/Perth:20260919T153000
DTSTAMP:20260420T211933
CREATED:20260204T091237Z
LAST-MODIFIED:20260401T143728Z
UID:10862776-1789824600-1789831800@seniorocity.com.au
SUMMARY:Make New & Mend Craft Group
DESCRIPTION:Make New & Mend  meets Sat 1:30-3:30pm\, Grove Library. Drop in any time to learn or share crochet\, knitting\, sewing. Inclusive & welcoming.
URL:https://seniorocity.com.au/whats-on-perth/make-new-mend-craft-group-33/
LOCATION:The Grove Library\, 1 Leake Street\, Peppermint Grove\, WA\, 6011\, Australia
CATEGORIES:Craft
END:VEVENT
BEGIN:VEVENT
DTSTART;TZID=Australia/Perth:20260926T133000
DTEND;TZID=Australia/Perth:20260926T153000
DTSTAMP:20260420T211933
CREATED:20260204T091237Z
LAST-MODIFIED:20260401T143740Z
UID:10862777-1790429400-1790436600@seniorocity.com.au
SUMMARY:Make New & Mend Craft Group
DESCRIPTION:Make New & Mend  meets Sat 1:30-3:30pm\, Grove Library. Drop in any time to learn or share crochet\, knitting\, sewing. Inclusive & welcoming.
URL:https://seniorocity.com.au/whats-on-perth/make-new-mend-craft-group-34/
LOCATION:The Grove Library\, 1 Leake Street\, Peppermint Grove\, WA\, 6011\, Australia
CATEGORIES:Craft
END:VEVENT
BEGIN:VEVENT
DTSTART;TZID=Australia/Perth:20261003T133000
DTEND;TZID=Australia/Perth:20261003T153000
DTSTAMP:20260420T211933
CREATED:20260204T091238Z
LAST-MODIFIED:20260401T143751Z
UID:10862778-1791034200-1791041400@seniorocity.com.au
SUMMARY:Make New & Mend Craft Group
DESCRIPTION:Make New & Mend  meets Sat 1:30-3:30pm\, Grove Library. Drop in any time to learn or share crochet\, knitting\, sewing. Inclusive & welcoming.
URL:https://seniorocity.com.au/whats-on-perth/make-new-mend-craft-group-35/
LOCATION:The Grove Library\, 1 Leake Street\, Peppermint Grove\, WA\, 6011\, Australia
CATEGORIES:Craft
END:VEVENT
BEGIN:VEVENT
DTSTART;TZID=Australia/Perth:20261010T133000
DTEND;TZID=Australia/Perth:20261010T153000
DTSTAMP:20260420T211933
CREATED:20260204T091239Z
LAST-MODIFIED:20260401T143802Z
UID:10862779-1791639000-1791646200@seniorocity.com.au
SUMMARY:Make New & Mend Craft Group
DESCRIPTION:Make New & Mend  meets Sat 1:30-3:30pm\, Grove Library. Drop in any time to learn or share crochet\, knitting\, sewing. Inclusive & welcoming.
URL:https://seniorocity.com.au/whats-on-perth/make-new-mend-craft-group-36/
LOCATION:The Grove Library\, 1 Leake Street\, Peppermint Grove\, WA\, 6011\, Australia
CATEGORIES:Craft
END:VEVENT
BEGIN:VEVENT
DTSTART;TZID=Australia/Perth:20261017T133000
DTEND;TZID=Australia/Perth:20261017T153000
DTSTAMP:20260420T211933
CREATED:20260204T091239Z
LAST-MODIFIED:20260401T143815Z
UID:10862781-1792243800-1792251000@seniorocity.com.au
SUMMARY:Make New & Mend Craft Group
DESCRIPTION:Make New & Mend  meets Sat 1:30-3:30pm\, Grove Library. Drop in any time to learn or share crochet\, knitting\, sewing. Inclusive & welcoming.
URL:https://seniorocity.com.au/whats-on-perth/make-new-mend-craft-group-37/
LOCATION:The Grove Library\, 1 Leake Street\, Peppermint Grove\, WA\, 6011\, Australia
CATEGORIES:Craft
END:VEVENT
BEGIN:VEVENT
DTSTART;TZID=Australia/Perth:20261024T133000
DTEND;TZID=Australia/Perth:20261024T153000
DTSTAMP:20260420T211933
CREATED:20260204T091240Z
LAST-MODIFIED:20260401T143826Z
UID:10862783-1792848600-1792855800@seniorocity.com.au
SUMMARY:Make New & Mend Craft Group
DESCRIPTION:Make New & Mend  meets Sat 1:30-3:30pm\, Grove Library. Drop in any time to learn or share crochet\, knitting\, sewing. Inclusive & welcoming.
URL:https://seniorocity.com.au/whats-on-perth/make-new-mend-craft-group-38/
LOCATION:The Grove Library\, 1 Leake Street\, Peppermint Grove\, WA\, 6011\, Australia
CATEGORIES:Craft
END:VEVENT
BEGIN:VEVENT
DTSTART;TZID=Australia/Perth:20261031T133000
DTEND;TZID=Australia/Perth:20261031T153000
DTSTAMP:20260420T211933
CREATED:20260204T091241Z
LAST-MODIFIED:20260401T143836Z
UID:10862785-1793453400-1793460600@seniorocity.com.au
SUMMARY:Make New & Mend Craft Group
DESCRIPTION:Make New & Mend  meets Sat 1:30-3:30pm\, Grove Library. Drop in any time to learn or share crochet\, knitting\, sewing. Inclusive & welcoming.
URL:https://seniorocity.com.au/whats-on-perth/make-new-mend-craft-group-39/
LOCATION:The Grove Library\, 1 Leake Street\, Peppermint Grove\, WA\, 6011\, Australia
CATEGORIES:Craft
END:VEVENT
BEGIN:VEVENT
DTSTART;TZID=Australia/Perth:20261107T133000
DTEND;TZID=Australia/Perth:20261107T153000
DTSTAMP:20260420T211933
CREATED:20260204T091241Z
LAST-MODIFIED:20260401T143848Z
UID:10862787-1794058200-1794065400@seniorocity.com.au
SUMMARY:Make New & Mend Craft Group
DESCRIPTION:Make New & Mend  meets Sat 1:30-3:30pm\, Grove Library. Drop in any time to learn or share crochet\, knitting\, sewing. Inclusive & welcoming.
URL:https://seniorocity.com.au/whats-on-perth/make-new-mend-craft-group-40/
LOCATION:The Grove Library\, 1 Leake Street\, Peppermint Grove\, WA\, 6011\, Australia
CATEGORIES:Craft
END:VEVENT
BEGIN:VEVENT
DTSTART;TZID=Australia/Perth:20261114T133000
DTEND;TZID=Australia/Perth:20261114T153000
DTSTAMP:20260420T211933
CREATED:20260204T091308Z
LAST-MODIFIED:20260401T143858Z
UID:10862794-1794663000-1794670200@seniorocity.com.au
SUMMARY:Make New & Mend Craft Group
DESCRIPTION:Make New & Mend  meets Sat 1:30-3:30pm\, Grove Library. Drop in any time to learn or share crochet\, knitting\, sewing. Inclusive & welcoming.
URL:https://seniorocity.com.au/whats-on-perth/make-new-mend-craft-group-41/
LOCATION:The Grove Library\, 1 Leake Street\, Peppermint Grove\, WA\, 6011\, Australia
CATEGORIES:Craft
END:VEVENT
END:VCALENDAR