BEGIN:VCALENDAR
VERSION:2.0
PRODID:-//Seniorocity - Seniors / Over 55&#039;s Guide to Perth - ECPv6.15.11//NONSGML v1.0//EN
CALSCALE:GREGORIAN
METHOD:PUBLISH
X-ORIGINAL-URL:https://seniorocity.com.au
X-WR-CALDESC:Events for Seniorocity - Seniors / Over 55&#039;s Guide to Perth
REFRESH-INTERVAL;VALUE=DURATION:PT1H
X-Robots-Tag:noindex
X-PUBLISHED-TTL:PT1H
BEGIN:VTIMEZONE
TZID:Australia/Perth
BEGIN:STANDARD
TZOFFSETFROM:+0800
TZOFFSETTO:+0800
TZNAME:AWST
DTSTART:20250101T000000
END:STANDARD
END:VTIMEZONE
BEGIN:VEVENT
DTSTART;TZID=Australia/Perth:20260412T100000
DTEND;TZID=Australia/Perth:20260412T160000
DTSTAMP:20260421T214011
CREATED:20260312T131025Z
LAST-MODIFIED:20260312T131025Z
UID:10864183-1775988000-1776009600@seniorocity.com.au
SUMMARY:Perth Creators Alley
DESCRIPTION:Perth Creators Alley is a vibrant weekend arts market and workshop series featuring digital illustrators\, craft makers and creative small businesses. \nCurated by local artist Bizarre Blue\, the program includes live digital art demonstrations\, hands-on workshops introducing digital art as a career pathway\, and sessions by guest artists in ceramics\, polymer clay and floral crafts. \nDate: 11 & 12 April \nTime: 10am – 4pm \nLocation: The Hub\, Bentley Technology Park\, Bentley \nCost: Free – booking required \nThis event is part of our 2026 Arts Season program. Click here for more information about Arts Season.
URL:https://seniorocity.com.au/whats-on-perth/perth-creators-alley/2026-04-12/
LOCATION:The Hub\, Bentley Technology Park\, 2 Brodie-Hall Dr\, Bentley\, WA\, 6102\, Australia
CATEGORIES:Community Event,Craft,Family Event,Free,Markets,Weekend events,Workshop
ATTACH;FMTTYPE=image/png:https://seniorocity.com.au/wp-content/uploads/2026/03/Perth-Creators-Alley.png
END:VEVENT
END:VCALENDAR