BEGIN:VCALENDAR
VERSION:2.0
PRODID:-//Seniorocity - Seniors / Over 55&#039;s Guide to Perth - ECPv6.15.11//NONSGML v1.0//EN
CALSCALE:GREGORIAN
METHOD:PUBLISH
X-WR-CALNAME:Seniorocity - Seniors / Over 55&#039;s Guide to Perth
X-ORIGINAL-URL:https://seniorocity.com.au
X-WR-CALDESC:Events for Seniorocity - Seniors / Over 55&#039;s Guide to Perth
REFRESH-INTERVAL;VALUE=DURATION:PT1H
X-Robots-Tag:noindex
X-PUBLISHED-TTL:PT1H
BEGIN:VTIMEZONE
TZID:Australia/Perth
BEGIN:STANDARD
TZOFFSETFROM:+0800
TZOFFSETTO:+0800
TZNAME:AWST
DTSTART:20250101T000000
END:STANDARD
END:VTIMEZONE
BEGIN:VEVENT
DTSTART;TZID=Australia/Perth:20260326T180000
DTEND;TZID=Australia/Perth:20260326T190000
DTSTAMP:20260421T020158
CREATED:20260102T083134Z
LAST-MODIFIED:20260102T083134Z
UID:10858303-1774548000-1774551600@seniorocity.com.au
SUMMARY:Yoga Class
DESCRIPTION:Relax and unwind beachside with Safety Bay Yoga for a free outdoor yoga class on Thursday evenings from 6pm – 7pm at The Lookout. \nThe class is open to all ages and abilities. No experience necessary and no registration required. BYO water bottle and yoga mat. \nThis fitness class is part of our Summer Series\, a program of free entry\, family-friendly events. The Summer Series provides an opportunity for the Rockingham community to connect and engage in fun\, outdoor activities during the summer season.
URL:https://seniorocity.com.au/whats-on-perth/yoga-class/2026-03-26/
LOCATION:The Lookout\, Rockingham Foreshore\, Rockingham Beach Road\, Rockingham\, WA\, 6168\, Australia
CATEGORIES:Activity Class
ATTACH;FMTTYPE=image/jpeg:https://seniorocity.com.au/wp-content/uploads/2026/01/Yoga.jpg
END:VEVENT
BEGIN:VEVENT
DTSTART;TZID=Australia/Perth:20260325T180000
DTEND;TZID=Australia/Perth:20260325T190000
DTSTAMP:20260421T020158
CREATED:20260102T082831Z
LAST-MODIFIED:20260102T082831Z
UID:10858291-1774461600-1774465200@seniorocity.com.au
SUMMARY:Jungle Body Class
DESCRIPTION:Join Jungle Body HIIT Chicks for a free outdoor Dance Fitness class on Wednesday evenings from 6pm – 7pm at The Lookout\, Rockingham Foreshore. \nThe class is open to all ages and abilities. No experience necessary and no registration required. BYO water bottle. \nThis fitness class is part of our Summer Series\,opens in a new window a program of free entry\, family-friendly events. The Summer Series provides an opportunity for the Rockingham community to connect and engage in fun\, outdoor activities during the summer season.
URL:https://seniorocity.com.au/whats-on-perth/jungle-body-class/2026-03-25/
LOCATION:The Lookout\, Rockingham Foreshore\, Rockingham Beach Road\, Rockingham\, WA\, 6168\, Australia
CATEGORIES:Activity Class
ATTACH;FMTTYPE=image/jpeg:https://seniorocity.com.au/wp-content/uploads/2026/01/Fitness.jpg
END:VEVENT
END:VCALENDAR