BEGIN:VCALENDAR
VERSION:2.0
PRODID:-//Seniorocity - Seniors / Over 55&#039;s Guide to Perth - ECPv6.15.11//NONSGML v1.0//EN
CALSCALE:GREGORIAN
METHOD:PUBLISH
X-WR-CALNAME:Seniorocity - Seniors / Over 55&#039;s Guide to Perth
X-ORIGINAL-URL:https://seniorocity.com.au
X-WR-CALDESC:Events for Seniorocity - Seniors / Over 55&#039;s Guide to Perth
REFRESH-INTERVAL;VALUE=DURATION:PT1H
X-Robots-Tag:noindex
X-PUBLISHED-TTL:PT1H
BEGIN:VTIMEZONE
TZID:Australia/Perth
BEGIN:STANDARD
TZOFFSETFROM:+0800
TZOFFSETTO:+0800
TZNAME:AWST
DTSTART:20250101T000000
END:STANDARD
END:VTIMEZONE
BEGIN:VEVENT
DTSTART;TZID=Australia/Perth:20260307T160000
DTEND;TZID=Australia/Perth:20260307T200000
DTSTAMP:20260421T161353
CREATED:20260114T142636Z
LAST-MODIFIED:20260114T142636Z
UID:10861748-1772899200-1772913600@seniorocity.com.au
SUMMARY:Lunar New Year - The Marina\, Mindarie
DESCRIPTION:Celebrate the year of the Horse with the range of festivities happening for Lunar New Year at The Marina\, Mindarie. Proudly supported by Discover Wanneroo .\nA range of specialty dishes available\, Chinese lantern making and face painting for the kids at Life Boat as well as a performance from the Yaolin Roaming Dragon dancers on the boardwalk from 4.30pm.\nFull program announced early 2026. Stay up to date atwww.themarinamindarie.com/upcoming_event/lunar-new-year/
URL:https://seniorocity.com.au/whats-on-perth/lunar-new-year-the-marina-mindarie/
LOCATION:The Marina\, Mindarie\, 33 Ocean Falls Boulevard\, Mindarie\, WA\, 6030\, Australia
CATEGORIES:Community Event,Family Event
ATTACH;FMTTYPE=image/jpeg:https://seniorocity.com.au/wp-content/uploads/2026/01/Lunar-New-Year-Mindarie.jpg
GEO:-31.6904982;115.7022725
X-APPLE-STRUCTURED-LOCATION;VALUE=URI;X-ADDRESS=The Marina Mindarie 33 Ocean Falls Boulevard Mindarie WA 6030 Australia;X-APPLE-RADIUS=500;X-TITLE=33 Ocean Falls Boulevard:geo:115.7022725,-31.6904982
END:VEVENT
BEGIN:VEVENT
DTSTART;TZID=Australia/Perth:20260126T170000
DTEND;TZID=Australia/Perth:20260126T220000
DTSTAMP:20260421T161353
CREATED:20260101T043844Z
LAST-MODIFIED:20260101T043844Z
UID:10857263-1769446800-1769464800@seniorocity.com.au
SUMMARY:Australia Day Long Weekend
DESCRIPTION:Celebrate Australia Day at The Marina\, Mindarie. Enjoy a host of live music at The Boat or The Indi\, cool off with a Pool Party at Cabana or head to Life Boat for free kids activities.\nTo see everything happening head tohttp://www.themarinamindarie.com/…/australia-day-long…/
URL:https://seniorocity.com.au/whats-on-perth/australia-day-long-weekend/2026-01-26/
LOCATION:The Marina\, Mindarie\, 33 Ocean Falls Boulevard\, Mindarie\, WA\, 6030\, Australia
CATEGORIES:Australia Day
ATTACH;FMTTYPE=image/jpeg:https://seniorocity.com.au/wp-content/uploads/2026/01/Australia-Day-Long-Weekend.jpg
GEO:-31.6904982;115.7022725
X-APPLE-STRUCTURED-LOCATION;VALUE=URI;X-ADDRESS=The Marina Mindarie 33 Ocean Falls Boulevard Mindarie WA 6030 Australia;X-APPLE-RADIUS=500;X-TITLE=33 Ocean Falls Boulevard:geo:115.7022725,-31.6904982
END:VEVENT
BEGIN:VEVENT
DTSTART;TZID=Australia/Perth:20260126T110000
DTEND;TZID=Australia/Perth:20260126T200000
DTSTAMP:20260421T161353
CREATED:20260101T112053Z
LAST-MODIFIED:20260101T112053Z
UID:10857270-1769425200-1769457600@seniorocity.com.au
SUMMARY:Australia Day Long weekend at The Boat
DESCRIPTION:Your favourite waterfront local has you covered for the entire Australia Day Long weekend. Kick start the long weekend with Run for Cover at The Boat from 8pm on Saturday January 24. Grab your headphones and join DJ Coopz for a Silent Disco on Sunday January 25. On Monday January 26\, Mindarie’s favourite Darren Reid & the Soul City Groove return for another high energy performance in the Garden Bar from 4pm.\nSee everything happening athttp://www.themarinamindarie.com/…/australia-day-long…/
URL:https://seniorocity.com.au/whats-on-perth/australia-day-long-weekend-at-the-boat/2026-01-26/
LOCATION:The Marina\, Mindarie\, 33 Ocean Falls Boulevard\, Mindarie\, WA\, 6030\, Australia
CATEGORIES:Australia Day
ATTACH;FMTTYPE=image/jpeg:https://seniorocity.com.au/wp-content/uploads/2026/01/Australia-Day-Long-weekend-at-The-Boat.jpg
GEO:-31.6904982;115.7022725
X-APPLE-STRUCTURED-LOCATION;VALUE=URI;X-ADDRESS=The Marina Mindarie 33 Ocean Falls Boulevard Mindarie WA 6030 Australia;X-APPLE-RADIUS=500;X-TITLE=33 Ocean Falls Boulevard:geo:115.7022725,-31.6904982
END:VEVENT
END:VCALENDAR