BEGIN:VCALENDAR
VERSION:2.0
PRODID:-//Seniorocity - Seniors / Over 55&#039;s Guide to Perth - ECPv6.15.11//NONSGML v1.0//EN
CALSCALE:GREGORIAN
METHOD:PUBLISH
X-ORIGINAL-URL:https://seniorocity.com.au
X-WR-CALDESC:Events for Seniorocity - Seniors / Over 55&#039;s Guide to Perth
REFRESH-INTERVAL;VALUE=DURATION:PT1H
X-Robots-Tag:noindex
X-PUBLISHED-TTL:PT1H
BEGIN:VTIMEZONE
TZID:Australia/Perth
BEGIN:STANDARD
TZOFFSETFROM:+0800
TZOFFSETTO:+0800
TZNAME:AWST
DTSTART:20250101T000000
END:STANDARD
END:VTIMEZONE
BEGIN:VEVENT
DTSTART;TZID=Australia/Perth:20260417T100000
DTEND;TZID=Australia/Perth:20260417T120000
DTSTAMP:20260422T011746
CREATED:20260104T063556Z
LAST-MODIFIED:20260104T063556Z
UID:10860392-1776420000-1776427200@seniorocity.com.au
SUMMARY:Time Out to Quilt
DESCRIPTION:Bring your quilting\, sewing machine\, and fabric. This is a social group that is also open to those who enjoy sewing\, embroidery\, knitting\, or crochet. All abilities welcome. \nFridays: 16 January – 18 December | 10am-12pm | $80/year or $20/quarter\nPlease note: There will be no session on Fri 3 April due to the Good Friday public holiday. \nWe are currently trialling annual registrations for our social groups. If you would like to register for the full 2026 year\, please choose the ‘2026 Annual Registration’ ticket option.
URL:https://seniorocity.com.au/whats-on-perth/time-out-to-quilt/2026-04-17/
LOCATION:The Meeting Place South Fremantle\, Fremantle\, WA\, 6162\, Australia
CATEGORIES:Craft,Social
ATTACH;FMTTYPE=image/jpeg:https://seniorocity.com.au/wp-content/uploads/2026/01/Time-Out-to-Quilt.jpg
END:VEVENT
BEGIN:VEVENT
DTSTART;TZID=Australia/Perth:20260330T190000
DTEND;TZID=Australia/Perth:20260330T203000
DTSTAMP:20260422T011746
CREATED:20260215T134115Z
LAST-MODIFIED:20260215T134115Z
UID:10863627-1774897200-1774902600@seniorocity.com.au
SUMMARY:Spanish Level 2 | Summer 2026
DESCRIPTION:Continue your journey with the Spanish language Level 2 course at The Meeting Place. \n\n\nBuild skills and confidence over 8 weeks of fun and laughter. \nOpen to those that have mastered the basics or already have some basic knowledge of Spanish or have completed the Level 1 course. \nMondays: 9 February – 30 March | 7pm – 8.30pm\n*Please note: There will be a class on Labour Day\, Mon 2 Mar. \nCost: $105 for 8 weeks
URL:https://seniorocity.com.au/whats-on-perth/spanish-level-2-summer-2026/2026-03-30/
LOCATION:The Meeting Place South Fremantle\, Fremantle\, WA\, 6162\, Australia
CATEGORIES:Language Class
ATTACH;FMTTYPE=image/png:https://seniorocity.com.au/wp-content/uploads/2026/02/Spanish-Level-2-Summer-2026.png
END:VEVENT
BEGIN:VEVENT
DTSTART;TZID=Australia/Perth:20260330T173000
DTEND;TZID=Australia/Perth:20260330T190000
DTSTAMP:20260422T011746
CREATED:20260215T134441Z
LAST-MODIFIED:20260215T134441Z
UID:10863635-1774891800-1774897200@seniorocity.com.au
SUMMARY:Spanish Level 1 | Summer 2026
DESCRIPTION:Would you like to learn to speak Spanish? Join us for an 8-week Spanish language course at The Meeting Place. \n\n\nEmbark on a fun and adventurous 8-week journey into the lively Spanish language. \nStefania leads this playful\, interactive class with an emphasis on conversation and complementary grammar. Students should bring notebooks\, pens\, and a Spanish-English dictionary\, if possible. \nMondays: 9 February – 30 March | 5.30 – 7pm\n*There will be a class on Labour Day\, Mon 2 Mar. \nCost: $105 for 8 weeks
URL:https://seniorocity.com.au/whats-on-perth/spanish-level-1-summer-2026/2026-03-30/
LOCATION:The Meeting Place South Fremantle\, Fremantle\, WA\, 6162\, Australia
CATEGORIES:Language Class
ATTACH;FMTTYPE=image/png:https://seniorocity.com.au/wp-content/uploads/2026/02/Spanish-Level-1-Summer-2026.png
END:VEVENT
BEGIN:VEVENT
DTSTART;TZID=Australia/Perth:20260330T110000
DTEND;TZID=Australia/Perth:20260330T123000
DTSTAMP:20260422T011746
CREATED:20260215T133339Z
LAST-MODIFIED:20260215T133339Z
UID:10863611-1774868400-1774873800@seniorocity.com.au
SUMMARY:Italian Pre-Intermediate 1 – Summer 2026
DESCRIPTION:Italian is a beautiful and colourful language. \n\n\nIf you already have some knowledge of Italian\, or have completed the Elementary courses\, join Stefania over 8 weeks to expand your vocabulary and boost your confidence in speaking! \nMondays: 9 February – 30 March | 11am-12.30pm | $105/8 weeks \nPlease note: There will be a class on Labour Day\, Mon 2 March.
URL:https://seniorocity.com.au/whats-on-perth/italian-pre-intermediate-1-summer-2026/2026-03-30/
LOCATION:The Meeting Place South Fremantle\, Fremantle\, WA\, 6162\, Australia
CATEGORIES:Language Class
ATTACH;FMTTYPE=image/png:https://seniorocity.com.au/wp-content/uploads/2026/02/Italian-Pre-Intermediate-1-–-Summer-2026.png
END:VEVENT
BEGIN:VEVENT
DTSTART;TZID=Australia/Perth:20260330T090000
DTEND;TZID=Australia/Perth:20260330T103000
DTSTAMP:20260422T011746
CREATED:20260215T133748Z
LAST-MODIFIED:20260215T133748Z
UID:10863619-1774861200-1774866600@seniorocity.com.au
SUMMARY:Italian Elementary 1 – Summer 2026
DESCRIPTION:Start your journey through the Italian language with Stefania over an 8 week-basic intro course. \n\n\nClasses are fun\, supportive\, and interactive. Appropriate for new beginners. Come along and join Stefania for an 8-week basic introduction to the colourful Italian language. \nMondays: 9 February – 30 March | 9.15-10.45am | $105/8 weeks \nPlease note: There will be a class on Labour Day\, Mon 2 Mar. \n  \nAbout your facilitator – Stefania Ravelli\nCiao! I’m Stefania\, a passionate language enthusiast with a heart full of wanderlust. \nItalian-born\, my lifelong journey into studying English and Spanish began at the tender age of 14. Along the way\, I’ve had incredible opportunities to live in vibrant countries like Spain and Mexico\, immersing myself in their rich cultures and deepening my language skills. I proudly hold a bachelor’s degree with honours in foreign languages from the prestigious University Cattolicà del Sacro Cuore in Brescia\, Italy. In 2022\, I moved to Australia\, where I completed a master’s in translation studies at UWA with distinction. \nJoin me on this linguistic adventure\, and together we’ll unlock the doors to Italian proficiency.
URL:https://seniorocity.com.au/whats-on-perth/italian-elementary-1-summer-2026/2026-03-30/
LOCATION:The Meeting Place South Fremantle\, Fremantle\, WA\, 6162\, Australia
CATEGORIES:Language Class
ATTACH;FMTTYPE=image/png:https://seniorocity.com.au/wp-content/uploads/2026/02/Italian-Elementary-1-–-Summer-2026.png
END:VEVENT
BEGIN:VEVENT
DTSTART;TZID=Australia/Perth:20260325T110000
DTEND;TZID=Australia/Perth:20260325T123000
DTSTAMP:20260422T011746
CREATED:20260215T135540Z
LAST-MODIFIED:20260215T135540Z
UID:10863643-1774436400-1774441800@seniorocity.com.au
SUMMARY:Italian Intermediate 2
DESCRIPTION:Continue building your conversation and practical Italian skills with Stefania in this 8-week level 2 intermediate course. \n\n\nItalian is a beautiful and colourful language. Build on your conversation skills with Stefania in this 8-week level 1 intermediate course. Must have a practical knowledge of Italian or have completed Pre-Intermediate Levels 1 and 2. \nEvery Wed 4 Feb-25 Mar | 11am-12.30pm | $105/8 weeks  \n  \nAbout your facilitator – Stefania Ravelli\nCiao! I’m Stefania\, a passionate language enthusiast with a heart full of wanderlust.\nItalian-born\, my lifelong journey into studying English and Spanish began at the tender age of 14. Along the way\, I’ve had incredible opportunities to live in vibrant countries like Spain and Mexico\, immersing myself in their rich cultures and deepening my language skills. I proudly hold a bachelor’s degree with honours in foreign languages from the prestigious University Cattolicà del Sacro Cuore in Brescia\, Italy. In 2022\, I moved to Australia\, where I completed a master’s in translation studies at UWA with distinction.\nJoin me on this linguistic adventure\, and together we’ll unlock the doors to Italian proficiency.
URL:https://seniorocity.com.au/whats-on-perth/italian-intermediate-2/2026-03-25/
LOCATION:The Meeting Place South Fremantle\, Fremantle\, WA\, 6162\, Australia
CATEGORIES:Language Class
ATTACH;FMTTYPE=image/png:https://seniorocity.com.au/wp-content/uploads/2026/02/Italian-Intermediate-2.png
END:VEVENT
END:VCALENDAR