BEGIN:VCALENDAR
VERSION:2.0
PRODID:-//Seniorocity - Seniors / Over 55&#039;s Guide to Perth - ECPv6.15.11//NONSGML v1.0//EN
CALSCALE:GREGORIAN
METHOD:PUBLISH
X-ORIGINAL-URL:https://seniorocity.com.au
X-WR-CALDESC:Events for Seniorocity - Seniors / Over 55&#039;s Guide to Perth
REFRESH-INTERVAL;VALUE=DURATION:PT1H
X-Robots-Tag:noindex
X-PUBLISHED-TTL:PT1H
BEGIN:VTIMEZONE
TZID:Australia/Perth
BEGIN:STANDARD
TZOFFSETFROM:+0800
TZOFFSETTO:+0800
TZNAME:AWST
DTSTART:20250101T000000
END:STANDARD
END:VTIMEZONE
BEGIN:VEVENT
DTSTART;TZID=Australia/Perth:20260424T100000
DTEND;TZID=Australia/Perth:20260424T120000
DTSTAMP:20260422T011813
CREATED:20260104T063556Z
LAST-MODIFIED:20260104T063556Z
UID:10860393-1777024800-1777032000@seniorocity.com.au
SUMMARY:Time Out to Quilt
DESCRIPTION:Bring your quilting\, sewing machine\, and fabric. This is a social group that is also open to those who enjoy sewing\, embroidery\, knitting\, or crochet. All abilities welcome. \nFridays: 16 January – 18 December | 10am-12pm | $80/year or $20/quarter\nPlease note: There will be no session on Fri 3 April due to the Good Friday public holiday. \nWe are currently trialling annual registrations for our social groups. If you would like to register for the full 2026 year\, please choose the ‘2026 Annual Registration’ ticket option.
URL:https://seniorocity.com.au/whats-on-perth/time-out-to-quilt/2026-04-24/
LOCATION:The Meeting Place South Fremantle\, Fremantle\, WA\, 6162\, Australia
CATEGORIES:Craft,Social
ATTACH;FMTTYPE=image/jpeg:https://seniorocity.com.au/wp-content/uploads/2026/01/Time-Out-to-Quilt.jpg
END:VEVENT
END:VCALENDAR